{"text_format":"1","workbook":"xlsx","n_sheets":18,"sheets":["入力部","1","2","3","4","5","6","7","8","9","10","11","12","1-12月","4-3月","1-6月","7-12月","祝日資料"],"not_rendered":{"charts":0,"images":0,"macros":1,"external_links":4,"defined_names":28,"comments":0,"pivot_tables":0},"unopened":[],"bounds":{"document_bytes":16777216,"sheet_cells":100000,"rows_first":2000,"rows_last":500,"rows_between":2000,"halvings":0,"cell_chars":16384,"cell_head_chars":4096},"cells_cut":0,"cells_raw":0,"read":"whole","date_system":"1900"}

{"sheet":"入力部","index":0,"n_rows":44,"n_cols":26,"rows_kept":44,"cut":false,"hidden":false,"merged":[[0,0,0,10],[7,1,8,14],[2,0,2,8],[2,9,2,10],[4,2,5,7]]}
["カレンダープリント（2000〜2099年対応版）　Ver. 1.1.3 Alpha"]
[]
["欲しいカレンダー年を「西暦年4ケタ」で入力するよろし → ",null,null,null,null,null,null,null,null,2021]
[]
[null,null,"欲しいもののボタンをポチッとな(^o^) → "]
[]
[]
[null,"春分・秋分日計算の関係上、2000〜2099年までの対応です。ご容赦くださいませ m(_ _)m。"]
[]
[null,null,null,null,null,null,null,null,null,null,null,null,null,null,null,"[ Concept & Make out  by  AN2  --  Feb. 18th (SAT) 2011 ]",null,"z = (y + [y/4] - [y/100] + [y/400] + [2.6*m + 1.6] + d) % 7"]
[]
[null,null,"プリント年",null,null,null,"うるう年2月日数判定",null,null,null,"春分・秋分日判定",null,null,null,null,null,null,"干支判定"]
[null,null,{"$f":"$J$3","v":2021},null,null,null,"計算部",null,null,null,"計算部",null,"（翌年）",null,null,null,null,"十干計算",null,"十二支計算"]
[null,null,null,null,null,null,{"$f":"MOD(J3,4)","v":1},{"$f":"MOD(J3,100)","v":21},{"$f":"MOD(J3,400)","v":21},null,"(a)",{"$f":"(C13-2000)*0.242194","v":5.086074},"(a)",{"$f":"((C13+1)-2000)*0.242194","v":5.3282679999999996},null,null,null,"(a)",{"$f":"IF($J$3<2000,\"\",MOD($J$3-2000,10))","v":1},"(c)",{"$f":"IF($J$3<2000,\"\",MOD($J$3-2000,12))","v":9}]
[null,null,"曜日判定（Zellerの公式）",null,null,null,{"$f":"MOD(J3+1,4)","v":2},{"$f":"MOD(J3+1,100)","v":22},{"$f":"MOD(J3+1,400)","v":22},null,"(b)",{"$f":"INT((C13-2000)/4)","v":5},"(b)",{"$f":"INT(((C13+1)-2000)/4)","v":5},null,null,null,"(b)",{"$f":"IF($J$3<2000,\"\",IF($J$3<2000,\"\",IF($S$14+7>10,($S$14+7)-10,$S$14+7)))","v":8},"(d)",{"$f":"IF($J$3<2000,\"\",IF($U$14+5>12,($U$14+5)-12,$U$14+5))","v":2}]
[null,null,null,null,null,null,"判定表示",null,null,null,null,null,null,null,null,null,null,"判定表示"]
[null,null,"12月",{"$f":"ROUNDDOWN(MOD(E17,7),0)","v":2},{"$f":"(C13-1)+ROUNDDOWN(((C13-1)/4),0)-ROUNDDOWN(((C13-1)/100),0)+ROUNDDOWN(((C13-1)/400),0)+ROUNDDOWN((2.6*(12)+1.6),0)+1","v":2543},null,{"$f":"$C$13&\"年\"","v":"2021年"},{"$f":"IF(G14=0,IF(H14=0,IF(I14=0,29,28),29),28)","v":28},null,null,"春分日",{"$f":"INT(20.69115+L14-L15)","v":20},"春分日",{"$f":"INT(20.69115+N14-N15)","v":21},null,null,null,"干支：",{"$f":"IF($S$15=\"\",\"\",VLOOKUP($S$15,■十干,2)&VLOOKUP($U$15,■十二支,2))","v":"辛丑"},{"$f":"IF($S$15=\"\",\"\",VLOOKUP($S$15,■十干,3)&VLOOKUP($U$15,■十二支,3))","v":"しんちゅう"},{"$f":"IF($S$15=\"\",\"\",VLOOKUP($S$15,■十干,4)&VLOOKUP($U$15,■十二支,4))","v":"かのとうし"}]
[null,null,"1月",5,{"$f":"(C13-1)+ROUNDDOWN(((C13-1)/4),0)-ROUNDDOWN(((C13-1)/100),0)+ROUNDDOWN(((C13-1)/400),0)+ROUNDDOWN((2.6*(1+12)+1.6),0)+1","v":2546},null,{"$f":"$C$13+1&\"年\"","v":"2022年"},{"$f":"IF(G15=0,IF(H15=0,IF(I15=0,29,28),29),28)","v":28},null,null,"秋分日",{"$f":"INT(23.09+L14-L15)","v":23},"秋分日",{"$f":"INT(23.09+N14-N15)","v":23}]
[null,null,"2月",1,{"$f":"(C13-1)+ROUNDDOWN(((C13-1)/4),0)-ROUNDDOWN(((C13-1)/100),0)+ROUNDDOWN(((C13-1)/400),0)+ROUNDDOWN((2.6*(2+12)+1.6),0)+1","v":2549},null,null,null,null,null,null,null,null,null,null,null,null,"元号"]
[null,null,"3月",1,{"$f":"C13+ROUNDDOWN((C13/4),0)-ROUNDDOWN((C13/100),0)+ROUNDDOWN((C13/400),0)+ROUNDDOWN((2.6*(3)+1.6),0)+1","v":2521},null,null,null,null,null,null,null,null,null,null,null,null,"平成","2019/4/30まで"]
[null,null,"4月",4,{"$f":"C13+ROUNDDOWN((C13/4),0)-ROUNDDOWN((C13/100),0)+ROUNDDOWN((C13/400),0)+ROUNDDOWN((2.6*(4)+1.6),0)+1","v":2524},null,null,null,null,null,null,null,null,null,null,null,null,"令和","2019/5/1から"]
[null,null,"5月",6,{"$f":"C13+ROUNDDOWN((C13/4),0)-ROUNDDOWN((C13/100),0)+ROUNDDOWN((C13/400),0)+ROUNDDOWN((2.6*(5)+1.6),0)+1","v":2526}]
[null,null,"6月",2,{"$f":"C13+ROUNDDOWN((C13/4),0)-ROUNDDOWN((C13/100),0)+ROUNDDOWN((C13/400),0)+ROUNDDOWN((2.6*(6)+1.6),0)+1","v":2529}]
[null,null,"7月",4,{"$f":"C13+ROUNDDOWN((C13/4),0)-ROUNDDOWN((C13/100),0)+ROUNDDOWN((C13/400),0)+ROUNDDOWN((2.6*(7)+1.6),0)+1","v":2531},null,null,null,null,null,null,null,null,null,null,null,null,"十干リスト",null,null,null,null,"十二支リスト"]
[null,null,"8月",0,{"$f":"C13+ROUNDDOWN((C13/4),0)-ROUNDDOWN((C13/100),0)+ROUNDDOWN((C13/400),0)+ROUNDDOWN((2.6*(8)+1.6),0)+1","v":2534},null,null,null,null,null,null,null,null,null,null,null,null,1,"甲","こう","きのえ",null,1,"子","し","ね"]
[null,null,"9月",3,{"$f":"C13+ROUNDDOWN((C13/4),0)-ROUNDDOWN((C13/100),0)+ROUNDDOWN((C13/400),0)+ROUNDDOWN((2.6*(9)+1.6),0)+1","v":2537},null,null,null,null,null,null,null,null,null,null,null,null,2,"乙","いつ","きのと",null,2,"丑","ちゅう","うし"]
[null,null,"10月",5,{"$f":"C13+ROUNDDOWN((C13/4),0)-ROUNDDOWN((C13/100),0)+ROUNDDOWN((C13/400),0)+ROUNDDOWN((2.6*(10)+1.6),0)+1","v":2539},null,null,null,null,null,null,null,null,null,null,null,null,3,"丙","へい","ひのえ",null,3,"寅","いん","とら"]
[null,null,"11月",1,{"$f":"C13+ROUNDDOWN((C13/4),0)-ROUNDDOWN((C13/100),0)+ROUNDDOWN((C13/400),0)+ROUNDDOWN((2.6*(11)+1.6),0)+1","v":2542},null,null,null,null,null,null,null,null,null,null,null,null,4,"丁","てい","ひのと",null,4,"卯","ぼう","う"]
[null,null,"12月",3,{"$f":"C13+ROUNDDOWN((C13/4),0)-ROUNDDOWN((C13/100),0)+ROUNDDOWN((C13/400),0)+ROUNDDOWN((2.6*(12)+1.6),0)+1","v":2544},null,null,null,null,null,null,null,null,null,null,null,null,5,"戊","ぼ","つちのえ",null,5,"辰","しん","たつ"]
[null,null,"1月",6,{"$f":"C13+ROUNDDOWN((C13/4),0)-ROUNDDOWN((C13/100),0)+ROUNDDOWN((C13/400),0)+ROUNDDOWN((2.6*(1+12)+1.6),0)+1","v":2547},null,null,null,null,null,null,null,null,null,null,null,null,6,"己","き","つちのと",null,6,"巳","し","み"]
[null,null,"2月",2,{"$f":"C13+ROUNDDOWN((C13/4),0)-ROUNDDOWN((C13/100),0)+ROUNDDOWN((C13/400),0)+ROUNDDOWN((2.6*(2+12)+1.6),0)+1","v":2550},null,null,null,null,null,null,null,null,null,null,null,null,7,"庚","こう","かのえ",null,7,"午","ご","うま"]
[null,null,"3月",2,{"$f":"(C13+1)+ROUNDDOWN(((C13+1)/4),0)-ROUNDDOWN(((C13+1)/100),0)+ROUNDDOWN(((C13+1)/400),0)+ROUNDDOWN((2.6*(3)+1.6),0)+1","v":2522},null,null,null,null,null,null,null,null,null,null,null,null,8,"辛","しん","かのと",null,8,"未","び","ひつじ"]
[null,null,null,null,null,null,null,null,null,null,null,null,null,null,null,null,null,9,"壬","じん","みずのえ",null,9,"申","しん","さる"]
[null,"月ごとタブ用紙設定用参考（A4作成時）",null,null,null,null,null,null,null,null,null,null,null,null,null,null,null,10,"癸","き","みずのと",null,10,"酉","ゆう","とり"]
[null,"環境設定デフォルトフォント",null,null,null,null,null,null,null,null,null,null,null,null,null,null,null,null,null,null,null,null,11,"戌","じゅつ","いぬ"]
[null,"ヒラギノ角ゴPro W6　12ポイント",null,null,null,null,null,null,null,null,null,null,null,null,null,null,null,null,null,null,null,null,12,"亥","がい","い"]
[null,"セル（プリント部）"]
[null,"幅：","0.67cm"]
[null,"高さ：","0.71cm"]
[null,"A3変更用データ"]
[null,"縮尺率（A4→A3）：141%"]
[null,"セル（プリント部）"]
[null,"幅：","0.95cm"]
[null,"高さ：","0.99cm"]

{"sheet":"1","index":1,"n_rows":40,"n_cols":35,"rows_kept":40,"cut":false,"hidden":false,"merged":[[7,10,7,12],[7,15,7,18],[7,13,7,14],[29,16,31,19],[18,0,18,3],[18,4,18,7],[13,0,13,3],[37,20,38,27],[35,20,36,27],[33,0,33,3],[19,0,21,3],[33,24,33,27],[29,20,31,23],[23,12,23,15],[24,24,26,27],[19,24,21,27],[38,0,38,3],[24,20,26,23],[29,0,31,3],[38,4,38,7],[38,8,38,11],[38,12,38,15],[38,16,38,19],[19,4,21,7],[28,12,28,15],[28,4,28,7],[28,8,28,11],[34,4,36,7],[34,8,36,11],[34,12,36,15],[33,4,33,7],[33,8,33,11],[28,0,28,3],[29,8,31,11],[29,12,31,15],[29,4,31,7],[33,12,33,15],[34,0,36,3],[34,16,36,19],[33,16,33,19],[23,16,23,19],[33,20,33,23],[28,16,28,19],[23,20,23,23],[29,24,31,27],[28,20,28,23],[28,24,28,27],[19,16,21,19],[18,20,18,23],[18,24,18,27],[23,24,23,27],[18,16,18,19],[19,20,21,23],[9,24,11,27],[14,16,16,19],[14,20,16,23],[14,24,16,27],[9,16,11,19],[9,20,11,23],[24,16,26,19],[24,8,26,11],[24,4,26,7],[23,0,23,3],[23,4,23,7],[24,12,26,15],[23,8,23,11],[9,4,11,7],[9,8,11,11],[9,12,11,15],[13,4,13,7],[24,0,26,3],[14,0,16,3],[14,4,16,7],[14,8,16,11],[14,12,16,15],[13,8,13,11],[18,8,18,11],[18,12,18,15],[19,8,21,11],[19,12,21,15],[2,9,6,18],[13,12,13,15],[1,2,1,4],[1,23,1,25],[1,10,1,17],[8,0,8,3],[8,4,8,7],[8,8,8,11],[8,16,8,19],[8,20,8,23],[8,24,8,27],[13,20,13,23],[13,24,13,27],[13,16,13,19],[8,12,8,15],[9,0,11,3]]}
[null,"☝この点線のところで一度折り曲げると切り取りやすいですよ♡",null,null,null,null,null,null,null,null,null,null,null,null,null,null,null,null,null,null,null,null,null,null,null,null,null,null,null,null,null,null,"設定部",{"$f":"IF(AG3<2020,入力部!R20,入力部!R21)","v":"令和"}]
[null,null,"１２月",null,null,null,null,null,null,null,{"$f":"IF(AH1=0,DBCS(AG3)&\"年\",DBCS(AG3)&\"年 ／ \"&AH1&DBCS(AH3)&\"年\")","v":"２０２１年 ／ 令和３年"},null,null,null,null,null,null,null,null,null,null,null,null,"２月",null,null,null,null,null,null,null,null,"西暦","和暦","うるう年判定"]
[{"$f":"IF($AH$5=0,1,\"\")","v":""},{"$f":"IF($AH$5=1,1,IF(A3=\"\",\"\",A3+1))","v":""},{"$f":"IF($AH$5=2,1,IF(B3=\"\",\"\",B3+1))","v":1},{"$f":"IF($AH$5=3,1,IF(C3=\"\",\"\",C3+1))","v":2},{"$f":"IF($AH$5=4,1,IF(D3=\"\",\"\",D3+1))","v":3},{"$f":"IF($AH$5=5,1,IF(E3=\"\",\"\",E3+1))","v":4},{"$f":"IF($AH$5=6,1,IF(F3=\"\",\"\",F3+1))","v":5},null,null,1,null,null,null,null,null,null,null,null,null,null,null,{"$f":"IF($AH$7=0,1,\"\")","v":""},{"$f":"IF($AH$7=1,1,IF(V3=\"\",\"\",V3+1))","v":1},{"$f":"IF($AH$7=2,1,IF(W3=\"\",\"\",W3+1))","v":2},{"$f":"IF($AH$7=3,1,IF(X3=\"\",\"\",X3+1))","v":3},{"$f":"IF($AH$7=4,1,IF(Y3=\"\",\"\",Y3+1))","v":4},{"$f":"IF($AH$7=5,1,IF(Z3=\"\",\"\",Z3+1))","v":5},{"$f":"IF($AH$7=6,1,IF(AA3=\"\",\"\",AA3+1))","v":6},null,null,null,null,{"$f":"入力部!J3","v":2021},{"$f":"IF(AG3<2020,AG3-2000+12,IF(AG3-2018=1,\"元\",AG3-2018))","v":3},{"$f":"入力部!H17","v":28}]
[{"$f":"G3+1","v":6},{"$f":"A4+1","v":7},8,9,10,11,12,null,null,null,null,null,null,null,null,null,null,null,null,null,null,{"$f":"AB3+1","v":7},{"$f":"V4+1","v":8},9,10,11,12,13,null,null,null,null,"曜日計算"]
[{"$f":"G4+1","v":13},14,15,16,17,18,19,null,null,null,null,null,null,null,null,null,null,null,null,null,null,{"$f":"AB4+1","v":14},15,16,17,18,19,20,null,null,null,null,"前月",{"$f":"入力部!D17","v":2}]
[{"$f":"G5+1","v":20},21,22,23,24,25,26,null,null,null,null,null,null,null,null,null,null,null,null,null,null,{"$f":"AB5+1","v":21},22,23,24,25,26,27,null,null,null,null,"当月",{"$f":"入力部!D18","v":5}]
[{"$f":"G6+1","v":27},{"$f":"A7+1","v":28},{"$f":"IF(B7=31,\"\",IF(B7=\"\",\"\",B7+1))","v":29},30,31,"","",null,null,null,null,null,null,null,null,null,null,null,null,null,null,{"$f":"IF(AB6=$AI$3,\"\",IF(AB6=\"\",\"\",AB6+1))","v":28},{"$f":"IF(V7=$AI$3,\"\",IF(V7=\"\",\"\",V7+1))","v":""},"","","","","",null,null,null,null,"次月",{"$f":"入力部!D19","v":1}]
[{"$f":"IF(G7=31,\"\",IF(G7=\"\",\"\",G7+1))","v":""},{"$f":"IF(A8=31,\"\",IF(A8=\"\",\"\",A8+1))","v":""},"","","","","",null,null,null,{"$f":"IF(入力部!$T$17=\"\",\"\",入力部!$T$17&\"／\")","v":"しんちゅう／"},null,null,{"$f":"IF(入力部!$S$17=\"\",\"\",入力部!$S$17)","v":"辛丑"},null,{"$f":"IF(入力部!$U$17=\"\",\"\",\"／\"&入力部!$U$17)","v":"／かのとうし"},null,null,null,null,null,{"$f":"IF(AB7=$AI$3,\"\",IF(AB7=\"\",\"\",AB7+1))","v":""},"","","","","",""]
["ＳＵＮ",null,null,null,"ＭＯＮ",null,null,null,"ＴＵＥ",null,null,null,"ＷＥＤ",null,null,null,"ＴＨＵ",null,null,null,"ＦＲＩ",null,null,null,"ＳＡＴ",null,null,null,null,null,null,null,"祝日データ"]
[{"$f":"IF($AH$6=0,1,\"\")","v":""},{"$f":"IF(Z14=1,1,IF(A10=\"\",\"\",A10+1))","v":""},{"$f":"IF(Z14=2,1,IF(B10=\"\",\"\",B10+1))","v":""},{"$f":"IF(Z14=3,1,IF(C10=\"\",\"\",C10+1))","v":""},{"$f":"IF($AH$6=1,1,IF(A10=\"\",\"\",A10+1))","v":""},null,null,null,{"$f":"IF($AH$6=2,1,IF(E10=\"\",\"\",E10+1))","v":""},null,null,null,{"$f":"IF($AH$6=3,1,IF(I10=\"\",\"\",I10+1))","v":""},null,null,null,{"$f":"IF($AH$6=4,1,IF(M10=\"\",\"\",M10+1))","v":""},null,null,null,{"$f":"IF($AH$6=5,1,IF(Q10=\"\",\"\",Q10+1))","v":1},null,null,null,{"$f":"IF($AH$6=6,1,IF(U10=\"\",\"\",U10+1))","v":2},null,null,null,null,null,null,null,"元日"]
[{"$f":"IF(Z15=0,1,\"\")","v":1},{"$f":"IF(Z15=1,1,IF(A11=\"\",\"\",A11+1))","v":2},{"$f":"IF(Z15=2,1,IF(B11=\"\",\"\",B11+1))","v":3},{"$f":"IF(Z15=3,1,IF(C11=\"\",\"\",C11+1))","v":4},null,null,null,null,null,null,null,null,null,null,null,null,null,null,null,null,null,null,null,null,null,null,null,null,null,null,null,null,"1月1日 年のはじめを祝う。"]
[{"$f":"IF(Z16=0,1,\"\")","v":1},{"$f":"IF(Z16=1,1,IF(A12=\"\",\"\",A12+1))","v":2},{"$f":"IF(Z16=2,1,IF(B12=\"\",\"\",B12+1))","v":3},{"$f":"IF(Z16=3,1,IF(C12=\"\",\"\",C12+1))","v":4},null,null,null,null,null,null,null,null,null,null,null,null,null,null,null,null,null,null,null,null,null,null,null,null,null,null,null,null,"成人の日"]
[null,null,null,null,null,null,null,null,null,null,null,null,null,null,null,null,null,null,null,null,null,null,null,null,null,null,null,null,null,null,null,null,"1月の第2月曜日 おとなになったことを自覚し、みずから生き抜こうとする青年を祝いはげます。"]
[{"$f":"IF(A10=1,\"元　日\",\"\")","v":""},null,null,null,{"$f":"IF(E10=1,\"元　日\",IF(E10=2,\"振替休日\",\"\"))","v":""},null,null,null,{"$f":"IF(I10=1,\"元　日\",\"\")","v":""},null,null,null,{"$f":"IF(M10=1,\"元　日\",\"\")","v":""},null,null,null,{"$f":"IF(Q10=1,\"元　日\",\"\")","v":""},null,null,null,{"$f":"IF(U10=1,\"元　日\",\"\")","v":"元　日"},null,null,null,{"$f":"IF(Y10=1,\"元　日\",\"\")","v":""}]
[{"$f":"$Y10+1","v":3},null,null,null,{"$f":"A$15+1","v":4},null,null,null,{"$f":"E$15+1","v":5},null,null,null,{"$f":"I$15+1","v":6},null,null,null,{"$f":"M$15+1","v":7},null,null,null,{"$f":"Q$15+1","v":8},null,null,null,{"$f":"U$15+1","v":9}]
[]
[]
[]
[null,null,null,null,{"$f":"IF(E15=8,\"成人の日\",IF(E15=9,\"成人の日\",\"\"))","v":""}]
[{"$f":"$Y15+1","v":10},null,null,null,{"$f":"A20+1","v":11},null,null,null,{"$f":"E20+1","v":12},null,null,null,{"$f":"I20+1","v":13},null,null,null,{"$f":"M20+1","v":14},null,null,null,{"$f":"Q20+1","v":15},null,null,null,{"$f":"U20+1","v":16}]
[]
[]
[]
[null,null,null,null,{"$f":"IF(E20<10,\"\",IF(14<E20,\"\",\"成人の日\"))","v":"成人の日"}]
[{"$f":"$Y20+1","v":17},null,null,null,{"$f":"A25+1","v":18},null,null,null,{"$f":"E25+1","v":19},null,null,null,{"$f":"I25+1","v":20},null,null,null,{"$f":"M25+1","v":21},null,null,null,{"$f":"Q25+1","v":22},null,null,null,{"$f":"U25+1","v":23}]
[]
[]
[]
[]
[{"$f":"$Y25+1","v":24},null,null,null,{"$f":"A30+1","v":25},null,null,null,{"$f":"IF(E30=31,\"\",IF(E30=\"\",\"\",E30+1))","v":26},null,null,null,{"$f":"IF(I30=31,\"\",IF(I30=\"\",\"\",I30+1))","v":27},null,null,null,{"$f":"IF(M30=31,\"\",IF(M30=\"\",\"\",M30+1))","v":28},null,null,null,{"$f":"IF(Q30=31,\"\",IF(Q30=\"\",\"\",Q30+1))","v":29},null,null,null,{"$f":"IF(U30=31,\"\",IF(U30=\"\",\"\",U30+1))","v":30}]
[]
[]
[]
[]
[{"$f":"IF(Y30=31,\"\",IF(Y30=\"\",\"\",Y30+1))","v":31},null,null,null,{"$f":"IF(A35=31,\"\",IF(A35=\"\",\"\",A35+1))","v":""},null,null,null,{"$f":"IF(E35=31,\"\",IF(E35=\"\",\"\",E35+1))","v":""},null,null,null,{"$f":"IF(I35=31,\"\",IF(I35=\"\",\"\",I35+1))","v":""},null,null,null,{"$f":"IF(M35=31,\"\",IF(M35=\"\",\"\",M35+1))","v":""}]
[null,null,null,null,null,null,null,null,null,null,null,null,null,null,null,null,null,null,null,null,"睦　月 "]
[null,null,null,null,null,null,null,null,null,null,null,null,null,null,null,null,null,null,null,null,null,null,null,null,null,null,null,null,null,null,null,null,"干支"]
[null,null,null,null,null,null,null,null,null,null,null,null,null,null,null,null,null,null,null,null,"January ",null,null,null,null,null,null,null,null,null,null,null,"庚子","こうし","かのえね"]
[]
[null,null,null,null,null,null,null,null,null,null,null,null,null,null,null,null,null,null,null,null,null,null,null,null,null,null,null,"(C)2011,2018  nasutaworks (Taka_AN2_Yoshida)"]

{"sheet":"2","index":2,"n_rows":40,"n_cols":44,"rows_kept":40,"cut":false,"hidden":false,"merged":[[9,12,11,15],[9,24,11,27],[35,20,36,27],[37,20,38,27],[14,0,16,3],[14,4,16,7],[13,0,13,3],[13,4,13,7],[1,2,1,4],[1,23,1,25],[1,10,1,17],[2,9,6,18],[8,0,8,3],[8,4,8,7],[7,13,7,14],[8,8,8,11],[8,16,8,19],[8,20,8,23],[8,24,8,27],[8,12,8,15],[9,16,11,19],[9,20,11,23],[14,16,16,19],[18,20,18,23],[14,20,16,23],[9,0,11,3],[9,4,11,7],[19,4,21,7],[19,8,21,11],[14,8,16,11],[9,8,11,11],[19,24,21,27],[29,24,31,27],[19,12,21,15],[19,20,21,23],[13,8,13,11],[13,12,13,15],[13,16,13,19],[23,24,23,27],[14,12,16,15],[24,16,26,19],[18,24,18,27],[14,24,16,27],[18,0,18,3],[18,4,18,7],[18,8,18,11],[18,12,18,15],[23,0,23,3],[19,0,21,3],[23,4,23,7],[23,8,23,11],[23,12,23,15],[24,4,26,7],[28,0,28,3],[28,4,28,7],[24,0,26,3],[24,8,26,11],[24,12,26,15],[28,8,28,11],[28,12,28,15],[38,16,38,19],[29,0,31,3],[29,4,31,7],[34,0,36,3],[34,4,36,7],[34,8,36,11],[34,12,36,15],[34,16,36,19],[33,0,33,3],[33,4,33,7],[29,8,31,11],[29,12,31,15],[29,16,31,19],[33,8,33,11],[33,12,33,15],[38,0,38,3],[38,4,38,7],[38,8,38,11],[38,12,38,15],[1,39,1,41],[33,16,33,19],[33,20,33,23],[33,24,33,27],[28,16,28,19],[28,20,28,23],[28,24,28,27],[13,20,13,23],[13,24,13,27],[24,24,26,27],[23,16,23,19],[23,20,23,23],[18,16,18,19],[19,16,21,19],[24,20,26,23],[29,20,31,23]]}
[null,null,null,null,null,null,null,null,null,null,null,null,null,null,null,null,null,null,null,null,null,null,null,null,null,null,null,null,null,null,null,null,"設定部",{"$f":"IF(AG3<2020,入力部!R20,入力部!R21)","v":"令和"},null,null,null,"春分日対応用ダミー部"]
[null,null,"１月",null,null,null,null,null,null,null,{"$f":"IF(AH1=0,DBCS(AG3)&\"年\",DBCS(AG3)&\"年 ／ \"&AH1&DBCS(AH3)&\"年\")","v":"２０２１年 ／ 令和３年"},null,null,null,null,null,null,null,null,null,null,null,null,"３月",null,null,null,null,null,null,null,null,"西暦","和暦","うるう年判定",null,null,null,null,"３月"]
[{"$f":"IF($AH$5=0,1,\"\")","v":""},{"$f":"IF($AH$5=1,1,IF(A3=\"\",\"\",A3+1))","v":""},{"$f":"IF($AH$5=2,1,IF(B3=\"\",\"\",B3+1))","v":""},{"$f":"IF($AH$5=3,1,IF(C3=\"\",\"\",C3+1))","v":""},{"$f":"IF($AH$5=4,1,IF(D3=\"\",\"\",D3+1))","v":""},{"$f":"IF($AH$5=5,1,IF(E3=\"\",\"\",E3+1))","v":1},{"$f":"IF($AH$5=6,1,IF(F3=\"\",\"\",F3+1))","v":2},null,null,2,null,null,null,null,null,null,null,null,null,null,null,{"$f":"IF(ISBLANK(AL3),\"\",AL3)","v":""},{"$f":"IF(ISBLANK(AM3),\"\",AM3)","v":1},2,3,4,5,6,null,null,null,null,{"$f":"入力部!J3","v":2021},{"$f":"IF(AG3<2020,AG3-2000+12,IF(AG3-2018=1,\"元\",AG3-2018))","v":3},{"$f":"入力部!H17","v":28},null,null,{"$f":"IF($AH$7=0,1,\"\")","v":""},{"$f":"IF($AH$7=1,1,IF(AL3=\"\",\"\",AL3+1))","v":1},{"$f":"IF($AH$7=2,1,IF(AM3=\"\",\"\",AM3+1))","v":2},{"$f":"IF($AH$7=3,1,IF(AN3=\"\",\"\",AN3+1))","v":3},{"$f":"IF($AH$7=4,1,IF(AO3=\"\",\"\",AO3+1))","v":4},{"$f":"IF($AH$7=5,1,IF(AP3=\"\",\"\",AP3+1))","v":5},{"$f":"IF($AH$7=6,1,IF(AQ3=\"\",\"\",AQ3+1))","v":6}]
[{"$f":"G3+1","v":3},{"$f":"A4+1","v":4},5,6,7,8,9,null,null,null,null,null,null,null,null,null,null,null,null,null,null,{"$f":"IF(ISBLANK(AL4),\"\",AL4)","v":7},{"$f":"IF(ISBLANK(AM4),\"\",AM4)","v":8},9,10,11,12,13,null,null,null,null,"曜日計算",null,null,null,null,{"$f":"AR3+1","v":7},{"$f":"AL4+1","v":8},9,10,11,12,13]
[{"$f":"G4+1","v":10},11,12,13,14,15,16,null,null,null,null,null,null,null,null,null,null,null,null,null,null,{"$f":"IF(ISBLANK(AL5),\"\",AL5)","v":14},{"$f":"IF(ISBLANK(AM5),\"\",AM5)","v":15},{"$f":"IF(ISBLANK(AN5),\"\",AN5)","v":16},{"$f":"IF(ISBLANK(AO5),\"\",AO5)","v":17},{"$f":"IF(ISBLANK(AP5),\"\",AP5)","v":18},{"$f":"IF(ISBLANK(AQ5),\"\",IF(AQ5=$AH$12,\" \"&AQ5,AQ5))","v":19},{"$f":"IF(ISBLANK(AR5),\"\",IF(AR5=$AH$12,\" \"&AR5,AR5))","v":" 20"},null,null,null,null,"前月",{"$f":"入力部!D18","v":5},null,null,null,{"$f":"AR4+1","v":14},{"$f":"AL5+1","v":15},16,17,18,19,20]
[{"$f":"G5+1","v":17},18,19,20,21,22,23,null,null,null,null,null,null,null,null,null,null,null,null,null,null,{"$f":"IF(ISBLANK(AL6),\"\",IF(AL6=$AH$12,\" \"&AL6,AL6))","v":21},{"$f":"IF(ISBLANK(AM6),\"\",IF(AL6=$AH$12,\" \"&AM6,IF(AM6=$AH$12,\" \"&AM6,AM6)))","v":22},23,24,25,26,{"$f":"IF(ISBLANK(AR6),\"\",AR6)","v":27},null,null,null,null,"当月",{"$f":"入力部!D19","v":1},null,null,null,{"$f":"AR5+1","v":21},{"$f":"AL6+1","v":22},23,24,25,26,27]
[{"$f":"G6+1","v":24},{"$f":"A7+1","v":25},{"$f":"IF(B7=31,\"\",IF(B7=\"\",\"\",B7+1))","v":26},27,28,29,30,null,null,null,null,null,null,null,null,null,null,null,null,null,null,{"$f":"IF(ISBLANK(AL7),\"\",AL7)","v":28},29,30,31,"","",{"$f":"IF(ISBLANK(AR7),\"\",AR7)","v":""},null,null,null,null,"次月",{"$f":"入力部!D20","v":1},null,null,null,{"$f":"AR6+1","v":28},{"$f":"AL7+1","v":29},{"$f":"IF(AM7=31,\"\",IF(AM7=\"\",\"\",AM7+1))","v":30},31,"","",""]
[{"$f":"IF(G7=31,\"\",IF(G7=\"\",\"\",G7+1))","v":31},{"$f":"IF(A8=31,\"\",IF(A8=\"\",\"\",A8+1))","v":""},"","","","","",null,null,null,null,null,{"$f":"IF(入力部!$T$17=\"\",\"\",入力部!$T$17&\"／\")","v":"しんちゅう／"},{"$f":"IF(入力部!$S$17=\"\",\"\",入力部!$S$17)","v":"辛丑"},null,{"$f":"IF(入力部!$U$17=\"\",\"\",\"／\"&入力部!$U$17)","v":"／かのとうし"},null,null,null,null,null,"","","","","","",{"$f":"IF(ISBLANK(AR8),\"\",AR8)","v":""},null,null,null,null,null,null,null,null,null,{"$f":"IF(AR7=31,\"\",IF(AR7=\"\",\"\",AR7+1))","v":""},{"$f":"IF(AL8=31,\"\",IF(AL8=\"\",\"\",AL8+1))","v":""},"","","","",""]
["ＳＵＮ",null,null,null,"ＭＯＮ",null,null,null,"ＴＵＥ",null,null,null,"ＷＥＤ",null,null,null,"ＴＨＵ",null,null,null,"ＦＲＩ",null,null,null,"ＳＡＴ",null,null,null,null,null,null,null,"祝日データ"]
[{"$f":"IF($AH$6=0,1,\"\")","v":""},{"$f":"IF(Z14=1,1,IF(A10=\"\",\"\",A10+1))","v":""},{"$f":"IF(Z14=2,1,IF(B10=\"\",\"\",B10+1))","v":""},{"$f":"IF(Z14=3,1,IF(C10=\"\",\"\",C10+1))","v":""},{"$f":"IF($AH$6=1,1,IF(A10=\"\",\"\",A10+1))","v":1},null,null,null,{"$f":"IF($AH$6=2,1,IF(E10=\"\",\"\",E10+1))","v":2},null,null,null,{"$f":"IF($AH$6=3,1,IF(I10=\"\",\"\",I10+1))","v":3},null,null,null,{"$f":"IF($AH$6=4,1,IF(M10=\"\",\"\",M10+1))","v":4},null,null,null,{"$f":"IF($AH$6=5,1,IF(Q10=\"\",\"\",Q10+1))","v":5},null,null,null,{"$f":"IF($AH$6=6,1,IF(U10=\"\",\"\",U10+1))","v":6},null,null,null,null,null,null,null,"建国記念の日"]
[{"$f":"IF(Z15=0,1,\"\")","v":1},{"$f":"IF(Z15=1,1,IF(A11=\"\",\"\",A11+1))","v":2},{"$f":"IF(Z15=2,1,IF(B11=\"\",\"\",B11+1))","v":3},{"$f":"IF(Z15=3,1,IF(C11=\"\",\"\",C11+1))","v":4},null,null,null,null,null,null,null,null,null,null,null,null,null,null,null,null,null,null,null,null,null,null,null,null,null,null,null,null,"政令で定める日(2月11日) 建国をしのび、国を愛する心を養う。"]
[{"$f":"IF(Z16=0,1,\"\")","v":1},{"$f":"IF(Z16=1,1,IF(A12=\"\",\"\",A12+1))","v":2},{"$f":"IF(Z16=2,1,IF(B12=\"\",\"\",B12+1))","v":3},{"$f":"IF(Z16=3,1,IF(C12=\"\",\"\",C12+1))","v":4},null,null,null,null,null,null,null,null,null,null,null,null,null,null,null,null,null,null,null,null,null,null,null,null,null,null,null,null,"（春分日）：",{"$f":"入力部!L17","v":20}]
[]
[]
[{"$f":"$Y10+1","v":7},null,null,null,{"$f":"A$15+1","v":8},null,null,null,{"$f":"E$15+1","v":9},null,null,null,{"$f":"I$15+1","v":10},null,null,null,{"$f":"M$15+1","v":11},null,null,null,{"$f":"Q$15+1","v":12},null,null,null,{"$f":"U$15+1","v":13}]
[]
[]
[]
[null,null,null,null,null,null,null,null,null,null,null,null,{"$f":"IF(M15=11,\"建国記念の日\",\"\")","v":""},null,null,null,{"$f":"IF(Q15=11,\"建国記念の日\",\"\")","v":"建国記念の日"},null,null,null,{"$f":"IF(U15=11,\"建国記念の日\",\"\")","v":""},null,null,null,{"$f":"IF(Y15=11,\"建国記念の日\",\"\")","v":""}]
[{"$f":"$Y15+1","v":14},null,null,null,{"$f":"A20+1","v":15},null,null,null,{"$f":"E20+1","v":16},null,null,null,{"$f":"I20+1","v":17},null,null,null,{"$f":"M20+1","v":18},null,null,null,{"$f":"Q20+1","v":19},null,null,null,{"$f":"U20+1","v":20}]
[]
[]
[]
[{"$f":"IF(A20=11,\"建国記念の日\",\"\")","v":""},null,null,null,{"$f":"IF(E20=11,\"建国記念の日\",IF(E20=12,\"振替休日\",\"\"))","v":""},null,null,null,{"$f":"IF(I20=11,\"建国記念の日\",\"\")","v":""}]
[{"$f":"$Y20+1","v":21},null,null,null,{"$f":"A25+1","v":22},null,null,null,{"$f":"E25+1","v":23},null,null,null,{"$f":"I25+1","v":24},null,null,null,{"$f":"M25+1","v":25},null,null,null,{"$f":"Q25+1","v":26},null,null,null,{"$f":"U25+1","v":27}]
[]
[]
[]
[null,null,null,null,{"$f":"IF(E25=23,\"天皇誕生日\",\"\")","v":""},null,null,null,{"$f":"IF(I25=23,\"天皇誕生日\",\"\")","v":"天皇誕生日"},null,null,null,{"$f":"IF(M25=23,\"天皇誕生日\",\"\")","v":""},null,null,null,{"$f":"IF(Q25=23,\"天皇誕生日\",\"\")","v":""},null,null,null,{"$f":"IF(U25=23,\"天皇誕生日\",\"\")","v":""},null,null,null,{"$f":"IF(Y25=23,\"天皇誕生日\",\"\")","v":""}]
[{"$f":"IF($Y25=$AI$3,\"\",IF($Y25=\"\",\"\",$Y25+1))","v":28},null,null,null,{"$f":"IF(A30=$AI$3,\"\",IF(A30=\"\",\"\",A30+1))","v":""},null,null,null,{"$f":"IF(E30=$AI$3,\"\",IF(E30=\"\",\"\",E30+1))","v":""},null,null,null,{"$f":"IF(I30=$AI$3,\"\",IF(I30=\"\",\"\",I30+1))","v":""},null,null,null,{"$f":"IF(M30=$AI$3,\"\",IF(M30=\"\",\"\",M30+1))","v":""},null,null,null,{"$f":"IF(Q30=$AI$3,\"\",IF(Q30=\"\",\"\",Q30+1))","v":""},null,null,null,{"$f":"IF(U30=$AI$3,\"\",IF(U30=\"\",\"\",U30+1))","v":""}]
[]
[]
[]
[{"$f":"IF(A30=23,\"天皇誕生日\",\"\")","v":""},null,null,null,{"$f":"IF(E30=24,\"振替休日\",\"\")","v":""}]
[{"$f":"IF($Y30=$AI$3,\"\",IF($Y30=\"\",\"\",$Y30+1))","v":""},null,null,null,{"$f":"IF(A35=$AI$3,\"\",IF(A35=\"\",\"\",A35+1))","v":""},null,null,null,{"$f":"IF(E35=$AI$3,\"\",IF(E35=\"\",\"\",E35+1))","v":""},null,null,null,{"$f":"IF(I35=$AI$3,\"\",IF(I35=\"\",\"\",I35+1))","v":""},null,null,null,{"$f":"IF(M35=$AI$3,\"\",IF(M35=\"\",\"\",M35+1))","v":""}]
[null,null,null,null,null,null,null,null,null,null,null,null,null,null,null,null,null,null,null,null,"如　月"]
[]
[null,null,null,null,null,null,null,null,null,null,null,null,null,null,null,null,null,null,null,null,"February"]
[]
[null,null,null,null,null,null,null,null,null,null,null,null,null,null,null,null,null,null,null,null,null,null,null,null,null,null,null,"Jan. 8th 2011  - nasutaworks(AN2)"]

{"sheet":"3","index":3,"n_rows":40,"n_cols":35,"rows_kept":40,"cut":false,"hidden":false,"merged":[[37,20,38,27],[29,12,31,15],[29,16,31,19],[18,24,18,27],[29,20,31,23],[24,12,26,15],[24,16,26,19],[24,20,26,23],[33,24,33,27],[34,0,36,3],[34,4,36,7],[34,8,36,11],[34,12,36,15],[35,20,36,27],[38,0,38,3],[38,4,38,7],[38,8,38,11],[38,12,38,15],[38,16,38,19],[33,20,33,23],[18,0,18,3],[33,0,33,3],[34,16,36,19],[33,4,33,7],[33,8,33,11],[33,12,33,15],[33,16,33,19],[28,0,28,3],[24,0,26,3],[28,20,28,23],[23,12,23,15],[28,16,28,19],[18,8,18,11],[18,12,18,15],[18,16,18,19],[29,24,31,27],[28,24,28,27],[24,24,26,27],[23,24,23,27],[29,0,31,3],[29,4,31,7],[24,4,26,7],[28,8,28,11],[28,12,28,15],[28,4,28,7],[29,8,31,11],[24,8,26,11],[9,16,11,19],[13,20,13,23],[13,24,13,27],[19,20,21,23],[9,20,11,23],[9,24,11,27],[14,16,16,19],[14,20,16,23],[19,16,21,19],[19,24,21,27],[14,24,16,27],[13,16,13,19],[23,0,23,3],[23,20,23,23],[14,0,16,3],[14,4,16,7],[14,8,16,11],[14,12,16,15],[18,20,18,23],[18,4,18,7],[19,0,21,3],[19,4,21,7],[19,8,21,11],[19,12,21,15],[23,4,23,7],[23,16,23,19],[23,8,23,11],[13,0,13,3],[8,12,8,15],[9,0,11,3],[9,4,11,7],[9,8,11,11],[9,12,11,15],[13,4,13,7],[13,8,13,11],[13,12,13,15],[1,2,1,4],[1,23,1,25],[1,10,1,17],[8,0,8,3],[8,4,8,7],[8,8,8,11],[8,16,8,19],[8,20,8,23],[8,24,8,27],[2,9,6,18],[7,13,7,14]]}
[null,null,null,null,null,null,null,null,null,null,null,null,null,null,null,null,null,null,null,null,null,null,null,null,null,null,null,null,null,null,null,null,"設定部",{"$f":"IF(AG3<2020,入力部!R20,入力部!R21)","v":"令和"}]
[null,null,"２月",null,null,null,null,null,null,null,{"$f":"IF(AH1=0,DBCS(AG3)&\"年\",DBCS(AG3)&\"年 ／ \"&AH1&DBCS(AH3)&\"年\")","v":"２０２１年 ／ 令和３年"},null,null,null,null,null,null,null,null,null,null,null,null,"４月",null,null,null,null,null,null,null,null,"西暦","和暦","うるう年判定"]
[{"$f":"IF($AH$5=0,1,\"\")","v":""},{"$f":"IF($AH$5=1,1,IF(A3=\"\",\"\",A3+1))","v":1},{"$f":"IF($AH$5=2,1,IF(B3=\"\",\"\",B3+1))","v":2},{"$f":"IF($AH$5=3,1,IF(C3=\"\",\"\",C3+1))","v":3},{"$f":"IF($AH$5=4,1,IF(D3=\"\",\"\",D3+1))","v":4},{"$f":"IF($AH$5=5,1,IF(E3=\"\",\"\",E3+1))","v":5},{"$f":"IF($AH$5=6,1,IF(F3=\"\",\"\",F3+1))","v":6},null,null,3,null,null,null,null,null,null,null,null,null,null,null,{"$f":"IF($AH$7=0,1,\"\")","v":""},{"$f":"IF($AH$7=1,1,IF(V3=\"\",\"\",V3+1))","v":""},{"$f":"IF($AH$7=2,1,IF(W3=\"\",\"\",W3+1))","v":""},{"$f":"IF($AH$7=3,1,IF(X3=\"\",\"\",X3+1))","v":""},{"$f":"IF($AH$7=4,1,IF(Y3=\"\",\"\",Y3+1))","v":1},{"$f":"IF($AH$7=5,1,IF(Z3=\"\",\"\",Z3+1))","v":2},{"$f":"IF($AH$7=6,1,IF(AA3=\"\",\"\",AA3+1))","v":3},null,null,null,null,{"$f":"入力部!J3","v":2021},{"$f":"IF(AG3<2020,AG3-2000+12,IF(AG3-2018=1,\"元\",AG3-2018))","v":3},{"$f":"入力部!H17","v":28}]
[{"$f":"G3+1","v":7},{"$f":"A4+1","v":8},9,10,11,12,13,null,null,null,null,null,null,null,null,null,null,null,null,null,null,{"$f":"AB3+1","v":4},{"$f":"V4+1","v":5},6,7,8,9,10,null,null,null,null,"曜日計算"]
[{"$f":"G4+1","v":14},15,16,17,18,19,20,null,null,null,null,null,null,null,null,null,null,null,null,null,null,{"$f":"AB4+1","v":11},12,13,14,15,16,17,null,null,null,null,"前月",{"$f":"入力部!D19","v":1}]
[{"$f":"G5+1","v":21},22,23,24,25,26,27,null,null,null,null,null,null,null,null,null,null,null,null,null,null,{"$f":"AB5+1","v":18},19,20,21,22,23,24,null,null,null,null,"当月",{"$f":"入力部!D20","v":1}]
[{"$f":"IF(G6=$AI$3,\"\",IF(G6=\"\",\"\",G6+1))","v":28},{"$f":"IF(A7=$AI$3,\"\",IF(A7=\"\",\"\",A7+1))","v":""},"","","","","",null,null,null,null,null,null,null,null,null,null,null,null,null,null,{"$f":"AB6+1","v":25},{"$f":"V7+1","v":26},{"$f":"IF(W7=30,\"\",IF(W7=\"\",\"\",W7+1))","v":27},{"$f":"IF(X7=30,\"\",IF(X7=\"\",\"\",X7+1))","v":28},{"$f":"IF(Y7=30,\"\",IF(Y7=\"\",\"\",Y7+1))","v":29},{"$f":"IF(Z7=30,\"\",IF(Z7=\"\",\"\",Z7+1))","v":30},"",null,null,null,null,"次月",{"$f":"入力部!D21","v":4}]
[{"$f":"IF(G7=$AI$3,\"\",IF(G7=\"\",\"\",G7+1))","v":""},"","","","","","",null,null,null,null,null,{"$f":"IF(入力部!$T$17=\"\",\"\",入力部!$T$17&\"／\")","v":"しんちゅう／"},{"$f":"IF(入力部!$S$17=\"\",\"\",入力部!$S$17)","v":"辛丑"},null,{"$f":"IF(入力部!$U$17=\"\",\"\",\"／\"&入力部!$U$17)","v":"／かのとうし"},null,null,null,null,null,{"$f":"IF(AB7=30,\"\",IF(AB7=\"\",\"\",AB7+1))","v":""},{"$f":"IF(V8=30,\"\",IF(V8=\"\",\"\",V8+1))","v":""},{"$f":"IF(W8=30,\"\",IF(W8=\"\",\"\",W8+1))","v":""},{"$f":"IF(X8=30,\"\",IF(X8=\"\",\"\",X8+1))","v":""},"","",""]
["ＳＵＮ",null,null,null,"ＭＯＮ",null,null,null,"ＴＵＥ",null,null,null,"ＷＥＤ",null,null,null,"ＴＨＵ",null,null,null,"ＦＲＩ",null,null,null,"ＳＡＴ",null,null,null,null,null,null,null,"祝日データ"]
[{"$f":"IF($AH$6=0,1,\"\")","v":""},{"$f":"IF(Z14=1,1,IF(A10=\"\",\"\",A10+1))","v":""},{"$f":"IF(Z14=2,1,IF(B10=\"\",\"\",B10+1))","v":""},{"$f":"IF(Z14=3,1,IF(C10=\"\",\"\",C10+1))","v":""},{"$f":"IF($AH$6=1,1,IF(A10=\"\",\"\",A10+1))","v":1},null,null,null,{"$f":"IF($AH$6=2,1,IF(E10=\"\",\"\",E10+1))","v":2},null,null,null,{"$f":"IF($AH$6=3,1,IF(I10=\"\",\"\",I10+1))","v":3},null,null,null,{"$f":"IF($AH$6=4,1,IF(M10=\"\",\"\",M10+1))","v":4},null,null,null,{"$f":"IF($AH$6=5,1,IF(Q10=\"\",\"\",Q10+1))","v":5},null,null,null,{"$f":"IF($AH$6=6,1,IF(U10=\"\",\"\",U10+1))","v":6},null,null,null,null,null,null,null,"春分の日"]
[{"$f":"IF(Z15=0,1,\"\")","v":1},{"$f":"IF(Z15=1,1,IF(A11=\"\",\"\",A11+1))","v":2},{"$f":"IF(Z15=2,1,IF(B11=\"\",\"\",B11+1))","v":3},{"$f":"IF(Z15=3,1,IF(C11=\"\",\"\",C11+1))","v":4},null,null,null,null,null,null,null,null,null,null,null,null,null,null,null,null,null,null,null,null,null,null,null,null,null,null,null,null,"春分日(3月21日頃) 自然をたたえ、生物をいつくしむ。"]
[{"$f":"IF(Z16=0,1,\"\")","v":1},{"$f":"IF(Z16=1,1,IF(A12=\"\",\"\",A12+1))","v":2},{"$f":"IF(Z16=2,1,IF(B12=\"\",\"\",B12+1))","v":3},{"$f":"IF(Z16=3,1,IF(C12=\"\",\"\",C12+1))","v":4},null,null,null,null,null,null,null,null,null,null,null,null,null,null,null,null,null,null,null,null,null,null,null,null,null,null,null,null,"春分日：",{"$f":"入力部!L17","v":20}]
[]
[]
[{"$f":"$Y10+1","v":7},null,null,null,{"$f":"A$15+1","v":8},null,null,null,{"$f":"E$15+1","v":9},null,null,null,{"$f":"I$15+1","v":10},null,null,null,{"$f":"M$15+1","v":11},null,null,null,{"$f":"Q$15+1","v":12},null,null,null,{"$f":"U$15+1","v":13}]
[]
[]
[]
[]
[{"$f":"$Y15+1","v":14},null,null,null,{"$f":"A20+1","v":15},null,null,null,{"$f":"E20+1","v":16},null,null,null,{"$f":"I20+1","v":17},null,null,null,{"$f":"M20+1","v":18},null,null,null,{"$f":"IF(U23=$AH$12,U23&\" \",U23)","v":19},null,null,null,{"$f":"IF(Y23=$AH$12,Y23&\" \",Y23)","v":"20 "}]
[]
[]
[null,null,null,null,null,null,null,null,null,null,null,null,null,null,null,null,null,null,null,null,{"$f":"Q20+1","v":19},null,null,null,{"$f":"U20+1","v":20}]
[null,null,null,null,null,null,null,null,null,null,null,null,null,null,null,null,null,null,null,null,{"$f":"IF(U23>21,\"\",IF(U23<20,\"\",IF(U23=$AH$12,\"春分の日\",\"\")))","v":""},null,null,null,{"$f":"IF(Y23>21,\"\",IF(Y23<20,\"\",IF(Y23=$AH$12,\"春分の日\",\"\")))","v":"春分の日"}]
[{"$f":"IF(A28=$AH$12,A28&\" \",A28)","v":21},null,null,null,{"$f":"IF(E28=$AH$12,E28&\" \",IF(A28=$AH$12,E28&\" \",E28))","v":22},null,null,null,{"$f":"IF(I28=$AH$12,I28&\" \",I28)","v":23},null,null,null,{"$f":"IF(M28=$AH$12,M28&\" \",M28)","v":24},null,null,null,{"$f":"IF(Q28=$AH$12,Q28&\" \",Q28)","v":25},null,null,null,{"$f":"IF(U28=$AH$12,U28&\" \",U28)","v":26},null,null,null,{"$f":"U25+1","v":27}]
[]
[]
[{"$f":"Y20+1","v":21},null,null,null,{"$f":"A25+1","v":22},null,null,null,{"$f":"E25+1","v":23},null,null,null,{"$f":"I25+1","v":24},null,null,null,{"$f":"M25+1","v":25},null,null,null,{"$f":"Q25+1","v":26}]
[{"$f":"IF(A28>21,\"\",IF(A28<20,\"\",IF(A28=$AH$12,\"春分の日\",\"\")))","v":""},null,null,null,{"$f":"IF(A28=$AH$12,\"振替休日\",IF(E28>21,\"\",IF(E28<20,\"\",IF(E28=$AH$12,\"春分の日\",\"\"))))","v":""},null,null,null,{"$f":"IF(I28>21,\"\",IF(I28<20,\"\",IF(I28=$AH$12,\"春分の日\",\"\")))","v":""},null,null,null,{"$f":"IF(M28>21,\"\",IF(M28<20,\"\",IF(M28=$AH$12,\"春分の日\",\"\")))","v":""},null,null,null,{"$f":"IF(Q28>21,\"\",IF(Q28<20,\"\",IF(Q28=$AH$12,\"春分の日\",\"\")))","v":""},null,null,null,{"$f":"IF(U28>21,\"\",IF(U28<20,\"\",IF(U28=$AH$12,\"春分の日\",\"\")))","v":""}]
[{"$f":"$Y25+1","v":28},null,null,null,{"$f":"A30+1","v":29},null,null,null,{"$f":"IF(E30=31,\"\",IF(E30=\"\",\"\",E30+1))","v":30},null,null,null,{"$f":"IF(I30=31,\"\",IF(I30=\"\",\"\",I30+1))","v":31},null,null,null,{"$f":"IF(M30=31,\"\",IF(M30=\"\",\"\",M30+1))","v":""},null,null,null,{"$f":"IF(Q30=31,\"\",IF(Q30=\"\",\"\",Q30+1))","v":""},null,null,null,{"$f":"IF(U30=31,\"\",IF(U30=\"\",\"\",U30+1))","v":""}]
[]
[]
[]
[]
[{"$f":"IF(Y30=31,\"\",IF(Y30=\"\",\"\",Y30+1))","v":""},null,null,null,{"$f":"IF(A35=31,\"\",IF(A35=\"\",\"\",A35+1))","v":""},null,null,null,{"$f":"IF(E35=31,\"\",IF(E35=\"\",\"\",E35+1))","v":""},null,null,null,{"$f":"IF(I35=31,\"\",IF(I35=\"\",\"\",I35+1))","v":""},null,null,null,{"$f":"IF(M35=31,\"\",IF(M35=\"\",\"\",M35+1))","v":""}]
[null,null,null,null,null,null,null,null,null,null,null,null,null,null,null,null,null,null,null,null,"弥　生"]
[]
[null,null,null,null,null,null,null,null,null,null,null,null,null,null,null,null,null,null,null,null,"March"]
[]
[null,null,null,null,null,null,null,null,null,null,null,null,null,null,null,null,null,null,null,null,null,null,null,null,null,null,null,"Jan. 8th 2011  - nasutaworks(AN2)"]

{"sheet":"4","index":4,"n_rows":40,"n_cols":44,"rows_kept":40,"cut":false,"hidden":false,"merged":[[9,12,11,15],[9,24,11,27],[35,20,36,27],[37,20,38,27],[14,0,16,3],[14,4,16,7],[13,0,13,3],[13,4,13,7],[1,2,1,4],[1,23,1,25],[1,10,1,17],[2,9,6,18],[8,0,8,3],[8,4,8,7],[7,13,7,14],[8,8,8,11],[8,16,8,19],[8,20,8,23],[8,24,8,27],[8,12,8,15],[9,16,11,19],[9,20,11,23],[14,16,16,19],[18,20,18,23],[14,20,16,23],[9,0,11,3],[9,4,11,7],[19,4,21,7],[19,8,21,11],[14,8,16,11],[9,8,11,11],[19,24,21,27],[29,24,31,27],[19,12,21,15],[19,20,21,23],[13,8,13,11],[13,12,13,15],[13,16,13,19],[23,24,23,27],[14,12,16,15],[24,16,26,19],[18,24,18,27],[14,24,16,27],[18,0,18,3],[18,4,18,7],[18,8,18,11],[18,12,18,15],[23,0,23,3],[19,0,21,3],[23,4,23,7],[23,8,23,11],[23,12,23,15],[24,4,26,7],[28,0,28,3],[28,4,28,7],[24,0,26,3],[24,8,26,11],[24,12,26,15],[28,8,28,11],[28,12,28,15],[38,16,38,19],[29,0,31,3],[29,4,31,7],[34,0,36,3],[34,4,36,7],[34,8,36,11],[34,12,36,15],[34,16,36,19],[33,0,33,3],[33,4,33,7],[29,8,31,11],[29,12,31,15],[29,16,31,19],[33,8,33,11],[33,12,33,15],[38,0,38,3],[38,4,38,7],[38,8,38,11],[38,12,38,15],[1,39,1,41],[33,16,33,19],[33,20,33,23],[33,24,33,27],[28,16,28,19],[28,20,28,23],[28,24,28,27],[13,20,13,23],[13,24,13,27],[24,24,26,27],[23,16,23,19],[23,20,23,23],[18,16,18,19],[19,16,21,19],[24,20,26,23],[29,20,31,23]]}
[null,null,null,null,null,null,null,null,null,null,null,null,null,null,null,null,null,null,null,null,null,null,null,null,null,null,null,null,null,null,null,null,"設定部",{"$f":"IF(AG3<2020,入力部!R20,入力部!R21)","v":"令和"},null,null,null,"春分日対応用ダミー部"]
[null,null,"３月",null,null,null,null,null,null,null,{"$f":"IF(AH1=0,DBCS(AG3)&\"年\",DBCS(AG3)&\"年 ／ \"&AH1&DBCS(AH3)&\"年\")","v":"２０２１年 ／ 令和３年"},null,null,null,null,null,null,null,null,null,null,null,null,"５月",null,null,null,null,null,null,null,null,"西暦","和暦",null,null,null,null,null,"３月"]
[{"$f":"IF(ISBLANK(AL3),\"\",AL3)","v":""},{"$f":"IF(ISBLANK(AM3),\"\",AM3)","v":1},2,3,4,5,6,null,null,4,null,null,null,null,null,null,null,null,null,null,null,{"$f":"IF($AH$7=0,1,\"\")","v":""},{"$f":"IF($AH$7=1,1,IF(V3=\"\",\"\",V3+1))","v":""},{"$f":"IF($AH$7=2,1,IF(W3=\"\",\"\",W3+1))","v":""},{"$f":"IF($AH$7=3,1,IF(X3=\"\",\"\",X3+1))","v":""},{"$f":"IF($AH$7=4,1,IF(Y3=\"\",\"\",Y3+1))","v":""},{"$f":"IF($AH$7=5,1,IF(Z3=\"\",\"\",Z3+1))","v":""},{"$f":"IF($AH$7=6,1,IF(AA3=\"\",\"\",AA3+1))","v":1},null,null,null,null,{"$f":"入力部!J3","v":2021},{"$f":"IF(AG3<2020,AG3-2000+12,IF(AG3-2018=1,\"元\",AG3-2018))","v":3},null,null,null,{"$f":"IF($AH$5=0,1,\"\")","v":""},{"$f":"IF($AH$5=1,1,IF(AL3=\"\",\"\",AL3+1))","v":1},{"$f":"IF($AH$5=2,1,IF(AM3=\"\",\"\",AM3+1))","v":2},{"$f":"IF($AH$5=3,1,IF(AN3=\"\",\"\",AN3+1))","v":3},{"$f":"IF($AH$5=4,1,IF(AO3=\"\",\"\",AO3+1))","v":4},{"$f":"IF($AH$5=5,1,IF(AP3=\"\",\"\",AP3+1))","v":5},{"$f":"IF($AH$5=6,1,IF(AQ3=\"\",\"\",AQ3+1))","v":6}]
[7,{"$f":"IF(ISBLANK(AM4),\"\",AM4)","v":8},9,10,11,12,13,null,null,null,null,null,null,null,null,null,null,null,null,null,null,{"$f":"AB3+1","v":2},{"$f":"V4+1","v":3},4,5,6,7,8,null,null,null,null,"曜日計算",null,null,null,null,{"$f":"AR3+1","v":7},{"$f":"AL4+1","v":8},9,10,11,12,13]
[14,{"$f":"IF(ISBLANK(AM5),\"\",AM5)","v":15},{"$f":"IF(ISBLANK(AN5),\"\",AN5)","v":16},{"$f":"IF(ISBLANK(AO5),\"\",AO5)","v":17},{"$f":"IF(ISBLANK(AP5),\"\",AP5)","v":18},{"$f":"IF(ISBLANK(AQ5),\"\",IF(AQ5=$AH$12,\" \"&AQ5,AQ5))","v":19},{"$f":"IF(ISBLANK(AR5),\"\",IF(AR5=$AH$12,\" \"&AR5,AR5))","v":" 20"},null,null,null,null,null,null,null,null,null,null,null,null,null,null,{"$f":"AB4+1","v":9},10,11,12,13,14,15,null,null,null,null,"前月",{"$f":"入力部!D20","v":1},null,null,null,{"$f":"AR4+1","v":14},{"$f":"AL5+1","v":15},16,17,18,19,20]
[21,{"$f":"IF(ISBLANK(AM6),\"\",IF(AL5=$AH$12,\" \"&AM6,IF(AM6=$AH$12,\" \"&AM6,AM6)))","v":22},{"$f":"IF(ISBLANK(AN6),\"\",IF(AN6=$AH$12,\" \"&AN6,AN6))","v":23},{"$f":"IF(ISBLANK(AO6),\"\",IF(AO6=$AH$12,\" \"&AO6,AO6))","v":24},{"$f":"IF(ISBLANK(AP6),\"\",IF(AP6=$AH$12,\" \"&AP6,AP6))","v":25},{"$f":"IF(ISBLANK(AQ6),\"\",IF(AQ6=$AH$12,\" \"&AQ6,AQ6))","v":26},{"$f":"IF(ISBLANK(AR6),\"\",AR6)","v":27},null,null,null,null,null,null,null,null,null,null,null,null,null,null,{"$f":"AB5+1","v":16},17,18,19,20,21,22,null,null,null,null,"当月",{"$f":"入力部!D21","v":4},null,null,null,{"$f":"AR5+1","v":21},{"$f":"AL6+1","v":22},23,24,25,26,27]
[28,{"$f":"IF(ISBLANK(AM7),\"\",AM7)","v":29},30,31,"","",{"$f":"IF(ISBLANK(AR7),\"\",AR7)","v":""},null,null,null,null,null,null,null,null,null,null,null,null,null,null,{"$f":"AB6+1","v":23},{"$f":"V7+1","v":24},{"$f":"IF(W7=31,\"\",IF(W7=\"\",\"\",W7+1))","v":25},26,27,28,29,null,null,null,null,"次月",{"$f":"入力部!D22","v":6},null,null,null,{"$f":"AR6+1","v":28},{"$f":"AL7+1","v":29},{"$f":"IF(AM7=31,\"\",IF(AM7=\"\",\"\",AM7+1))","v":30},31,"","",""]
["","","","","","",{"$f":"IF(ISBLANK(AR8),\"\",AR8)","v":""},null,null,null,null,null,{"$f":"IF(入力部!$T$17=\"\",\"\",入力部!$T$17&\"／\")","v":"しんちゅう／"},{"$f":"IF(入力部!$S$17=\"\",\"\",入力部!$S$17)","v":"辛丑"},null,{"$f":"IF(入力部!$U$17=\"\",\"\",\"／\"&入力部!$U$17)","v":"／かのとうし"},null,null,null,null,null,{"$f":"IF(AB7=31,\"\",IF(AB7=\"\",\"\",AB7+1))","v":30},{"$f":"IF(V8=31,\"\",IF(V8=\"\",\"\",V8+1))","v":31},"","","","","",null,null,null,null,null,null,null,null,null,{"$f":"IF(AR7=31,\"\",IF(AR7=\"\",\"\",AR7+1))","v":""},{"$f":"IF(AL8=31,\"\",IF(AL8=\"\",\"\",AL8+1))","v":""},"","","","",""]
["ＳＵＮ",null,null,null,"ＭＯＮ",null,null,null,"ＴＵＥ",null,null,null,"ＷＥＤ",null,null,null,"ＴＨＵ",null,null,null,"ＦＲＩ",null,null,null,"ＳＡＴ",null,null,null,null,null,null,null,"祝日データ"]
[{"$f":"IF($AH$6=0,1,\"\")","v":""},{"$f":"IF(Z14=1,1,IF(A10=\"\",\"\",A10+1))","v":""},{"$f":"IF(Z14=2,1,IF(B10=\"\",\"\",B10+1))","v":""},{"$f":"IF(Z14=3,1,IF(C10=\"\",\"\",C10+1))","v":""},{"$f":"IF($AH$6=1,1,IF(A10=\"\",\"\",A10+1))","v":""},null,null,null,{"$f":"IF($AH$6=2,1,IF(E10=\"\",\"\",E10+1))","v":""},null,null,null,{"$f":"IF($AH$6=3,1,IF(I10=\"\",\"\",I10+1))","v":""},null,null,null,{"$f":"IF($AH$6=4,1,IF(M10=\"\",\"\",M10+1))","v":1},null,null,null,{"$f":"IF($AH$6=5,1,IF(Q10=\"\",\"\",Q10+1))","v":2},null,null,null,{"$f":"IF($AH$6=6,1,IF(U10=\"\",\"\",U10+1))","v":3},null,null,null,null,null,null,null,"昭和の日"]
[{"$f":"IF(Z15=0,1,\"\")","v":1},{"$f":"IF(Z15=1,1,IF(A11=\"\",\"\",A11+1))","v":2},{"$f":"IF(Z15=2,1,IF(B11=\"\",\"\",B11+1))","v":3},{"$f":"IF(Z15=3,1,IF(C11=\"\",\"\",C11+1))","v":4},null,null,null,null,null,null,null,null,null,null,null,null,null,null,null,null,null,null,null,null,null,null,null,null,null,null,null,null,"4月29日 激動の日々を経て、復興を遂げた昭和の時代を顧み、国の将来に思いをいたす。"]
[{"$f":"IF(Z16=0,1,\"\")","v":1},{"$f":"IF(Z16=1,1,IF(A12=\"\",\"\",A12+1))","v":2},{"$f":"IF(Z16=2,1,IF(B12=\"\",\"\",B12+1))","v":3},{"$f":"IF(Z16=3,1,IF(C12=\"\",\"\",C12+1))","v":4},null,null,null,null,null,null,null,null,null,null,null,null,null,null,null,null,null,null,null,null,null,null,null,null,null,null,null,null,"（春分日）：",{"$f":"入力部!L17","v":20}]
[]
[]
[{"$f":"$Y10+1","v":4},null,null,null,{"$f":"A$15+1","v":5},null,null,null,{"$f":"E$15+1","v":6},null,null,null,{"$f":"I$15+1","v":7},null,null,null,{"$f":"M$15+1","v":8},null,null,null,{"$f":"Q$15+1","v":9},null,null,null,{"$f":"U$15+1","v":10}]
[]
[]
[]
[]
[{"$f":"$Y15+1","v":11},null,null,null,{"$f":"A20+1","v":12},null,null,null,{"$f":"E20+1","v":13},null,null,null,{"$f":"I20+1","v":14},null,null,null,{"$f":"M20+1","v":15},null,null,null,{"$f":"Q20+1","v":16},null,null,null,{"$f":"U20+1","v":17}]
[]
[]
[]
[]
[{"$f":"$Y20+1","v":18},null,null,null,{"$f":"A25+1","v":19},null,null,null,{"$f":"E25+1","v":20},null,null,null,{"$f":"I25+1","v":21},null,null,null,{"$f":"M25+1","v":22},null,null,null,{"$f":"Q25+1","v":23},null,null,null,{"$f":"U25+1","v":24}]
[]
[]
[]
[]
[{"$f":"$Y25+1","v":25},null,null,null,{"$f":"A30+1","v":26},null,null,null,{"$f":"IF(E30=30,\"\",IF(E30=\"\",\"\",E30+1))","v":27},null,null,null,{"$f":"IF(I30=30,\"\",IF(I30=\"\",\"\",I30+1))","v":28},null,null,null,{"$f":"IF(M30=30,\"\",IF(M30=\"\",\"\",M30+1))","v":29},null,null,null,{"$f":"IF(Q30=30,\"\",IF(Q30=\"\",\"\",Q30+1))","v":30},null,null,null,{"$f":"IF(U30=30,\"\",IF(U30=\"\",\"\",U30+1))","v":""}]
[]
[]
[]
[{"$f":"IF(A30=29,\"昭和の日\",\"\")","v":""},null,null,null,{"$f":"IF(E30=29,\"昭和の日\",IF(E30=30,\"振替休日\",\"\"))","v":""},null,null,null,{"$f":"IF(I30=29,\"昭和の日\",IF($AG$3=2019,\"国民の休日\",\"\"))","v":""},null,null,null,{"$f":"IF(M30=29,\"昭和の日\",\"\")","v":""},null,null,null,{"$f":"IF(Q30=29,\"昭和の日\",\"\")","v":"昭和の日"},null,null,null,{"$f":"IF(U30=29,\"昭和の日\",\"\")","v":""},null,null,null,{"$f":"IF(Y30=29,\"昭和の日\",\"\")","v":""}]
[{"$f":"IF(Y30=30,\"\",IF(Y30=\"\",\"\",Y30+1))","v":""},null,null,null,{"$f":"IF(A35=30,\"\",IF(A35=\"\",\"\",A35+1))","v":""},null,null,null,{"$f":"IF(E35=30,\"\",IF(E35=\"\",\"\",E35+1))","v":""},null,null,null,{"$f":"IF(I35=30,\"\",IF(I35=\"\",\"\",I35+1))","v":""},null,null,null,{"$f":"IF(M35=30,\"\",IF(M35=\"\",\"\",M35+1))","v":""}]
[null,null,null,null,null,null,null,null,null,null,null,null,null,null,null,null,null,null,null,null,"卯　月"]
[]
[null,null,null,null,null,null,null,null,null,null,null,null,null,null,null,null,null,null,null,null,"April"]
[]
[null,null,null,null,null,null,null,null,null,null,null,null,null,null,null,null,null,null,null,null,null,null,null,null,null,null,null,"Jan. 8th 2011  - nasutaworks(AN2)"]

{"sheet":"5","index":5,"n_rows":40,"n_cols":34,"rows_kept":40,"cut":false,"hidden":false,"merged":[[34,0,36,3],[19,20,21,23],[7,13,7,14],[35,20,36,27],[37,20,38,27],[33,0,33,3],[19,0,21,3],[33,24,33,27],[28,0,28,3],[33,12,33,15],[33,16,33,19],[23,20,23,23],[38,0,38,3],[38,4,38,7],[38,8,38,11],[38,12,38,15],[38,16,38,19],[29,0,31,3],[29,4,31,7],[24,16,26,19],[33,20,33,23],[28,16,28,19],[33,4,33,7],[33,8,33,11],[24,0,26,3],[28,8,28,11],[28,12,28,15],[28,4,28,7],[24,8,26,11],[34,4,36,7],[34,8,36,11],[34,12,36,15],[34,16,36,19],[18,24,18,27],[18,8,18,11],[18,12,18,15],[23,24,23,27],[23,8,23,11],[23,12,23,15],[24,20,26,23],[19,8,21,11],[19,12,21,15],[19,4,21,7],[23,16,23,19],[24,24,26,27],[29,24,31,27],[28,20,28,23],[28,24,28,27],[19,16,21,19],[18,20,18,23],[19,24,21,27],[18,16,18,19],[29,8,31,11],[29,12,31,15],[29,16,31,19],[29,20,31,23],[14,0,16,3],[14,4,16,7],[14,8,16,11],[14,12,16,15],[24,4,26,7],[23,0,23,3],[23,4,23,7],[24,12,26,15],[18,0,18,3],[18,4,18,7],[9,20,11,23],[9,24,11,27],[14,16,16,19],[14,20,16,23],[14,24,16,27],[9,16,11,19],[13,20,13,23],[13,24,13,27],[13,16,13,19],[13,0,13,3],[8,12,8,15],[9,0,11,3],[9,4,11,7],[9,8,11,11],[9,12,11,15],[13,4,13,7],[13,8,13,11],[13,12,13,15],[1,2,1,4],[1,23,1,25],[1,10,1,17],[8,0,8,3],[8,4,8,7],[8,8,8,11],[8,16,8,19],[8,20,8,23],[8,24,8,27],[2,9,6,18]]}
[null,null,null,null,null,null,null,null,null,null,null,null,null,null,null,null,null,null,null,null,null,null,null,null,null,null,null,null,null,null,null,null,"設定部",{"$f":"IF(AG3<2019,入力部!R20,入力部!R21)","v":"令和"}]
[null,null,"４月",null,null,null,null,null,null,null,{"$f":"IF(AH1=0,DBCS(AG3)&\"年\",DBCS(AG3)&\"年 ／ \"&AH1&DBCS(AH3)&\"年\")","v":"２０２１年 ／ 令和３年"},null,null,null,null,null,null,null,null,null,null,null,null,"６月",null,null,null,null,null,null,null,null,"西暦","和暦"]
[{"$f":"IF($AH$5=0,1,\"\")","v":""},{"$f":"IF($AH$5=1,1,IF(A3=\"\",\"\",A3+1))","v":""},{"$f":"IF($AH$5=2,1,IF(B3=\"\",\"\",B3+1))","v":""},{"$f":"IF($AH$5=3,1,IF(C3=\"\",\"\",C3+1))","v":""},{"$f":"IF($AH$5=4,1,IF(D3=\"\",\"\",D3+1))","v":1},{"$f":"IF($AH$5=5,1,IF(E3=\"\",\"\",E3+1))","v":2},{"$f":"IF($AH$5=6,1,IF(F3=\"\",\"\",F3+1))","v":3},null,null,5,null,null,null,null,null,null,null,null,null,null,null,{"$f":"IF($AH$7=0,1,\"\")","v":""},{"$f":"IF($AH$7=1,1,IF(V3=\"\",\"\",V3+1))","v":""},{"$f":"IF($AH$7=2,1,IF(W3=\"\",\"\",W3+1))","v":1},{"$f":"IF($AH$7=3,1,IF(X3=\"\",\"\",X3+1))","v":2},{"$f":"IF($AH$7=4,1,IF(Y3=\"\",\"\",Y3+1))","v":3},{"$f":"IF($AH$7=5,1,IF(Z3=\"\",\"\",Z3+1))","v":4},{"$f":"IF($AH$7=6,1,IF(AA3=\"\",\"\",AA3+1))","v":5},null,null,null,null,{"$f":"入力部!J3","v":2021},{"$f":"IF(AG3<2019,AG3-2000+12,IF(AG3-2018=1,\"元\",AG3-2018))","v":3}]
[{"$f":"G3+1","v":4},{"$f":"A4+1","v":5},6,7,8,9,10,null,null,null,null,null,null,null,null,null,null,null,null,null,null,{"$f":"AB3+1","v":6},{"$f":"V4+1","v":7},8,9,10,11,12,null,null,null,null,"曜日計算"]
[{"$f":"G4+1","v":11},12,13,14,15,16,17,null,null,null,null,null,null,null,null,null,null,null,null,null,null,{"$f":"AB4+1","v":13},14,15,16,17,18,19,null,null,null,null,"前月",{"$f":"入力部!D21","v":4}]
[{"$f":"G5+1","v":18},19,20,21,22,23,24,null,null,null,null,null,null,null,null,null,null,null,null,null,null,{"$f":"AB5+1","v":20},21,22,23,24,25,26,null,null,null,null,"当月",{"$f":"入力部!D22","v":6}]
[{"$f":"G6+1","v":25},{"$f":"A7+1","v":26},{"$f":"IF(B7=30,\"\",IF(B7=\"\",\"\",B7+1))","v":27},{"$f":"IF(C7=30,\"\",IF(C7=\"\",\"\",C7+1))","v":28},{"$f":"IF(D7=30,\"\",IF(D7=\"\",\"\",D7+1))","v":29},{"$f":"IF(E7=30,\"\",IF(E7=\"\",\"\",E7+1))","v":30},"",null,null,null,null,null,null,null,null,null,null,null,null,null,null,{"$f":"AB6+1","v":27},{"$f":"V7+1","v":28},{"$f":"IF(W7=30,\"\",IF(W7=\"\",\"\",W7+1))","v":29},{"$f":"IF(X7=30,\"\",IF(X7=\"\",\"\",X7+1))","v":30},{"$f":"IF(Y7=30,\"\",IF(Y7=\"\",\"\",Y7+1))","v":""},{"$f":"IF(Z7=30,\"\",IF(Z7=\"\",\"\",Z7+1))","v":""},"",null,null,null,null,"次月",{"$f":"入力部!D23","v":2}]
[{"$f":"IF(G7=30,\"\",IF(G7=\"\",\"\",G7+1))","v":""},{"$f":"IF(A8=30,\"\",IF(A8=\"\",\"\",A8+1))","v":""},{"$f":"IF(B8=30,\"\",IF(B8=\"\",\"\",B8+1))","v":""},{"$f":"IF(C8=30,\"\",IF(C8=\"\",\"\",C8+1))","v":""},"","","",null,null,null,null,null,{"$f":"IF(入力部!$T$17=\"\",\"\",入力部!$T$17&\"／\")","v":"しんちゅう／"},{"$f":"IF(入力部!$S$17=\"\",\"\",入力部!$S$17)","v":"辛丑"},null,{"$f":"IF(入力部!$U$17=\"\",\"\",\"／\"&入力部!$U$17)","v":"／かのとうし"},null,null,null,null,null,{"$f":"IF(AB7=30,\"\",IF(AB7=\"\",\"\",AB7+1))","v":""},{"$f":"IF(V8=30,\"\",IF(V8=\"\",\"\",V8+1))","v":""},{"$f":"IF(W8=30,\"\",IF(W8=\"\",\"\",W8+1))","v":""},{"$f":"IF(X8=30,\"\",IF(X8=\"\",\"\",X8+1))","v":""},"","",""]
["ＳＵＮ",null,null,null,"ＭＯＮ",null,null,null,"ＴＵＥ",null,null,null,"ＷＥＤ",null,null,null,"ＴＨＵ",null,null,null,"ＦＲＩ",null,null,null,"ＳＡＴ",null,null,null,null,null,null,null,"祝日データ"]
[{"$f":"IF($AH$6=0,1,\"\")","v":""},{"$f":"IF(Z14=1,1,IF(A10=\"\",\"\",A10+1))","v":""},{"$f":"IF(Z14=2,1,IF(B10=\"\",\"\",B10+1))","v":""},{"$f":"IF(Z14=3,1,IF(C10=\"\",\"\",C10+1))","v":""},{"$f":"IF($AH$6=1,1,IF(A10=\"\",\"\",A10+1))","v":""},null,null,null,{"$f":"IF($AH$6=2,1,IF(E10=\"\",\"\",E10+1))","v":""},null,null,null,{"$f":"IF($AH$6=3,1,IF(I10=\"\",\"\",I10+1))","v":""},null,null,null,{"$f":"IF($AH$6=4,1,IF(M10=\"\",\"\",M10+1))","v":""},null,null,null,{"$f":"IF($AH$6=5,1,IF(Q10=\"\",\"\",Q10+1))","v":""},null,null,null,{"$f":"IF($AH$6=6,1,IF(U10=\"\",\"\",U10+1))","v":1},null,null,null,null,null,null,null,"憲法記念日"]
[{"$f":"IF(Z15=0,1,\"\")","v":1},{"$f":"IF(Z15=1,1,IF(A11=\"\",\"\",A11+1))","v":2},{"$f":"IF(Z15=2,1,IF(B11=\"\",\"\",B11+1))","v":3},{"$f":"IF(Z15=3,1,IF(C11=\"\",\"\",C11+1))","v":4},null,null,null,null,null,null,null,null,null,null,null,null,null,null,null,null,null,null,null,null,null,null,null,null,null,null,null,null,"5月3日 日本国憲法の施行を記念し、国の成長を期する。"]
[{"$f":"IF(Z16=0,1,\"\")","v":1},{"$f":"IF(Z16=1,1,IF(A12=\"\",\"\",A12+1))","v":2},{"$f":"IF(Z16=2,1,IF(B12=\"\",\"\",B12+1))","v":3},{"$f":"IF(Z16=3,1,IF(C12=\"\",\"\",C12+1))","v":4},null,null,null,null,null,null,null,null,null,null,null,null,null,null,null,null,null,null,null,null,null,null,null,null,null,null,null,null,"みどりの日"]
[null,null,null,null,null,null,null,null,null,null,null,null,null,null,null,null,null,null,null,null,null,null,null,null,null,null,null,null,null,null,null,null,"5月4日 自然に親しむとともにその恩恵に感謝し、豊かな心をはぐくむ。"]
[null,null,null,null,null,null,null,null,{"$f":"IF(I10=3,\"憲法記念日\",IF(I10=4,\"みどりの日\",IF(I10=5,\"こどもの日\",\"\")))","v":""},null,null,null,{"$f":"IF(M10=3,\"憲法記念日\",IF(M10=4,\"みどりの日\",IF(M10=5,\"こどもの日\",IF($AG$3=2019,\"即位の日\",\"\"))))","v":""},null,null,null,{"$f":"IF(Q10=3,\"憲法記念日\",IF(Q10=4,\"みどりの日\",IF(Q10=5,\"こどもの日\",IF($AG$3=2019,\"国民の休日\",\"\"))))","v":""},null,null,null,{"$f":"IF(U10=3,\"憲法記念日\",IF(U10=4,\"みどりの日\",IF(U10=5,\"こどもの日\",\"\")))","v":""},null,null,null,{"$f":"IF(Y10=3,\"憲法記念日\",IF(Y10=4,\"みどりの日\",IF(Y10=5,\"こどもの日\",\"\")))","v":""},null,null,null,null,null,null,null,"こどもの日"]
[{"$f":"$Y10+1","v":2},null,null,null,{"$f":"A$15+1","v":3},null,null,null,{"$f":"E$15+1","v":4},null,null,null,{"$f":"I$15+1","v":5},null,null,null,{"$f":"M$15+1","v":6},null,null,null,{"$f":"Q$15+1","v":7},null,null,null,{"$f":"U$15+1","v":8},null,null,null,null,null,null,null,"5月5日 こどもの人格を重んじ、こどもの幸福をはかるとともに、母に感謝する。"]
[]
[]
[]
[{"$f":"IF(A15=3,\"憲法記念日\",IF(A15=4,\"みどりの日\",IF(A15=5,\"こどもの日\",\"\")))","v":""},null,null,null,{"$f":"IF(E15=3,\"憲法記念日\",IF(E15=4,\"みどりの日\",IF(E15=5,\"こどもの日\",IF(E15=6,\"振替休日\",\"\"))))","v":"憲法記念日"},null,null,null,{"$f":"IF(I15=3,\"憲法記念日\",IF(I15=4,\"みどりの日\",IF(I15=5,\"こどもの日\",IF(I15=6,\"振替休日\",\"\"))))","v":"みどりの日"},null,null,null,{"$f":"IF(M15=3,\"憲法記念日\",IF(M15=4,\"みどりの日\",IF(M15=5,\"こどもの日\",IF(M15=6,\"振替休日\",\"\"))))","v":"こどもの日"}]
[{"$f":"$Y15+1","v":9},null,null,null,{"$f":"A20+1","v":10},null,null,null,{"$f":"E20+1","v":11},null,null,null,{"$f":"I20+1","v":12},null,null,null,{"$f":"M20+1","v":13},null,null,null,{"$f":"Q20+1","v":14},null,null,null,{"$f":"U20+1","v":15}]
[]
[]
[]
[]
[{"$f":"$Y20+1","v":16},null,null,null,{"$f":"A25+1","v":17},null,null,null,{"$f":"E25+1","v":18},null,null,null,{"$f":"I25+1","v":19},null,null,null,{"$f":"M25+1","v":20},null,null,null,{"$f":"Q25+1","v":21},null,null,null,{"$f":"U25+1","v":22}]
[]
[]
[]
[]
[{"$f":"$Y25+1","v":23},null,null,null,{"$f":"A30+1","v":24},null,null,null,{"$f":"IF(E30=31,\"\",IF(E30=\"\",\"\",E30+1))","v":25},null,null,null,{"$f":"IF(I30=31,\"\",IF(I30=\"\",\"\",I30+1))","v":26},null,null,null,{"$f":"IF(M30=31,\"\",IF(M30=\"\",\"\",M30+1))","v":27},null,null,null,{"$f":"IF(Q30=31,\"\",IF(Q30=\"\",\"\",Q30+1))","v":28},null,null,null,{"$f":"IF(U30=31,\"\",IF(U30=\"\",\"\",U30+1))","v":29}]
[]
[]
[]
[]
[{"$f":"IF(Y30=31,\"\",IF(Y30=\"\",\"\",Y30+1))","v":30},null,null,null,{"$f":"IF(A35=31,\"\",IF(A35=\"\",\"\",A35+1))","v":31},null,null,null,{"$f":"IF(E35=31,\"\",IF(E35=\"\",\"\",E35+1))","v":""},null,null,null,{"$f":"IF(I35=31,\"\",IF(I35=\"\",\"\",I35+1))","v":""},null,null,null,{"$f":"IF(M35=31,\"\",IF(M35=\"\",\"\",M35+1))","v":""}]
[null,null,null,null,null,null,null,null,null,null,null,null,null,null,null,null,null,null,null,null,"皐　月"]
[]
[null,null,null,null,null,null,null,null,null,null,null,null,null,null,null,null,null,null,null,null,"May"]
[]
[null,null,null,null,null,null,null,null,null,null,null,null,null,null,null,null,null,null,null,null,null,null,null,null,null,null,null,"Jan. 8th 2011  - nasutaworks(AN2)"]

{"sheet":"6","index":6,"n_rows":40,"n_cols":34,"rows_kept":40,"cut":false,"hidden":false,"merged":[[7,13,7,14],[35,20,36,27],[37,20,38,27],[1,2,1,4],[1,23,1,25],[1,10,1,17],[2,9,6,18],[14,0,16,3],[14,4,16,7],[13,0,13,3],[13,4,13,7],[8,20,8,23],[8,24,8,27],[9,24,11,27],[9,16,11,19],[9,20,11,23],[13,8,13,11],[13,12,13,15],[13,16,13,19],[8,0,8,3],[8,4,8,7],[8,8,8,11],[8,16,8,19],[9,0,11,3],[9,4,11,7],[9,8,11,11],[9,12,11,15],[8,12,8,15],[24,16,26,19],[24,20,26,23],[24,24,26,27],[14,8,16,11],[14,12,16,15],[14,16,16,19],[19,16,21,19],[19,20,21,23],[19,24,21,27],[23,24,23,27],[19,4,21,7],[19,8,21,11],[19,12,21,15],[29,12,31,15],[24,0,26,3],[24,4,26,7],[24,8,26,11],[29,24,31,27],[34,0,36,3],[34,4,36,7],[34,8,36,11],[34,12,36,15],[34,16,36,19],[29,0,31,3],[33,0,33,3],[33,20,33,23],[33,24,33,27],[29,4,31,7],[13,20,13,23],[13,24,13,27],[18,16,18,19],[18,20,18,23],[18,24,18,27],[14,24,16,27],[14,20,16,23],[28,24,28,27],[23,0,23,3],[23,4,23,7],[23,16,23,19],[23,20,23,23],[23,8,23,11],[23,12,23,15],[28,0,28,3],[28,4,28,7],[18,0,18,3],[18,4,18,7],[18,8,18,11],[18,12,18,15],[24,12,26,15],[19,0,21,3],[33,4,33,7],[28,8,28,11],[28,20,28,23],[28,12,28,15],[29,16,31,19],[29,20,31,23],[33,8,33,11],[33,12,33,15],[28,16,28,19],[29,8,31,11],[33,16,33,19],[38,0,38,3],[38,4,38,7],[38,8,38,11],[38,12,38,15],[38,16,38,19]]}
[null,null,null,null,null,null,null,null,null,null,null,null,null,null,null,null,null,null,null,null,null,null,null,null,null,null,null,null,null,null,null,null,"設定部",{"$f":"IF(AG3<2019,入力部!R20,入力部!R21)","v":"令和"}]
[null,null,"５月",null,null,null,null,null,null,null,{"$f":"IF(AH1=0,DBCS(AG3)&\"年\",DBCS(AG3)&\"年 ／ \"&AH1&DBCS(AH3)&\"年\")","v":"２０２１年 ／ 令和３年"},null,null,null,null,null,null,null,null,null,null,null,null,"７月",null,null,null,null,null,null,null,null,"西暦","和暦"]
[{"$f":"IF($AH$5=0,1,\"\")","v":""},{"$f":"IF($AH$5=1,1,IF(A3=\"\",\"\",A3+1))","v":""},{"$f":"IF($AH$5=2,1,IF(B3=\"\",\"\",B3+1))","v":""},{"$f":"IF($AH$5=3,1,IF(C3=\"\",\"\",C3+1))","v":""},{"$f":"IF($AH$5=4,1,IF(D3=\"\",\"\",D3+1))","v":""},{"$f":"IF($AH$5=5,1,IF(E3=\"\",\"\",E3+1))","v":""},{"$f":"IF($AH$5=6,1,IF(F3=\"\",\"\",F3+1))","v":1},null,null,6,null,null,null,null,null,null,null,null,null,null,null,{"$f":"IF($AH$7=0,1,\"\")","v":""},{"$f":"IF($AH$7=1,1,IF(V3=\"\",\"\",V3+1))","v":""},{"$f":"IF($AH$7=2,1,IF(W3=\"\",\"\",W3+1))","v":""},{"$f":"IF($AH$7=3,1,IF(X3=\"\",\"\",X3+1))","v":""},{"$f":"IF($AH$7=4,1,IF(Y3=\"\",\"\",Y3+1))","v":1},{"$f":"IF($AH$7=5,1,IF(Z3=\"\",\"\",Z3+1))","v":2},{"$f":"IF($AH$7=6,1,IF(AA3=\"\",\"\",AA3+1))","v":3},null,null,null,null,{"$f":"入力部!J3","v":2021},{"$f":"IF(AG3<2019,AG3-2000+12,IF(AG3-2018=1,\"元\",AG3-2018))","v":3}]
[{"$f":"G3+1","v":2},{"$f":"A4+1","v":3},4,5,6,7,8,null,null,null,null,null,null,null,null,null,null,null,null,null,null,{"$f":"AB3+1","v":4},{"$f":"V4+1","v":5},6,7,8,9,10,null,null,null,null,"曜日計算"]
[{"$f":"G4+1","v":9},10,11,12,13,14,15,null,null,null,null,null,null,null,null,null,null,null,null,null,null,{"$f":"AB4+1","v":11},12,13,14,15,16,17,null,null,null,null,"前月",{"$f":"入力部!D22","v":6}]
[{"$f":"G5+1","v":16},17,18,19,20,21,22,null,null,null,null,null,null,null,null,null,null,null,null,null,null,{"$f":"AB5+1","v":18},19,20,21,22,23,24,null,null,null,null,"当月",{"$f":"入力部!D23","v":2}]
[{"$f":"G6+1","v":23},{"$f":"A7+1","v":24},{"$f":"IF(B7=31,\"\",IF(B7=\"\",\"\",B7+1))","v":25},26,27,28,29,null,null,null,null,null,null,null,null,null,null,null,null,null,null,{"$f":"AB6+1","v":25},{"$f":"V7+1","v":26},{"$f":"IF(W7=31,\"\",IF(W7=\"\",\"\",W7+1))","v":27},28,29,30,31,null,null,null,null,"次月",{"$f":"入力部!D24","v":4}]
[{"$f":"IF(G7=31,\"\",IF(G7=\"\",\"\",G7+1))","v":30},{"$f":"IF(A8=31,\"\",IF(A8=\"\",\"\",A8+1))","v":31},"","","","","",null,null,null,null,null,{"$f":"IF(入力部!$T$17=\"\",\"\",入力部!$T$17&\"／\")","v":"しんちゅう／"},{"$f":"IF(入力部!$S$17=\"\",\"\",入力部!$S$17)","v":"辛丑"},null,{"$f":"IF(入力部!$U$17=\"\",\"\",\"／\"&入力部!$U$17)","v":"／かのとうし"},null,null,null,null,null,{"$f":"IF(AB7=31,\"\",IF(AB7=\"\",\"\",AB7+1))","v":""},{"$f":"IF(V8=31,\"\",IF(V8=\"\",\"\",V8+1))","v":""},"","","","",""]
["ＳＵＮ",null,null,null,"ＭＯＮ",null,null,null,"ＴＵＥ",null,null,null,"ＷＥＤ",null,null,null,"ＴＨＵ",null,null,null,"ＦＲＩ",null,null,null,"ＳＡＴ",null,null,null,null,null,null,null,"祝日データ"]
[{"$f":"IF($AH$6=0,1,\"\")","v":""},{"$f":"IF(Z14=1,1,IF(A10=\"\",\"\",A10+1))","v":""},{"$f":"IF(Z14=2,1,IF(B10=\"\",\"\",B10+1))","v":""},{"$f":"IF(Z14=3,1,IF(C10=\"\",\"\",C10+1))","v":""},{"$f":"IF($AH$6=1,1,IF(A10=\"\",\"\",A10+1))","v":""},null,null,null,{"$f":"IF($AH$6=2,1,IF(E10=\"\",\"\",E10+1))","v":1},null,null,null,{"$f":"IF($AH$6=3,1,IF(I10=\"\",\"\",I10+1))","v":2},null,null,null,{"$f":"IF($AH$6=4,1,IF(M10=\"\",\"\",M10+1))","v":3},null,null,null,{"$f":"IF($AH$6=5,1,IF(Q10=\"\",\"\",Q10+1))","v":4},null,null,null,{"$f":"IF($AH$6=6,1,IF(U10=\"\",\"\",U10+1))","v":5}]
[{"$f":"IF(Z15=0,1,\"\")","v":1},{"$f":"IF(Z15=1,1,IF(A11=\"\",\"\",A11+1))","v":2},{"$f":"IF(Z15=2,1,IF(B11=\"\",\"\",B11+1))","v":3},{"$f":"IF(Z15=3,1,IF(C11=\"\",\"\",C11+1))","v":4}]
[{"$f":"IF(Z16=0,1,\"\")","v":1},{"$f":"IF(Z16=1,1,IF(A12=\"\",\"\",A12+1))","v":2},{"$f":"IF(Z16=2,1,IF(B12=\"\",\"\",B12+1))","v":3},{"$f":"IF(Z16=3,1,IF(C12=\"\",\"\",C12+1))","v":4}]
[]
[]
[{"$f":"$Y10+1","v":6},null,null,null,{"$f":"A$15+1","v":7},null,null,null,{"$f":"E$15+1","v":8},null,null,null,{"$f":"I$15+1","v":9},null,null,null,{"$f":"M$15+1","v":10},null,null,null,{"$f":"Q$15+1","v":11},null,null,null,{"$f":"U$15+1","v":12}]
[]
[]
[]
[]
[{"$f":"$Y15+1","v":13},null,null,null,{"$f":"A20+1","v":14},null,null,null,{"$f":"E20+1","v":15},null,null,null,{"$f":"I20+1","v":16},null,null,null,{"$f":"M20+1","v":17},null,null,null,{"$f":"Q20+1","v":18},null,null,null,{"$f":"U20+1","v":19}]
[]
[]
[]
[]
[{"$f":"$Y20+1","v":20},null,null,null,{"$f":"A25+1","v":21},null,null,null,{"$f":"E25+1","v":22},null,null,null,{"$f":"I25+1","v":23},null,null,null,{"$f":"M25+1","v":24},null,null,null,{"$f":"Q25+1","v":25},null,null,null,{"$f":"U25+1","v":26}]
[]
[]
[]
[]
[{"$f":"$Y25+1","v":27},null,null,null,{"$f":"A30+1","v":28},null,null,null,{"$f":"IF(E30=30,\"\",IF(E30=\"\",\"\",E30+1))","v":29},null,null,null,{"$f":"IF(I30=30,\"\",IF(I30=\"\",\"\",I30+1))","v":30},null,null,null,{"$f":"IF(M30=30,\"\",IF(M30=\"\",\"\",M30+1))","v":""},null,null,null,{"$f":"IF(Q30=30,\"\",IF(Q30=\"\",\"\",Q30+1))","v":""},null,null,null,{"$f":"IF(U30=30,\"\",IF(U30=\"\",\"\",U30+1))","v":""}]
[]
[]
[]
[]
[{"$f":"IF(Y30=30,\"\",IF(Y30=\"\",\"\",Y30+1))","v":""},null,null,null,{"$f":"IF(A35=30,\"\",IF(A35=\"\",\"\",A35+1))","v":""},null,null,null,{"$f":"IF(E35=30,\"\",IF(E35=\"\",\"\",E35+1))","v":""},null,null,null,{"$f":"IF(I35=30,\"\",IF(I35=\"\",\"\",I35+1))","v":""},null,null,null,{"$f":"IF(M35=30,\"\",IF(M35=\"\",\"\",M35+1))","v":""}]
[null,null,null,null,null,null,null,null,null,null,null,null,null,null,null,null,null,null,null,null,"水無月"]
[]
[null,null,null,null,null,null,null,null,null,null,null,null,null,null,null,null,null,null,null,null,"June"]
[]
[null,null,null,null,null,null,null,null,null,null,null,null,null,null,null,null,null,null,null,null,null,null,null,null,null,null,null,"Jan. 8th 2011  - nasutaworks(AN2)"]

{"sheet":"7","index":7,"n_rows":40,"n_cols":44,"rows_kept":40,"cut":false,"hidden":false,"merged":[[34,0,36,3],[1,39,1,41],[7,13,7,14],[35,20,36,27],[37,20,38,27],[33,0,33,3],[19,0,21,3],[33,24,33,27],[28,0,28,3],[33,12,33,15],[33,16,33,19],[38,0,38,3],[38,4,38,7],[38,8,38,11],[38,12,38,15],[38,16,38,19],[29,0,31,3],[29,4,31,7],[24,16,26,19],[33,20,33,23],[28,16,28,19],[33,4,33,7],[33,8,33,11],[24,0,26,3],[28,8,28,11],[28,12,28,15],[28,4,28,7],[24,8,26,11],[34,4,36,7],[34,8,36,11],[34,12,36,15],[34,16,36,19],[18,24,18,27],[18,8,18,11],[18,12,18,15],[23,24,23,27],[23,8,23,11],[23,12,23,15],[24,20,26,23],[19,20,21,23],[18,4,18,7],[19,8,21,11],[19,12,21,15],[19,4,21,7],[29,24,31,27],[28,20,28,23],[28,24,28,27],[19,16,21,19],[18,20,18,23],[23,20,23,23],[23,16,23,19],[24,24,26,27],[19,24,21,27],[18,16,18,19],[29,8,31,11],[29,12,31,15],[29,16,31,19],[29,20,31,23],[14,0,16,3],[14,4,16,7],[14,8,16,11],[14,12,16,15],[24,4,26,7],[23,0,23,3],[23,4,23,7],[24,12,26,15],[18,0,18,3],[9,20,11,23],[9,24,11,27],[14,16,16,19],[14,20,16,23],[14,24,16,27],[9,16,11,19],[13,20,13,23],[13,24,13,27],[13,16,13,19],[13,0,13,3],[8,12,8,15],[9,0,11,3],[9,4,11,7],[9,8,11,11],[9,12,11,15],[13,4,13,7],[13,8,13,11],[13,12,13,15],[1,2,1,4],[1,23,1,25],[1,10,1,17],[8,0,8,3],[8,4,8,7],[8,8,8,11],[8,16,8,19],[8,20,8,23],[8,24,8,27],[2,9,6,18]]}
[null,null,null,null,null,null,null,null,null,null,null,null,null,null,null,null,null,null,null,null,null,null,null,null,null,null,null,null,null,null,null,null,"設定部",{"$f":"IF(AG3<2019,入力部!R20,入力部!R21)","v":"令和"},null,null,null,"2016以降山の日対応ダミー部"]
[null,null,"６月",null,null,null,null,null,null,null,{"$f":"IF(AH1=0,DBCS(AG3)&\"年\",DBCS(AG3)&\"年 ／ \"&AH1&DBCS(AH3)&\"年\")","v":"２０２１年 ／ 令和３年"},null,null,null,null,null,null,null,null,null,null,null,null,"８月",null,null,null,null,null,null,null,null,"西暦","和暦",null,null,null,null,null,"８月"]
[{"$f":"IF($AH$5=0,1,\"\")","v":""},{"$f":"IF($AH$5=1,1,IF(A3=\"\",\"\",A3+1))","v":""},{"$f":"IF($AH$5=2,1,IF(B3=\"\",\"\",B3+1))","v":1},{"$f":"IF($AH$5=3,1,IF(C3=\"\",\"\",C3+1))","v":2},{"$f":"IF($AH$5=4,1,IF(D3=\"\",\"\",D3+1))","v":3},{"$f":"IF($AH$5=5,1,IF(E3=\"\",\"\",E3+1))","v":4},{"$f":"IF($AH$5=6,1,IF(F3=\"\",\"\",F3+1))","v":5},null,null,7,null,null,null,null,null,null,null,null,null,null,null,{"$f":"IF(ISBLANK(AL3),\"\",AL3)","v":1},{"$f":"IF(ISBLANK(AM3),\"\",AM3)","v":2},3,4,5,6,7,null,null,null,null,{"$f":"入力部!J3","v":2021},{"$f":"IF(AG3<2019,AG3-2000+12,IF(AG3-2018=1,\"元\",AG3-2018))","v":3},null,null,null,{"$f":"IF($AH$7=0,1,\"\")","v":1},{"$f":"IF($AH$7=1,1,IF(AL3=\"\",\"\",AL3+1))","v":2},{"$f":"IF($AH$7=2,1,IF(AM3=\"\",\"\",AM3+1))","v":3},{"$f":"IF($AH$7=3,1,IF(AN3=\"\",\"\",AN3+1))","v":4},{"$f":"IF($AH$7=4,1,IF(AO3=\"\",\"\",AO3+1))","v":5},{"$f":"IF($AH$7=5,1,IF(AP3=\"\",\"\",AP3+1))","v":6},{"$f":"IF($AH$7=6,1,IF(AQ3=\"\",\"\",AQ3+1))","v":7}]
[{"$f":"G3+1","v":6},{"$f":"A4+1","v":7},8,9,10,11,12,null,null,null,null,null,null,null,null,null,null,null,null,null,null,8,9,10,{"$f":"IF(ISBLANK(AO4),\"\",IF(AO4=11,IF($AG$3<2016,\" \"&AO4,AO4),AO4))","v":11},{"$f":"IF(ISBLANK(AP4),\"\",IF(AP4=11,IF($AG$3<2016,\" \"&AP4,AP4),AP4))","v":12},{"$f":"IF(ISBLANK(AQ4),\"\",IF(AQ4=11,IF($AG$3<2016,\" \"&AQ4,AQ4),AQ4))","v":13},{"$f":"IF(ISBLANK(AR4),\"\",IF(AR4=11,IF($AG$3<2016,\" \"&AR4,AR4),AR4))","v":14},null,null,null,null,"曜日計算",null,null,null,null,{"$f":"AR3+1","v":8},{"$f":"AL4+1","v":9},10,11,12,13,14]
[{"$f":"G4+1","v":13},14,15,16,17,18,19,null,null,null,null,null,null,null,null,null,null,null,null,null,null,15,{"$f":"IF(ISBLANK(AM5),\"\",IF(AM5=11,IF($AG$3<2016,\" \"&AM5,AM5),AM5))","v":16},{"$f":"IF(ISBLANK(AN5),\"\",IF(AN5=11,IF($AG$3<2016,\" \"&AN5,AN5),AN5))","v":17},18,19,20,21,null,null,null,null,"前月",{"$f":"入力部!D23","v":2},null,null,null,{"$f":"AR4+1","v":15},16,17,18,19,20,21]
[{"$f":"G5+1","v":20},21,22,23,24,25,26,null,null,null,null,null,null,null,null,null,null,null,null,null,null,22,23,24,25,26,27,28,null,null,null,null,"当月",{"$f":"入力部!D24","v":4},null,null,null,{"$f":"AR5+1","v":22},23,24,25,26,27,28]
[{"$f":"G6+1","v":27},{"$f":"A7+1","v":28},{"$f":"IF(B7=30,\"\",IF(B7=\"\",\"\",B7+1))","v":29},30,"","","",null,null,null,null,null,null,null,null,null,null,null,null,null,null,29,30,31,"","","","",null,null,null,null,"次月",{"$f":"入力部!D25","v":0},null,null,null,{"$f":"AR6+1","v":29},{"$f":"AL7+1","v":30},{"$f":"IF(AM7=31,\"\",IF(AM7=\"\",\"\",AM7+1))","v":31},"","","",""]
[{"$f":"IF(G7=30,\"\",IF(G7=\"\",\"\",G7+1))","v":""},{"$f":"IF(A8=30,\"\",IF(A8=\"\",\"\",A8+1))","v":""},"","","","","",null,null,null,null,null,{"$f":"IF(入力部!$T$17=\"\",\"\",入力部!$T$17&\"／\")","v":"しんちゅう／"},{"$f":"IF(入力部!$S$17=\"\",\"\",入力部!$S$17)","v":"辛丑"},null,{"$f":"IF(入力部!$U$17=\"\",\"\",\"／\"&入力部!$U$17)","v":"／かのとうし"},null,null,null,null,null,"","","","","","","",null,null,null,null,null,null,null,null,null,{"$f":"IF(AR7=31,\"\",IF(AR7=\"\",\"\",AR7+1))","v":""},{"$f":"IF(AL8=31,\"\",IF(AL8=\"\",\"\",AL8+1))","v":""},"","","","",""]
["ＳＵＮ",null,null,null,"ＭＯＮ",null,null,null,"ＴＵＥ",null,null,null,"ＷＥＤ",null,null,null,"ＴＨＵ",null,null,null,"ＦＲＩ",null,null,null,"ＳＡＴ",null,null,null,null,null,null,null,"祝日データ"]
[{"$f":"IF($AH$6=0,1,\"\")","v":""},{"$f":"IF(Z14=1,1,IF(A10=\"\",\"\",A10+1))","v":""},{"$f":"IF(Z14=2,1,IF(B10=\"\",\"\",B10+1))","v":""},{"$f":"IF(Z14=3,1,IF(C10=\"\",\"\",C10+1))","v":""},{"$f":"IF($AH$6=1,1,IF(A10=\"\",\"\",A10+1))","v":""},null,null,null,{"$f":"IF($AH$6=2,1,IF(E10=\"\",\"\",E10+1))","v":""},null,null,null,{"$f":"IF($AH$6=3,1,IF(I10=\"\",\"\",I10+1))","v":""},null,null,null,{"$f":"IF($AH$6=4,1,IF(M10=\"\",\"\",M10+1))","v":1},null,null,null,{"$f":"IF($AH$6=5,1,IF(Q10=\"\",\"\",Q10+1))","v":2},null,null,null,{"$f":"IF($AH$6=6,1,IF(U10=\"\",\"\",U10+1))","v":3},null,null,null,null,null,null,null,"海の日"]
[{"$f":"IF(Z15=0,1,\"\")","v":1},{"$f":"IF(Z15=1,1,IF(A11=\"\",\"\",A11+1))","v":2},{"$f":"IF(Z15=2,1,IF(B11=\"\",\"\",B11+1))","v":3},{"$f":"IF(Z15=3,1,IF(C11=\"\",\"\",C11+1))","v":4},null,null,null,null,null,null,null,null,null,null,null,null,null,null,null,null,null,null,null,null,null,null,null,null,null,null,null,null,"7月の第3月曜日 海の恩恵に感謝するとともに、海洋国日本の繁栄を願う。"]
[{"$f":"IF(Z16=0,1,\"\")","v":1},{"$f":"IF(Z16=1,1,IF(A12=\"\",\"\",A12+1))","v":2},{"$f":"IF(Z16=2,1,IF(B12=\"\",\"\",B12+1))","v":3},{"$f":"IF(Z16=3,1,IF(C12=\"\",\"\",C12+1))","v":4}]
[]
[]
[{"$f":"$Y10+1","v":4},null,null,null,{"$f":"A$15+1","v":5},null,null,null,{"$f":"E$15+1","v":6},null,null,null,{"$f":"I$15+1","v":7},null,null,null,{"$f":"M$15+1","v":8},null,null,null,{"$f":"Q$15+1","v":9},null,null,null,{"$f":"U$15+1","v":10}]
[]
[]
[]
[]
[{"$f":"$Y15+1","v":11},null,null,null,{"$f":"A20+1","v":12},null,null,null,{"$f":"E20+1","v":13},null,null,null,{"$f":"I20+1","v":14},null,null,null,{"$f":"M20+1","v":15},null,null,null,{"$f":"Q20+1","v":16},null,null,null,{"$f":"U20+1","v":17}]
[]
[]
[]
[null,null,null,null,{"$f":"IF(E20=15,\"海 の 日\",IF(E20=16,\"海 の 日\",\"\"))","v":""}]
[{"$f":"$Y20+1","v":18},null,null,null,{"$f":"A25+1","v":19},null,null,null,{"$f":"E25+1","v":20},null,null,null,{"$f":"I25+1","v":21},null,null,null,{"$f":"M25+1","v":22},null,null,null,{"$f":"Q25+1","v":23},null,null,null,{"$f":"U25+1","v":24}]
[]
[]
[]
[null,null,null,null,{"$f":"IF(OR(AG3=2020,AG3=2021),\"\",IF(E25<17,\"\",IF(21<E25,\"\",\"海 の 日\")))","v":""},null,null,null,null,null,null,null,null,null,null,null,{"$f":"IF(OR($AG$3=2020,$AG$3=2021),\"海 の 日\",\"\")","v":"海 の 日"},null,null,null,{"$f":"IF(OR($AG$3=2020,$AG$3=2021),\"スポーツの日\",\"\")","v":"スポーツの日"}]
[{"$f":"$Y25+1","v":25},null,null,null,{"$f":"A30+1","v":26},null,null,null,{"$f":"IF(E30=31,\"\",IF(E30=\"\",\"\",E30+1))","v":27},null,null,null,{"$f":"IF(I30=31,\"\",IF(I30=\"\",\"\",I30+1))","v":28},null,null,null,{"$f":"IF(M30=31,\"\",IF(M30=\"\",\"\",M30+1))","v":29},null,null,null,{"$f":"IF(Q30=31,\"\",IF(Q30=\"\",\"\",Q30+1))","v":30},null,null,null,{"$f":"IF(U30=31,\"\",IF(U30=\"\",\"\",U30+1))","v":31}]
[]
[]
[]
[]
[{"$f":"IF(Y30=31,\"\",IF(Y30=\"\",\"\",Y30+1))","v":""},null,null,null,{"$f":"IF(A35=31,\"\",IF(A35=\"\",\"\",A35+1))","v":""},null,null,null,{"$f":"IF(E35=31,\"\",IF(E35=\"\",\"\",E35+1))","v":""},null,null,null,{"$f":"IF(I35=31,\"\",IF(I35=\"\",\"\",I35+1))","v":""},null,null,null,{"$f":"IF(M35=31,\"\",IF(M35=\"\",\"\",M35+1))","v":""}]
[null,null,null,null,null,null,null,null,null,null,null,null,null,null,null,null,null,null,null,null,"文　月"]
[]
[null,null,null,null,null,null,null,null,null,null,null,null,null,null,null,null,null,null,null,null,"July"]
[]
[null,null,null,null,null,null,null,null,null,null,null,null,null,null,null,null,null,null,null,null,null,null,null,null,null,null,null,"Jan. 8th 2011  - nasutaworks(AN2)"]

{"sheet":"8","index":8,"n_rows":40,"n_cols":44,"rows_kept":40,"cut":false,"hidden":false,"merged":[[9,12,11,15],[9,24,11,27],[35,20,36,27],[37,20,38,27],[14,0,16,3],[14,4,16,7],[13,0,13,3],[13,4,13,7],[1,2,1,4],[1,23,1,25],[1,10,1,17],[2,9,6,18],[8,0,8,3],[8,4,8,7],[7,13,7,14],[8,8,8,11],[8,16,8,19],[8,20,8,23],[8,24,8,27],[8,12,8,15],[9,16,11,19],[9,20,11,23],[14,16,16,19],[18,20,18,23],[14,20,16,23],[9,0,11,3],[9,4,11,7],[19,4,21,7],[19,8,21,11],[14,8,16,11],[9,8,11,11],[19,24,21,27],[29,24,31,27],[19,12,21,15],[19,20,21,23],[13,8,13,11],[13,12,13,15],[13,16,13,19],[23,24,23,27],[14,12,16,15],[24,16,26,19],[18,24,18,27],[14,24,16,27],[18,0,18,3],[18,4,18,7],[18,8,18,11],[18,12,18,15],[23,0,23,3],[19,0,21,3],[23,4,23,7],[23,8,23,11],[23,12,23,15],[24,4,26,7],[28,0,28,3],[28,4,28,7],[24,0,26,3],[24,8,26,11],[24,12,26,15],[28,8,28,11],[28,12,28,15],[38,16,38,19],[29,0,31,3],[29,4,31,7],[34,0,36,3],[34,4,36,7],[34,8,36,11],[34,12,36,15],[34,16,36,19],[33,0,33,3],[33,4,33,7],[29,8,31,11],[29,12,31,15],[29,16,31,19],[33,8,33,11],[33,12,33,15],[38,0,38,3],[38,4,38,7],[38,8,38,11],[38,12,38,15],[1,39,1,41],[33,16,33,19],[33,20,33,23],[33,24,33,27],[28,16,28,19],[28,20,28,23],[28,24,28,27],[13,20,13,23],[13,24,13,27],[24,24,26,27],[23,16,23,19],[23,20,23,23],[18,16,18,19],[19,16,21,19],[24,20,26,23],[29,20,31,23]]}
[null,null,null,null,null,null,null,null,null,null,null,null,null,null,null,null,null,null,null,null,null,null,null,null,null,null,null,null,null,null,null,null,"設定部",{"$f":"IF(AG3<2019,入力部!R20,入力部!R21)","v":"令和"},null,null,null,"秋分日対応用ダミー部"]
[null,null,"７月",null,null,null,null,null,null,null,{"$f":"IF(AH1=0,DBCS(AG3)&\"年\",DBCS(AG3)&\"年 ／ \"&AH1&DBCS(AH3)&\"年\")","v":"２０２１年 ／ 令和３年"},null,null,null,null,null,null,null,null,null,null,null,null,"９月",null,null,null,null,null,null,null,null,"西暦","和暦",null,null,null,null,null,"９月"]
[{"$f":"IF($AH$5=0,1,\"\")","v":""},{"$f":"IF($AH$5=1,1,IF(A3=\"\",\"\",A3+1))","v":""},{"$f":"IF($AH$5=2,1,IF(B3=\"\",\"\",B3+1))","v":""},{"$f":"IF($AH$5=3,1,IF(C3=\"\",\"\",C3+1))","v":""},{"$f":"IF($AH$5=4,1,IF(D3=\"\",\"\",D3+1))","v":1},{"$f":"IF($AH$5=5,1,IF(E3=\"\",\"\",E3+1))","v":2},{"$f":"IF($AH$5=6,1,IF(F3=\"\",\"\",F3+1))","v":3},null,null,8,null,null,null,null,null,null,null,null,null,null,null,{"$f":"IF(ISBLANK(AL3),\"\",AL3)","v":""},{"$f":"IF(ISBLANK(AM3),\"\",AM3)","v":""},"",1,2,3,4,null,null,null,null,{"$f":"入力部!J3","v":2021},{"$f":"IF(AG3<2019,AG3-2000+12,IF(AG3-2018=1,\"元\",AG3-2018))","v":3},null,null,null,{"$f":"IF($AH$7=0,1,\"\")","v":""},{"$f":"IF($AH$7=1,1,IF(AL3=\"\",\"\",AL3+1))","v":""},{"$f":"IF($AH$7=2,1,IF(AM3=\"\",\"\",AM3+1))","v":""},{"$f":"IF($AH$7=3,1,IF(AN3=\"\",\"\",AN3+1))","v":1},{"$f":"IF($AH$7=4,1,IF(AO3=\"\",\"\",AO3+1))","v":2},{"$f":"IF($AH$7=5,1,IF(AP3=\"\",\"\",AP3+1))","v":3},{"$f":"IF($AH$7=6,1,IF(AQ3=\"\",\"\",AQ3+1))","v":4}]
[{"$f":"G3+1","v":4},{"$f":"A4+1","v":5},6,7,8,9,10,null,null,null,null,null,null,null,null,null,null,null,null,null,null,5,{"$f":"IF(ISBLANK(AM4),\"\",AM4)","v":6},7,8,9,10,11,null,null,null,null,"曜日計算",null,null,null,null,{"$f":"AR3+1","v":5},{"$f":"AL4+1","v":6},7,8,9,10,11]
[{"$f":"G4+1","v":11},12,13,14,15,16,17,null,null,null,null,null,null,null,null,null,null,null,null,null,null,12,13,14,15,16,17,18,null,null,null,null,"前月",{"$f":"入力部!D24","v":4},null,null,null,{"$f":"AR4+1","v":12},{"$f":"AL5+1","v":13},14,15,16,17,18]
[{"$f":"G5+1","v":18},19,20,21,22,23,24,null,null,null,null,null,null,null,null,null,null,null,null,null,null,19,{"$f":"IF(ISBLANK(AM6),\"\",IF(AM6=$AH$10,\" \"&AM6,AM6))","v":20},{"$f":"IF(ISBLANK(AN6),\"\",IF(AN6=$AH$10,\" \"&AN6,IF(AO6=$AH$10,\" \"&AN6,AN6)))","v":21},22," 23",24,25,null,null,null,null,"当月",{"$f":"入力部!D25","v":0},null,null,null,{"$f":"AR5+1","v":19},{"$f":"AL6+1","v":20},21,22,23,24,25]
[{"$f":"G6+1","v":25},{"$f":"A7+1","v":26},{"$f":"IF(B7=31,\"\",IF(B7=\"\",\"\",B7+1))","v":27},28,29,30,31,null,null,null,null,null,null,null,null,null,null,null,null,null,null,26,{"$f":"IF(ISBLANK(AM7),\"\",IF(AL7=$AH$10,\" \"&AM7,AM7))","v":27},{"$f":"IF(ISBLANK(AN7),\"\",AN7)","v":28},29,30,"","",null,null,null,null,"次月",{"$f":"入力部!D26","v":3},null,null,null,{"$f":"AR6+1","v":26},{"$f":"AL7+1","v":27},{"$f":"IF(AM7=30,\"\",IF(AM7=\"\",\"\",AM7+1))","v":28},29,30,"",""]
[{"$f":"IF(G7=31,\"\",IF(G7=\"\",\"\",G7+1))","v":""},{"$f":"IF(A8=31,\"\",IF(A8=\"\",\"\",A8+1))","v":""},"","","","","",null,null,null,null,null,{"$f":"IF(入力部!$T$17=\"\",\"\",入力部!$T$17&\"／\")","v":"しんちゅう／"},{"$f":"IF(入力部!$S$17=\"\",\"\",入力部!$S$17)","v":"辛丑"},null,{"$f":"IF(入力部!$U$17=\"\",\"\",\"／\"&入力部!$U$17)","v":"／かのとうし"},null,null,null,null,null,"",{"$f":"IF(ISBLANK(AM8),\"\",AM8)","v":""},"","","","","",null,null,null,null,null,null,null,null,null,{"$f":"IF(AR7=30,\"\",IF(AR7=\"\",\"\",AR7+1))","v":""},{"$f":"IF(AL8=30,\"\",IF(AL8=\"\",\"\",AL8+1))","v":""},"","","","",""]
["ＳＵＮ",null,null,null,"ＭＯＮ",null,null,null,"ＴＵＥ",null,null,null,"ＷＥＤ",null,null,null,"ＴＨＵ",null,null,null,"ＦＲＩ",null,null,null,"ＳＡＴ",null,null,null,null,null,null,null,"祝日データ"]
[{"$f":"IF($AH$6=0,1,\"\")","v":1},{"$f":"IF(Z14=1,1,IF(A10=\"\",\"\",A10+1))","v":2},{"$f":"IF(Z14=2,1,IF(B10=\"\",\"\",B10+1))","v":3},{"$f":"IF(Z14=3,1,IF(C10=\"\",\"\",C10+1))","v":4},{"$f":"IF($AH$6=1,1,IF(A10=\"\",\"\",A10+1))","v":2},null,null,null,{"$f":"IF($AH$6=2,1,IF(E10=\"\",\"\",E10+1))","v":3},null,null,null,{"$f":"IF($AH$6=3,1,IF(I10=\"\",\"\",I10+1))","v":4},null,null,null,{"$f":"IF($AH$6=4,1,IF(M10=\"\",\"\",M10+1))","v":5},null,null,null,{"$f":"IF($AH$6=5,1,IF(Q10=\"\",\"\",Q10+1))","v":6},null,null,null,{"$f":"IF($AH$6=6,1,IF(U10=\"\",\"\",U10+1))","v":7},null,null,null,null,null,null,null,"（秋分日）：",{"$f":"入力部!L18","v":23}]
[{"$f":"IF(Z15=0,1,\"\")","v":1},{"$f":"IF(Z15=1,1,IF(A11=\"\",\"\",A11+1))","v":2},{"$f":"IF(Z15=2,1,IF(B11=\"\",\"\",B11+1))","v":3},{"$f":"IF(Z15=3,1,IF(C11=\"\",\"\",C11+1))","v":4},null,null,null,null,null,null,null,null,null,null,null,null,null,null,null,null,null,null,null,null,null,null,null,null,null,null,null,null,"山の日（2016年以降）"]
[{"$f":"IF(Z16=0,1,\"\")","v":1},{"$f":"IF(Z16=1,1,IF(A12=\"\",\"\",A12+1))","v":2},{"$f":"IF(Z16=2,1,IF(B12=\"\",\"\",B12+1))","v":3},{"$f":"IF(Z16=3,1,IF(C12=\"\",\"\",C12+1))","v":4},null,null,null,null,null,null,null,null,null,null,null,null,null,null,null,null,null,null,null,null,null,null,null,null,null,null,null,null,"山に親しむ機会を得て、山の恩恵に感謝する"]
[]
[]
[{"$f":"$Y10+1","v":8},null,null,null,{"$f":"A$15+1","v":9},null,null,null,{"$f":"E$15+1","v":10},null,null,null,{"$f":"I$15+1","v":11},null,null,null,{"$f":"M$15+1","v":12},null,null,null,{"$f":"Q$15+1","v":13},null,null,null,{"$f":"U$15+1","v":14}]
[]
[]
[]
[{"$f":"IF($AG$3=2021,\"山 の 日\",\"\")","v":"山 の 日"},null,null,null,{"$f":"IF($AG$3=2021,\"振替休日\",\"\")","v":"振替休日"},null,null,null,null,null,null,null,{"$f":"IF($AG$3=2021,\"\",IF($AG$3>2015,IF(M15=11,\"山 の 日\",\"\"),\"\"))","v":""},null,null,null,{"$f":"IF($AG$3>2015,IF(Q15=11,\"山 の 日\",\"\"),\"\")","v":""},null,null,null,{"$f":"IF($AG$3>2015,IF(U15=11,\"山 の 日\",\"\"),\"\")","v":""},null,null,null,{"$f":"IF($AG$3>2015,IF(Y15=11,\"山 の 日\",\"\"),\"\")","v":""}]
[{"$f":"$Y15+1","v":15},null,null,null,{"$f":"A20+1","v":16},null,null,null,{"$f":"E20+1","v":17},null,null,null,{"$f":"I20+1","v":18},null,null,null,{"$f":"M20+1","v":19},null,null,null,{"$f":"Q20+1","v":20},null,null,null,{"$f":"U20+1","v":21}]
[]
[]
[]
[{"$f":"IF($AG$3>2015,IF(A20=11,\"山 の 日\",\"\"),\"\")","v":""},null,null,null,{"$f":"IF($AG$3=2020,\"山 の 日\",IF($AG$3>2015,IF(E20=11,\"山 の 日\",IF(E20=12,\"振替休日\",\"\")),\"\"))","v":""},null,null,null,{"$f":"IF($AG$3>2015,IF(I20=11,\"山 の 日\",\"\"),\"\")","v":""}]
[{"$f":"$Y20+1","v":22},null,null,null,{"$f":"A25+1","v":23},null,null,null,{"$f":"E25+1","v":24},null,null,null,{"$f":"I25+1","v":25},null,null,null,{"$f":"M25+1","v":26},null,null,null,{"$f":"Q25+1","v":27},null,null,null,{"$f":"U25+1","v":28}]
[]
[]
[]
[]
[{"$f":"$Y25+1","v":29},null,null,null,{"$f":"A30+1","v":30},null,null,null,{"$f":"IF(E30=31,\"\",IF(E30=\"\",\"\",E30+1))","v":31},null,null,null,{"$f":"IF(I30=31,\"\",IF(I30=\"\",\"\",I30+1))","v":""},null,null,null,{"$f":"IF(M30=31,\"\",IF(M30=\"\",\"\",M30+1))","v":""},null,null,null,{"$f":"IF(Q30=31,\"\",IF(Q30=\"\",\"\",Q30+1))","v":""},null,null,null,{"$f":"IF(U30=31,\"\",IF(U30=\"\",\"\",U30+1))","v":""}]
[]
[]
[]
[]
[{"$f":"IF(Y30=31,\"\",IF(Y30=\"\",\"\",Y30+1))","v":""},null,null,null,{"$f":"IF(A35=31,\"\",IF(A35=\"\",\"\",A35+1))","v":""},null,null,null,{"$f":"IF(E35=31,\"\",IF(E35=\"\",\"\",E35+1))","v":""},null,null,null,{"$f":"IF(I35=31,\"\",IF(I35=\"\",\"\",I35+1))","v":""},null,null,null,{"$f":"IF(M35=31,\"\",IF(M35=\"\",\"\",M35+1))","v":""}]
[null,null,null,null,null,null,null,null,null,null,null,null,null,null,null,null,null,null,null,null,"葉　月"]
[]
[null,null,null,null,null,null,null,null,null,null,null,null,null,null,null,null,null,null,null,null,"August"]
[]
[null,null,null,null,null,null,null,null,null,null,null,null,null,null,null,null,null,null,null,null,null,null,null,null,null,null,null,"Jan. 8th 2011  - nasutaworks(AN2)"]

{"sheet":"9","index":9,"n_rows":40,"n_cols":44,"rows_kept":40,"cut":false,"hidden":false,"merged":[[1,39,1,41],[38,0,38,3],[38,4,38,7],[38,8,38,11],[38,12,38,15],[38,16,38,19],[37,20,38,27],[33,8,33,11],[33,12,33,15],[33,16,33,19],[29,24,31,27],[35,20,36,27],[18,24,18,27],[23,16,23,19],[23,20,23,23],[23,24,23,27],[19,24,21,27],[33,20,33,23],[33,24,33,27],[24,24,26,27],[18,16,18,19],[18,20,18,23],[24,16,26,19],[29,16,31,19],[29,20,31,23],[19,20,21,23],[24,0,26,3],[24,12,26,15],[28,12,28,15],[28,24,28,27],[34,0,36,3],[34,4,36,7],[34,8,36,11],[34,12,36,15],[29,0,31,3],[28,0,28,3],[29,4,31,7],[29,8,31,11],[29,12,31,15],[33,0,33,3],[33,4,33,7],[34,16,36,19],[28,4,28,7],[28,16,28,19],[24,20,26,23],[23,4,23,7],[23,8,23,11],[23,12,23,15],[24,4,26,7],[24,8,26,11],[28,20,28,23],[28,8,28,11],[23,0,23,3],[9,20,11,23],[9,24,11,27],[14,16,16,19],[14,20,16,23],[14,24,16,27],[9,16,11,19],[13,24,13,27],[13,16,13,19],[9,4,11,7],[9,12,11,15],[19,0,21,3],[19,4,21,7],[19,8,21,11],[19,12,21,15],[19,16,21,19],[18,4,18,7],[14,0,16,3],[14,4,16,7],[14,8,16,11],[14,12,16,15],[18,12,18,15],[18,8,18,11],[18,0,18,3],[8,24,8,27],[1,10,1,17],[1,2,1,4],[1,23,1,25],[2,9,6,18],[7,13,7,14],[13,20,13,23],[13,0,13,3],[8,0,8,3],[8,4,8,7],[8,8,8,11],[9,8,11,11],[8,16,8,19],[8,20,8,23],[8,12,8,15],[9,0,11,3],[13,4,13,7],[13,8,13,11],[13,12,13,15]]}
[null,null,null,null,null,null,null,null,null,null,null,null,null,null,null,null,null,null,null,null,null,null,null,null,null,null,null,null,null,null,null,null,"設定部",{"$f":"IF(AG3<2019,入力部!R20,入力部!R21)","v":"令和"},null,null,null,"2016以降山の日対応ダミー部"]
[null,null,"８月",null,null,null,null,null,null,null,{"$f":"IF(AH1=0,DBCS(AG3)&\"年\",DBCS(AG3)&\"年 ／ \"&AH1&DBCS(AH3)&\"年\")","v":"２０２１年 ／ 令和３年"},null,null,null,null,null,null,null,null,null,null,null,null,"１０月",null,null,null,null,null,null,null,null,"西暦","和暦",null,null,null,null,null,"８月"]
[{"$f":"IF(ISBLANK(AL3),\"\",AL3)","v":1},{"$f":"IF(ISBLANK(AM3),\"\",AM3)","v":2},3,4,5,6,7,null,null,9,null,null,null,null,null,null,null,null,null,null,null,{"$f":"IF($AH$7=0,1,\"\")","v":""},{"$f":"IF($AH$7=1,1,IF(V3=\"\",\"\",V3+1))","v":""},{"$f":"IF($AH$7=2,1,IF(W3=\"\",\"\",W3+1))","v":""},{"$f":"IF($AH$7=3,1,IF(X3=\"\",\"\",X3+1))","v":""},{"$f":"IF($AH$7=4,1,IF(Y3=\"\",\"\",Y3+1))","v":""},{"$f":"IF($AH$7=5,1,IF(Z3=\"\",\"\",Z3+1))","v":1},{"$f":"IF($AH$7=6,1,IF(AA3=\"\",\"\",AA3+1))","v":2},null,null,null,null,{"$f":"入力部!J3","v":2021},{"$f":"IF(AG3<2019,AG3-2000+12,IF(AG3-2018=1,\"元\",AG3-2018))","v":3},null,null,null,{"$f":"IF($AH$5=0,1,\"\")","v":1},{"$f":"IF($AH$5=1,1,IF(AL3=\"\",\"\",AL3+1))","v":2},{"$f":"IF($AH$5=2,1,IF(AM3=\"\",\"\",AM3+1))","v":3},{"$f":"IF($AH$5=3,1,IF(AN3=\"\",\"\",AN3+1))","v":4},{"$f":"IF($AH$5=4,1,IF(AO3=\"\",\"\",AO3+1))","v":5},{"$f":"IF($AH$5=5,1,IF(AP3=\"\",\"\",AP3+1))","v":6},{"$f":"IF($AH$5=6,1,IF(AQ3=\"\",\"\",AQ3+1))","v":7}]
[8,9,10,{"$f":"IF(ISBLANK(AO4),\"\",IF(AO4=11,IF($AG$3<2016,\" \"&AO4,AO4),AO4))","v":11},{"$f":"IF(ISBLANK(AP4),\"\",IF(AP4=11,IF($AG$3<2016,\" \"&AP4,AP4),AP4))","v":12},{"$f":"IF(ISBLANK(AQ4),\"\",IF(AQ4=11,IF($AG$3<2016,\" \"&AQ4,AQ4),AQ4))","v":13},{"$f":"IF(ISBLANK(AR4),\"\",IF(AR4=11,IF($AG$3<2016,\" \"&AR4,AR4),AR4))","v":14},null,null,null,null,null,null,null,null,null,null,null,null,null,null,{"$f":"AB3+1","v":3},{"$f":"V4+1","v":4},5,6,7,8,9,null,null,null,null,"曜日計算",null,null,null,null,{"$f":"AR3+1","v":8},{"$f":"AL4+1","v":9},10,11,12,13,14]
[15,{"$f":"IF(ISBLANK(AM5),\"\",IF(AM5=11,IF($AG$3<2016,\" \"&AM5,AM5),AM5))","v":16},{"$f":"IF(ISBLANK(AN5),\"\",IF(AN5=11,IF($AG$3<2016,\" \"&AN5,AN5),AN5))","v":17},18,19,20,21,null,null,null,null,null,null,null,null,null,null,null,null,null,null,{"$f":"AB4+1","v":10},11,12,13,14,15,16,null,null,null,null,"前月",{"$f":"入力部!D25","v":0},null,null,null,{"$f":"AR4+1","v":15},16,17,18,19,20,21]
[22,23,24,25,26,27,28,null,null,null,null,null,null,null,null,null,null,null,null,null,null,{"$f":"AB5+1","v":17},18,19,20,21,22,23,null,null,null,null,"当月",{"$f":"入力部!D26","v":3},null,null,null,{"$f":"AR5+1","v":22},23,24,25,26,27,28]
[29,30,31,"","","","",null,null,null,null,null,null,null,null,null,null,null,null,null,null,{"$f":"AB6+1","v":24},{"$f":"V7+1","v":25},{"$f":"IF(W7=31,\"\",IF(W7=\"\",\"\",W7+1))","v":26},27,28,29,30,null,null,null,null,"次月",{"$f":"入力部!D27","v":5},null,null,null,{"$f":"AR6+1","v":29},{"$f":"AL7+1","v":30},{"$f":"IF(AM7=31,\"\",IF(AM7=\"\",\"\",AM7+1))","v":31},"","","",""]
["","","","","","","",null,null,null,null,null,{"$f":"IF(入力部!$T$17=\"\",\"\",入力部!$T$17&\"／\")","v":"しんちゅう／"},{"$f":"IF(入力部!$S$17=\"\",\"\",入力部!$S$17)","v":"辛丑"},null,{"$f":"IF(入力部!$U$17=\"\",\"\",\"／\"&入力部!$U$17)","v":"／かのとうし"},null,null,null,null,null,{"$f":"IF(AB7=31,\"\",IF(AB7=\"\",\"\",AB7+1))","v":31},{"$f":"IF(V8=31,\"\",IF(V8=\"\",\"\",V8+1))","v":""},"","","","","",null,null,null,null,null,null,null,null,null,{"$f":"IF(AR7=31,\"\",IF(AR7=\"\",\"\",AR7+1))","v":""},{"$f":"IF(AL8=31,\"\",IF(AL8=\"\",\"\",AL8+1))","v":""},"","","","",""]
["ＳＵＮ",null,null,null,"ＭＯＮ",null,null,null,"ＴＵＥ",null,null,null,"ＷＥＤ",null,null,null,"ＴＨＵ",null,null,null,"ＦＲＩ",null,null,null,"ＳＡＴ",null,null,null,null,null,null,null,"祝日データ"]
[{"$f":"IF($AH$6=0,1,\"\")","v":""},{"$f":"IF(Z14=1,1,IF(A10=\"\",\"\",A10+1))","v":""},{"$f":"IF(Z14=2,1,IF(B10=\"\",\"\",B10+1))","v":""},{"$f":"IF(Z14=3,1,IF(C10=\"\",\"\",C10+1))","v":""},{"$f":"IF($AH$6=1,1,IF(A10=\"\",\"\",A10+1))","v":""},null,null,null,{"$f":"IF($AH$6=2,1,IF(E10=\"\",\"\",E10+1))","v":""},null,null,null,{"$f":"IF($AH$6=3,1,IF(I10=\"\",\"\",I10+1))","v":1},null,null,null,{"$f":"IF($AH$6=4,1,IF(M10=\"\",\"\",M10+1))","v":2},null,null,null,{"$f":"IF($AH$6=5,1,IF(Q10=\"\",\"\",Q10+1))","v":3},null,null,null,{"$f":"IF($AH$6=6,1,IF(U10=\"\",\"\",U10+1))","v":4},null,null,null,null,null,null,null,"敬老の日"]
[{"$f":"IF(Z15=0,1,\"\")","v":1},{"$f":"IF(Z15=1,1,IF(A11=\"\",\"\",A11+1))","v":2},{"$f":"IF(Z15=2,1,IF(B11=\"\",\"\",B11+1))","v":3},{"$f":"IF(Z15=3,1,IF(C11=\"\",\"\",C11+1))","v":4},null,null,null,null,null,null,null,null,null,null,null,null,null,null,null,null,null,null,null,null,null,null,null,null,null,null,null,null,"9月の第3月曜日 多年にわたり社会につくしてきた老人を敬愛し、長寿を祝う。"]
[{"$f":"IF(Z16=0,1,\"\")","v":1},{"$f":"IF(Z16=1,1,IF(A12=\"\",\"\",A12+1))","v":2},{"$f":"IF(Z16=2,1,IF(B12=\"\",\"\",B12+1))","v":3},{"$f":"IF(Z16=3,1,IF(C12=\"\",\"\",C12+1))","v":4},null,null,null,null,null,null,null,null,null,null,null,null,null,null,null,null,null,null,null,null,null,null,null,null,null,null,null,null,"秋分の日"]
[null,null,null,null,null,null,null,null,null,null,null,null,null,null,null,null,null,null,null,null,null,null,null,null,null,null,null,null,null,null,null,null,"秋分日(9月23日頃) 祖先をうやまい、なくなった人々をしのぶ。"]
[null,null,null,null,null,null,null,null,null,null,null,null,null,null,null,null,null,null,null,null,null,null,null,null,null,null,null,null,null,null,null,null,"秋分日：",{"$f":"入力部!L18","v":23}]
[{"$f":"$Y10+1","v":5},null,null,null,{"$f":"A$15+1","v":6},null,null,null,{"$f":"E$15+1","v":7},null,null,null,{"$f":"I$15+1","v":8},null,null,null,{"$f":"M$15+1","v":9},null,null,null,{"$f":"Q$15+1","v":10},null,null,null,{"$f":"U$15+1","v":11}]
[]
[]
[]
[]
[{"$f":"$Y15+1","v":12},null,null,null,{"$f":"A20+1","v":13},null,null,null,{"$f":"E20+1","v":14},null,null,null,{"$f":"I20+1","v":15},null,null,null,{"$f":"M20+1","v":16},null,null,null,{"$f":"Q20+1","v":17},null,null,null,{"$f":"U20+1","v":18}]
[]
[]
[]
[null,null,null,null,{"$f":"IF(E20=15,\"敬老の日\",IF(E20=16,\"敬老の日\",\"\"))","v":""}]
[{"$f":"$Y20+1","v":19},null,null,null,{"$f":"IF(E28=$AH$14,E28&\" \",IF(A28=$AH$14,E28&\" \",E28))","v":20},null,null,null,{"$f":"IF(I28=$AH$14,I28&\" \",IF(23<E28,I28,IF(E28<17,I28,IF(M28=$AH$14,I28&\" \",I28))))","v":21},null,null,null,{"$f":"IF(M28=$AH$14,M28&\" \",M28)","v":22},null,null,null,{"$f":"IF(Q28=$AH$14,Q28&\" \",Q28)","v":"23 "},null,null,null,{"$f":"IF(U28=$AH$14,U28&\" \",U28)","v":24},null,null,null,{"$f":"IF(Y28=$AH$14,Y28&\" \",Y28)","v":25}]
[]
[]
[{"$f":"Y20+1","v":19},null,null,null,{"$f":"A28+1","v":20},null,null,null,{"$f":"E28+1","v":21},null,null,null,{"$f":"I28+1","v":22},null,null,null,{"$f":"M28+1","v":23},null,null,null,{"$f":"Q28+1","v":24},null,null,null,{"$f":"U28+1","v":25}]
[{"$f":"IF(A28>23,\"\",IF(A28<22,\"\",IF(A28=$AH$14,\"秋分の日\",\"\")))","v":""},null,null,null,{"$f":"IF(E28>23,\"\",IF(E28<17,\"\",IF(E28<22,\"敬老の日\",IF(E28=$AH$14,\"秋分の日\",\"\"))))","v":"敬老の日"},null,null,null,{"$f":"IF(23<I28,\"\",IF(I28<17,\"\",IF(M28=$AH$14,\"国民の休日\",IF(I28=$AH$14,\"秋分の日\",\"\"))))","v":""},null,null,null,{"$f":"IF(M28>23,\"\",IF(M28<22,\"\",IF(M28=$AH$14,\"秋分の日\",\"\")))","v":""},null,null,null,{"$f":"IF(Q28>23,\"\",IF(Q28<22,\"\",IF(Q28=$AH$14,\"秋分の日\",\"\")))","v":"秋分の日"},null,null,null,{"$f":"IF(U28>23,\"\",IF(U28<22,\"\",IF(U28=$AH$14,\"秋分の日\",\"\")))","v":""},null,null,null,{"$f":"IF(Y28>23,\"\",IF(Y28<22,\"\",IF(Y28=$AH$14,\"秋分の日\",\"\")))","v":""}]
[{"$f":"$Y25+1","v":26},null,null,null,{"$f":"IF(A30=$AH$14,E33&\" \",A30+1)","v":27},null,null,null,{"$f":"IF(E30=30,\"\",IF(E30=\"\",\"\",E30+1))","v":28},null,null,null,{"$f":"IF(I30=30,\"\",IF(I30=\"\",\"\",I30+1))","v":29},null,null,null,{"$f":"IF(M30=30,\"\",IF(M30=\"\",\"\",M30+1))","v":30},null,null,null,{"$f":"IF(Q30=30,\"\",IF(Q30=\"\",\"\",Q30+1))","v":""},null,null,null,{"$f":"IF(U30=30,\"\",IF(U30=\"\",\"\",U30+1))","v":""}]
[]
[]
[{"$f":"Y25+1","v":26},null,null,null,{"$f":"A30+1","v":27}]
[{"$f":"IF(A33>23,\"\",IF(A33<22,\"\",IF(A33=$AH$14,\"秋分の日\",\"\")))","v":""},null,null,null,{"$f":"IF(A30=$AH$14,\"振替休日\",\"\")","v":""}]
[{"$f":"IF(Y30=30,\"\",IF(Y30=\"\",\"\",Y30+1))","v":""},null,null,null,{"$f":"IF(A35=30,\"\",IF(A35=\"\",\"\",A35+1))","v":""},null,null,null,{"$f":"IF(E35=30,\"\",IF(E35=\"\",\"\",E35+1))","v":""},null,null,null,{"$f":"IF(I35=30,\"\",IF(I35=\"\",\"\",I35+1))","v":""},null,null,null,{"$f":"IF(M35=30,\"\",IF(M35=\"\",\"\",M35+1))","v":""}]
[null,null,null,null,null,null,null,null,null,null,null,null,null,null,null,null,null,null,null,null,"長　月"]
[]
[null,null,null,null,null,null,null,null,null,null,null,null,null,null,null,null,null,null,null,null,"September"]
[]
[null,null,null,null,null,null,null,null,null,null,null,null,null,null,null,null,null,null,null,null,null,null,null,null,null,null,null,"Jan. 8th 2011  - nasutaworks(AN2)"]

{"sheet":"10","index":10,"n_rows":40,"n_cols":44,"rows_kept":40,"cut":false,"hidden":false,"merged":[[35,20,36,27],[37,20,38,27],[14,0,16,3],[14,4,16,7],[13,0,13,3],[13,4,13,7],[9,0,11,3],[9,4,11,7],[9,8,11,11],[9,12,11,15],[8,0,8,3],[8,4,8,7],[8,8,8,11],[1,2,1,4],[1,23,1,25],[1,10,1,17],[2,9,6,18],[8,12,8,15],[7,13,7,14],[8,24,8,27],[9,24,11,27],[19,8,21,11],[19,12,21,15],[9,16,11,19],[9,20,11,23],[14,8,16,11],[14,12,16,15],[13,8,13,11],[13,12,13,15],[19,24,21,27],[23,0,23,3],[23,4,23,7],[19,16,21,19],[19,20,21,23],[23,8,23,11],[23,12,23,15],[29,0,31,3],[29,4,31,7],[29,8,31,11],[29,12,31,15],[33,0,33,3],[33,4,33,7],[33,8,33,11],[33,12,33,15],[18,12,18,15],[13,16,13,19],[13,20,13,23],[18,16,18,19],[18,20,18,23],[14,16,16,19],[14,20,16,23],[18,0,18,3],[18,4,18,7],[19,0,21,3],[19,4,21,7],[18,8,18,11],[28,16,28,19],[28,20,28,23],[24,24,26,27],[28,0,28,3],[28,4,28,7],[28,8,28,11],[28,12,28,15],[24,0,26,3],[24,4,26,7],[24,8,26,11],[24,12,26,15],[24,16,26,19],[24,20,26,23],[34,16,36,19],[34,0,36,3],[34,4,36,7],[34,8,36,11],[34,12,36,15],[38,0,38,3],[38,4,38,7],[38,8,38,11],[38,12,38,15],[38,16,38,19],[1,39,1,41],[33,16,33,19],[33,20,33,23],[33,24,33,27],[13,24,13,27],[18,24,18,27],[14,24,16,27],[29,20,31,23],[8,16,8,19],[8,20,8,23],[28,24,28,27],[29,16,31,19],[29,24,31,27],[23,16,23,19],[23,20,23,23],[23,24,23,27]]}
[null,null,null,null,null,null,null,null,null,null,null,null,null,null,null,null,null,null,null,null,null,null,null,null,null,null,null,null,null,null,null,null,"設定部",{"$f":"IF(AG3<2019,入力部!R20,入力部!R21)","v":"令和"},null,null,null,"秋分日対応用ダミー部"]
[null,null,"９月",null,null,null,null,null,null,null,{"$f":"IF(AH1=0,DBCS(AG3)&\"年\",DBCS(AG3)&\"年 ／ \"&AH1&DBCS(AH3)&\"年\")","v":"２０２１年 ／ 令和３年"},null,null,null,null,null,null,null,null,null,null,null,null,"１１月",null,null,null,null,null,null,null,null,"西暦","和暦",null,null,null,null,null,"９月"]
[{"$f":"IF(ISBLANK(AL3),\"\",AL3)","v":""},{"$f":"IF(ISBLANK(AM3),\"\",AM3)","v":""},"",1,2,3,4,null,null,10,null,null,null,null,null,null,null,null,null,null,null,{"$f":"IF($AH$7=0,1,\"\")","v":""},{"$f":"IF($AH$7=1,1,IF(V3=\"\",\"\",V3+1))","v":1},{"$f":"IF($AH$7=2,1,IF(W3=\"\",\"\",W3+1))","v":2},{"$f":"IF($AH$7=3,1,IF(X3=\"\",\"\",X3+1))","v":3},{"$f":"IF($AH$7=4,1,IF(Y3=\"\",\"\",Y3+1))","v":4},{"$f":"IF($AH$7=5,1,IF(Z3=\"\",\"\",Z3+1))","v":5},{"$f":"IF($AH$7=6,1,IF(AA3=\"\",\"\",AA3+1))","v":6},null,null,null,null,{"$f":"入力部!J3","v":2021},{"$f":"IF(AG3<2019,AG3-2000+12,IF(AG3-2018=1,\"元\",AG3-2018))","v":3},null,null,null,{"$f":"IF($AH$5=0,1,\"\")","v":""},{"$f":"IF($AH$5=1,1,IF(AL3=\"\",\"\",AL3+1))","v":""},{"$f":"IF($AH$5=2,1,IF(AM3=\"\",\"\",AM3+1))","v":""},{"$f":"IF($AH$5=3,1,IF(AN3=\"\",\"\",AN3+1))","v":1},{"$f":"IF($AH$5=4,1,IF(AO3=\"\",\"\",AO3+1))","v":2},{"$f":"IF($AH$5=5,1,IF(AP3=\"\",\"\",AP3+1))","v":3},{"$f":"IF($AH$5=6,1,IF(AQ3=\"\",\"\",AQ3+1))","v":4}]
[5,{"$f":"IF(ISBLANK(AM4),\"\",AM4)","v":6},7,8,9,10,11,null,null,null,null,null,null,null,null,null,null,null,null,null,null,{"$f":"AB3+1","v":7},{"$f":"V4+1","v":8},9,10,11,12,13,null,null,null,null,"曜日計算",null,null,null,null,{"$f":"AR3+1","v":5},{"$f":"AL4+1","v":6},7,8,9,10,11]
[12,13,14,15,16,17,18,null,null,null,null,null,null,null,null,null,null,null,null,null,null,{"$f":"AB4+1","v":14},15,16,17,18,19,20,null,null,null,null,"前月",{"$f":"入力部!D26","v":3},null,null,null,{"$f":"AR4+1","v":12},{"$f":"AL5+1","v":13},14,15,16,17,18]
[19,{"$f":"IF(ISBLANK(AM6),\"\",IF(AL6=$AH$12,\" \"&AM6,AM6))","v":20},{"$f":"IF(ISBLANK(AN6),\"\",IF(AN6=$AH$12,\" \"&AN6,IF(AO6=$AH$12,\" \"&AN6,AN6)))","v":21},{"$f":"IF(ISBLANK(AO6),\"\",IF(AO6=$AH$12,\" \"&AO6,AO6))","v":22},{"$f":"IF(ISBLANK(AP6),\"\",IF(AP6=$AH$12,\" \"&AP6,AP6))","v":" 23"},{"$f":"IF(ISBLANK(AQ6),\"\",IF(AQ6=$AH$12,\" \"&AQ6,AQ6))","v":24},{"$f":"IF(ISBLANK(AR6),\"\",IF(AR6=$AH$12,\" \"&AR6,AR6))","v":25},null,null,null,null,null,null,null,null,null,null,null,null,null,null,{"$f":"AB5+1","v":21},22,23,24,25,26,27,null,null,null,null,"当月",{"$f":"入力部!D27","v":5},null,null,null,{"$f":"AR5+1","v":19},{"$f":"AL6+1","v":20},21,22,23,24,25]
[26,{"$f":"IF(ISBLANK(AM7),\"\",IF(AL7=$AH$12,\" \"&AM7,AM7))","v":27},{"$f":"IF(ISBLANK(AN7),\"\",AN7)","v":28},29,30,"","",null,null,null,null,null,null,null,null,null,null,null,null,null,null,{"$f":"AB6+1","v":28},{"$f":"V7+1","v":29},{"$f":"IF(W7=30,\"\",IF(W7=\"\",\"\",W7+1))","v":30},{"$f":"IF(X7=30,\"\",IF(X7=\"\",\"\",X7+1))","v":""},{"$f":"IF(Y7=30,\"\",IF(Y7=\"\",\"\",Y7+1))","v":""},{"$f":"IF(Z7=30,\"\",IF(Z7=\"\",\"\",Z7+1))","v":""},"",null,null,null,null,"次月",{"$f":"入力部!D28","v":1},null,null,null,{"$f":"AR6+1","v":26},{"$f":"AL7+1","v":27},{"$f":"IF(AM7=30,\"\",IF(AM7=\"\",\"\",AM7+1))","v":28},29,30,"",""]
["",{"$f":"IF(ISBLANK(AM8),\"\",AM8)","v":""},"","","","","",null,null,null,null,null,{"$f":"IF(入力部!$T$17=\"\",\"\",入力部!$T$17&\"／\")","v":"しんちゅう／"},{"$f":"IF(入力部!$S$17=\"\",\"\",入力部!$S$17)","v":"辛丑"},null,{"$f":"IF(入力部!$U$17=\"\",\"\",\"／\"&入力部!$U$17)","v":"／かのとうし"},null,null,null,null,null,{"$f":"IF(AB7=30,\"\",IF(AB7=\"\",\"\",AB7+1))","v":""},{"$f":"IF(V8=30,\"\",IF(V8=\"\",\"\",V8+1))","v":""},{"$f":"IF(W8=30,\"\",IF(W8=\"\",\"\",W8+1))","v":""},{"$f":"IF(X8=30,\"\",IF(X8=\"\",\"\",X8+1))","v":""},"","","",null,null,null,null,null,null,null,null,null,{"$f":"IF(AR7=30,\"\",IF(AR7=\"\",\"\",AR7+1))","v":""},{"$f":"IF(AL8=30,\"\",IF(AL8=\"\",\"\",AL8+1))","v":""},"","","","",""]
["ＳＵＮ",null,null,null,"ＭＯＮ",null,null,null,"ＴＵＥ",null,null,null,"ＷＥＤ",null,null,null,"ＴＨＵ",null,null,null,"ＦＲＩ",null,null,null,"ＳＡＴ",null,null,null,null,null,null,null,"祝日データ"]
[{"$f":"IF($AH$6=0,1,\"\")","v":""},{"$f":"IF(Z14=1,1,IF(A10=\"\",\"\",A10+1))","v":""},{"$f":"IF(Z14=2,1,IF(B10=\"\",\"\",B10+1))","v":""},{"$f":"IF(Z14=3,1,IF(C10=\"\",\"\",C10+1))","v":""},{"$f":"IF($AH$6=1,1,IF(A10=\"\",\"\",A10+1))","v":""},null,null,null,{"$f":"IF($AH$6=2,1,IF(E10=\"\",\"\",E10+1))","v":""},null,null,null,{"$f":"IF($AH$6=3,1,IF(I10=\"\",\"\",I10+1))","v":""},null,null,null,{"$f":"IF($AH$6=4,1,IF(M10=\"\",\"\",M10+1))","v":""},null,null,null,{"$f":"IF($AH$6=5,1,IF(Q10=\"\",\"\",Q10+1))","v":1},null,null,null,{"$f":"IF($AH$6=6,1,IF(U10=\"\",\"\",U10+1))","v":2},null,null,null,null,null,null,null,{"$f":"IF($AG$3<2020,$AH$10,$AI$10)","v":"スポーツの日"},"体育の日","スポーツの日"]
[{"$f":"IF(Z15=0,1,\"\")","v":1},{"$f":"IF(Z15=1,1,IF(A11=\"\",\"\",A11+1))","v":2},{"$f":"IF(Z15=2,1,IF(B11=\"\",\"\",B11+1))","v":3},{"$f":"IF(Z15=3,1,IF(C11=\"\",\"\",C11+1))","v":4},null,null,null,null,null,null,null,null,null,null,null,null,null,null,null,null,null,null,null,null,null,null,null,null,null,null,null,null,"10月の第2月曜日 スポーツにしたしみ、健康な心身をつちかう。"]
[{"$f":"IF(Z16=0,1,\"\")","v":1},{"$f":"IF(Z16=1,1,IF(A12=\"\",\"\",A12+1))","v":2},{"$f":"IF(Z16=2,1,IF(B12=\"\",\"\",B12+1))","v":3},{"$f":"IF(Z16=3,1,IF(C12=\"\",\"\",C12+1))","v":4},null,null,null,null,null,null,null,null,null,null,null,null,null,null,null,null,null,null,null,null,null,null,null,null,null,null,null,null,"（秋分日）：",{"$f":"入力部!L18","v":23}]
[]
[]
[{"$f":"$Y10+1","v":3},null,null,null,{"$f":"A$15+1","v":4},null,null,null,{"$f":"E$15+1","v":5},null,null,null,{"$f":"I$15+1","v":6},null,null,null,{"$f":"M$15+1","v":7},null,null,null,{"$f":"Q$15+1","v":8},null,null,null,{"$f":"U$15+1","v":9}]
[]
[]
[]
[null,null,null,null,{"$f":"IF(E15=8,AG10,IF(E15=9,AG10,\"\"))","v":""}]
[{"$f":"$Y15+1","v":10},null,null,null,{"$f":"A20+1","v":11},null,null,null,{"$f":"E20+1","v":12},null,null,null,{"$f":"I20+1","v":13},null,null,null,{"$f":"M20+1","v":14},null,null,null,{"$f":"Q20+1","v":15},null,null,null,{"$f":"U20+1","v":16}]
[]
[]
[]
[null,null,null,null,{"$f":"IF(E20<10,\"\",IF(14<E20,\"\",AG10))","v":"スポーツの日"}]
[{"$f":"$Y20+1","v":17},null,null,null,{"$f":"A25+1","v":18},null,null,null,{"$f":"E25+1","v":19},null,null,null,{"$f":"I25+1","v":20},null,null,null,{"$f":"M25+1","v":21},null,null,null,{"$f":"Q25+1","v":22},null,null,null,{"$f":"U25+1","v":23}]
[]
[]
[]
[null,null,null,null,null,null,null,null,{"$f":"IF($AG$3=2019,\"即位礼正殿の儀\",\"\")","v":""}]
[{"$f":"$Y25+1","v":24},null,null,null,{"$f":"A30+1","v":25},null,null,null,{"$f":"IF(E30=31,\"\",IF(E30=\"\",\"\",E30+1))","v":26},null,null,null,{"$f":"IF(I30=31,\"\",IF(I30=\"\",\"\",I30+1))","v":27},null,null,null,{"$f":"IF(M30=31,\"\",IF(M30=\"\",\"\",M30+1))","v":28},null,null,null,{"$f":"IF(Q30=31,\"\",IF(Q30=\"\",\"\",Q30+1))","v":29},null,null,null,{"$f":"IF(U30=31,\"\",IF(U30=\"\",\"\",U30+1))","v":30}]
[]
[]
[]
[]
[{"$f":"IF(Y30=31,\"\",IF(Y30=\"\",\"\",Y30+1))","v":31},null,null,null,{"$f":"IF(A35=31,\"\",IF(A35=\"\",\"\",A35+1))","v":""},null,null,null,{"$f":"IF(E35=31,\"\",IF(E35=\"\",\"\",E35+1))","v":""},null,null,null,{"$f":"IF(I35=31,\"\",IF(I35=\"\",\"\",I35+1))","v":""},null,null,null,{"$f":"IF(M35=31,\"\",IF(M35=\"\",\"\",M35+1))","v":""}]
[null,null,null,null,null,null,null,null,null,null,null,null,null,null,null,null,null,null,null,null,"神無月"]
[]
[null,null,null,null,null,null,null,null,null,null,null,null,null,null,null,null,null,null,null,null,"October"]
[]
[null,null,null,null,null,null,null,null,null,null,null,null,null,null,null,null,null,null,null,null,null,null,null,null,null,null,null,"Jan. 8th 2011  - nasutaworks(AN2)"]

{"sheet":"11","index":11,"n_rows":40,"n_cols":34,"rows_kept":40,"cut":false,"hidden":false,"merged":[[34,16,36,19],[29,12,31,15],[37,20,38,27],[34,0,36,3],[34,4,36,7],[34,8,36,11],[34,12,36,15],[33,0,33,3],[33,4,33,7],[33,8,33,11],[33,12,33,15],[35,20,36,27],[38,0,38,3],[38,4,38,7],[38,8,38,11],[38,12,38,15],[38,16,38,19],[18,0,18,3],[18,4,18,7],[18,8,18,11],[18,12,18,15],[19,24,21,27],[18,16,18,19],[18,20,18,23],[18,24,18,27],[23,24,23,27],[23,0,23,3],[19,0,21,3],[19,4,21,7],[19,8,21,11],[19,12,21,15],[19,16,21,19],[23,4,23,7],[19,20,21,23],[23,16,23,19],[23,20,23,23],[23,8,23,11],[23,12,23,15],[29,16,31,19],[29,20,31,23],[33,24,33,27],[33,16,33,19],[33,20,33,23],[29,24,31,27],[24,24,26,27],[28,24,28,27],[24,0,26,3],[24,4,26,7],[24,8,26,11],[28,20,28,23],[24,16,26,19],[24,20,26,23],[28,12,28,15],[28,8,28,11],[24,12,26,15],[28,16,28,19],[29,0,31,3],[29,4,31,7],[29,8,31,11],[28,0,28,3],[28,4,28,7],[13,4,13,7],[13,8,13,11],[13,12,13,15],[13,0,13,3],[14,0,16,3],[14,4,16,7],[14,8,16,11],[14,12,16,15],[9,20,11,23],[9,24,11,27],[14,16,16,19],[14,20,16,23],[14,24,16,27],[9,16,11,19],[13,24,13,27],[13,16,13,19],[13,20,13,23],[9,0,11,3],[9,4,11,7],[9,8,11,11],[9,12,11,15],[8,16,8,19],[1,10,1,17],[1,2,1,4],[1,23,1,25],[2,9,6,18],[7,13,7,14],[8,20,8,23],[8,24,8,27],[8,0,8,3],[8,4,8,7],[8,8,8,11],[8,12,8,15]]}
[null,null,null,null,null,null,null,null,null,null,null,null,null,null,null,null,null,null,null,null,null,null,null,null,null,null,null,null,null,null,null,null,"設定部",{"$f":"IF(AG3<2019,入力部!R20,入力部!R21)","v":"令和"}]
[null,null,"１０月",null,null,null,null,null,null,null,{"$f":"IF(AH1=0,DBCS(AG3)&\"年\",DBCS(AG3)&\"年 ／ \"&AH1&DBCS(AH3)&\"年\")","v":"２０２１年 ／ 令和３年"},null,null,null,null,null,null,null,null,null,null,null,null,"１２月",null,null,null,null,null,null,null,null,"西暦","和暦"]
[{"$f":"IF($AH$5=0,1,\"\")","v":""},{"$f":"IF($AH$5=1,1,IF(A3=\"\",\"\",A3+1))","v":""},{"$f":"IF($AH$5=2,1,IF(B3=\"\",\"\",B3+1))","v":""},{"$f":"IF($AH$5=3,1,IF(C3=\"\",\"\",C3+1))","v":""},{"$f":"IF($AH$5=4,1,IF(D3=\"\",\"\",D3+1))","v":""},{"$f":"IF($AH$5=5,1,IF(E3=\"\",\"\",E3+1))","v":1},{"$f":"IF($AH$5=6,1,IF(F3=\"\",\"\",F3+1))","v":2},null,null,11,null,null,null,null,null,null,null,null,null,null,null,{"$f":"IF($AH$7=0,1,\"\")","v":""},{"$f":"IF($AH$7=1,1,IF(V3=\"\",\"\",V3+1))","v":""},{"$f":"IF($AH$7=2,1,IF(W3=\"\",\"\",W3+1))","v":""},{"$f":"IF($AH$7=3,1,IF(X3=\"\",\"\",X3+1))","v":1},{"$f":"IF($AH$7=4,1,IF(Y3=\"\",\"\",Y3+1))","v":2},{"$f":"IF($AH$7=5,1,IF(Z3=\"\",\"\",Z3+1))","v":3},{"$f":"IF($AH$7=6,1,IF(AA3=\"\",\"\",AA3+1))","v":4},null,null,null,null,{"$f":"入力部!J3","v":2021},{"$f":"IF(AG3<2019,AG3-2000+12,IF(AG3-2018=1,\"元\",AG3-2018))","v":3}]
[{"$f":"G3+1","v":3},{"$f":"A4+1","v":4},5,6,7,8,9,null,null,null,null,null,null,null,null,null,null,null,null,null,null,{"$f":"AB3+1","v":5},{"$f":"V4+1","v":6},7,8,9,10,11,null,null,null,null,"曜日計算"]
[{"$f":"G4+1","v":10},11,12,13,14,15,16,null,null,null,null,null,null,null,null,null,null,null,null,null,null,{"$f":"AB4+1","v":12},13,14,15,16,17,18,null,null,null,null,"前月",{"$f":"入力部!D27","v":5}]
[{"$f":"G5+1","v":17},18,19,20,21,22,23,null,null,null,null,null,null,null,null,null,null,null,null,null,null,{"$f":"AB5+1","v":19},20,21,22,23,24,25,null,null,null,null,"当月",{"$f":"入力部!D28","v":1}]
[{"$f":"G6+1","v":24},{"$f":"A7+1","v":25},{"$f":"IF(B7=31,\"\",IF(B7=\"\",\"\",B7+1))","v":26},27,28,29,30,null,null,null,null,null,null,null,null,null,null,null,null,null,null,{"$f":"AB6+1","v":26},{"$f":"V7+1","v":27},{"$f":"IF(W7=31,\"\",IF(W7=\"\",\"\",W7+1))","v":28},29,30,31,"",null,null,null,null,"次月",{"$f":"入力部!D29","v":3}]
[{"$f":"IF(G7=31,\"\",IF(G7=\"\",\"\",G7+1))","v":31},{"$f":"IF(A8=31,\"\",IF(A8=\"\",\"\",A8+1))","v":""},"","","","","",null,null,null,null,null,{"$f":"IF(入力部!$T$17=\"\",\"\",入力部!$T$17&\"／\")","v":"しんちゅう／"},{"$f":"IF(入力部!$S$17=\"\",\"\",入力部!$S$17)","v":"辛丑"},null,{"$f":"IF(入力部!$U$17=\"\",\"\",\"／\"&入力部!$U$17)","v":"／かのとうし"},null,null,null,null,null,{"$f":"IF(AB7=31,\"\",IF(AB7=\"\",\"\",AB7+1))","v":""},{"$f":"IF(V8=31,\"\",IF(V8=\"\",\"\",V8+1))","v":""},"","","","",""]
["ＳＵＮ",null,null,null,"ＭＯＮ",null,null,null,"ＴＵＥ",null,null,null,"ＷＥＤ",null,null,null,"ＴＨＵ",null,null,null,"ＦＲＩ",null,null,null,"ＳＡＴ",null,null,null,null,null,null,null,"祝日データ"]
[{"$f":"IF($AH$6=0,1,\"\")","v":""},{"$f":"IF(Z14=1,1,IF(A10=\"\",\"\",A10+1))","v":""},{"$f":"IF(Z14=2,1,IF(B10=\"\",\"\",B10+1))","v":""},{"$f":"IF(Z14=3,1,IF(C10=\"\",\"\",C10+1))","v":""},{"$f":"IF($AH$6=1,1,IF(A10=\"\",\"\",A10+1))","v":1},null,null,null,{"$f":"IF($AH$6=2,1,IF(E10=\"\",\"\",E10+1))","v":2},null,null,null,{"$f":"IF($AH$6=3,1,IF(I10=\"\",\"\",I10+1))","v":3},null,null,null,{"$f":"IF($AH$6=4,1,IF(M10=\"\",\"\",M10+1))","v":4},null,null,null,{"$f":"IF($AH$6=5,1,IF(Q10=\"\",\"\",Q10+1))","v":5},null,null,null,{"$f":"IF($AH$6=6,1,IF(U10=\"\",\"\",U10+1))","v":6},null,null,null,null,null,null,null,"文化の日"]
[{"$f":"IF(Z15=0,1,\"\")","v":1},{"$f":"IF(Z15=1,1,IF(A11=\"\",\"\",A11+1))","v":2},{"$f":"IF(Z15=2,1,IF(B11=\"\",\"\",B11+1))","v":3},{"$f":"IF(Z15=3,1,IF(C11=\"\",\"\",C11+1))","v":4},null,null,null,null,null,null,null,null,null,null,null,null,null,null,null,null,null,null,null,null,null,null,null,null,null,null,null,null,"11月3日 自由と平和を愛し、文化をすすめる。"]
[{"$f":"IF(Z16=0,1,\"\")","v":1},{"$f":"IF(Z16=1,1,IF(A12=\"\",\"\",A12+1))","v":2},{"$f":"IF(Z16=2,1,IF(B12=\"\",\"\",B12+1))","v":3},{"$f":"IF(Z16=3,1,IF(C12=\"\",\"\",C12+1))","v":4},null,null,null,null,null,null,null,null,null,null,null,null,null,null,null,null,null,null,null,null,null,null,null,null,null,null,null,null,"勤労感謝の日"]
[null,null,null,null,null,null,null,null,null,null,null,null,null,null,null,null,null,null,null,null,null,null,null,null,null,null,null,null,null,null,null,null,"11月23日 勤労をたっとび、生産を祝い、国民たがいに感謝しあう。"]
[null,null,null,null,null,null,null,null,{"$f":"IF(I10=3,\"文化の日\",\"\")","v":""},null,null,null,{"$f":"IF(M10=3,\"文化の日\",\"\")","v":"文化の日"},null,null,null,{"$f":"IF(Q10=3,\"文化の日\",\"\")","v":""},null,null,null,{"$f":"IF(U10=3,\"文化の日\",\"\")","v":""},null,null,null,{"$f":"IF(Y10=3,\"文化の日\",\"\")","v":""}]
[{"$f":"$Y10+1","v":7},null,null,null,{"$f":"A$15+1","v":8},null,null,null,{"$f":"E$15+1","v":9},null,null,null,{"$f":"I$15+1","v":10},null,null,null,{"$f":"M$15+1","v":11},null,null,null,{"$f":"Q$15+1","v":12},null,null,null,{"$f":"U$15+1","v":13}]
[]
[]
[]
[{"$f":"IF(A15=3,\"文化の日\",\"\")","v":""},null,null,null,{"$f":"IF(E15=3,\"文化の日\",IF(E15=4,\"振替休日\",\"\"))","v":""}]
[{"$f":"$Y15+1","v":14},null,null,null,{"$f":"A20+1","v":15},null,null,null,{"$f":"E20+1","v":16},null,null,null,{"$f":"I20+1","v":17},null,null,null,{"$f":"M20+1","v":18},null,null,null,{"$f":"Q20+1","v":19},null,null,null,{"$f":"U20+1","v":20}]
[]
[]
[]
[]
[{"$f":"$Y20+1","v":21},null,null,null,{"$f":"A25+1","v":22},null,null,null,{"$f":"E25+1","v":23},null,null,null,{"$f":"I25+1","v":24},null,null,null,{"$f":"M25+1","v":25},null,null,null,{"$f":"Q25+1","v":26},null,null,null,{"$f":"U25+1","v":27}]
[]
[]
[]
[null,null,null,null,{"$f":"IF(E25=23,\"勤労感謝の日\",\"\")","v":""},null,null,null,{"$f":"IF(I25=23,\"勤労感謝の日\",\"\")","v":"勤労感謝の日"},null,null,null,{"$f":"IF(M25=23,\"勤労感謝の日\",\"\")","v":""},null,null,null,{"$f":"IF(Q25=23,\"勤労感謝の日\",\"\")","v":""},null,null,null,{"$f":"IF(U25=23,\"勤労感謝の日\",\"\")","v":""},null,null,null,{"$f":"IF(Y25=23,\"勤労感謝の日\",\"\")","v":""}]
[{"$f":"$Y25+1","v":28},null,null,null,{"$f":"A30+1","v":29},null,null,null,{"$f":"IF(E30=30,\"\",IF(E30=\"\",\"\",E30+1))","v":30},null,null,null,{"$f":"IF(I30=30,\"\",IF(I30=\"\",\"\",I30+1))","v":""},null,null,null,{"$f":"IF(M30=30,\"\",IF(M30=\"\",\"\",M30+1))","v":""},null,null,null,{"$f":"IF(Q30=30,\"\",IF(Q30=\"\",\"\",Q30+1))","v":""},null,null,null,{"$f":"IF(U30=30,\"\",IF(U30=\"\",\"\",U30+1))","v":""}]
[]
[]
[]
[{"$f":"IF(A30=23,\"勤労感謝の日\",\"\")","v":""},null,null,null,{"$f":"IF(E30=24,\"振替休日\",\"\")","v":""}]
[{"$f":"IF(Y30=30,\"\",IF(Y30=\"\",\"\",Y30+1))","v":""},null,null,null,{"$f":"IF(A35=30,\"\",IF(A35=\"\",\"\",A35+1))","v":""},null,null,null,{"$f":"IF(E35=30,\"\",IF(E35=\"\",\"\",E35+1))","v":""},null,null,null,{"$f":"IF(I35=30,\"\",IF(I35=\"\",\"\",I35+1))","v":""},null,null,null,{"$f":"IF(M35=30,\"\",IF(M35=\"\",\"\",M35+1))","v":""}]
[null,null,null,null,null,null,null,null,null,null,null,null,null,null,null,null,null,null,null,null,"霜　月"]
[]
[null,null,null,null,null,null,null,null,null,null,null,null,null,null,null,null,null,null,null,null,"November"]
[]
[null,null,null,null,null,null,null,null,null,null,null,null,null,null,null,null,null,null,null,null,null,null,null,null,null,null,null,"Jan. 8th 2011  - nasutaworks(AN2)"]

{"sheet":"12","index":12,"n_rows":40,"n_cols":34,"rows_kept":40,"cut":false,"hidden":false,"merged":[[8,20,8,23],[24,20,26,23],[1,2,1,4],[1,23,1,25],[1,10,1,17],[2,9,6,18],[14,0,16,3],[14,4,16,7],[13,0,13,3],[13,4,13,7],[8,12,8,15],[9,0,11,3],[7,13,7,14],[8,24,8,27],[9,24,11,27],[9,16,11,19],[9,20,11,23],[8,16,8,19],[9,4,11,7],[9,8,11,11],[9,12,11,15],[8,0,8,3],[8,4,8,7],[8,8,8,11],[14,8,16,11],[14,12,16,15],[13,8,13,11],[13,12,13,15],[19,24,21,27],[19,16,21,19],[19,20,21,23],[29,24,31,27],[34,0,36,3],[34,4,36,7],[34,8,36,11],[34,12,36,15],[34,16,36,19],[29,16,31,19],[24,0,26,3],[24,4,26,7],[24,8,26,11],[24,12,26,15],[24,16,26,19],[35,20,36,27],[13,24,13,27],[18,16,18,19],[18,20,18,23],[18,24,18,27],[14,16,16,19],[14,20,16,23],[14,24,16,27],[13,16,13,19],[13,20,13,23],[19,8,21,11],[19,12,21,15],[18,0,18,3],[18,4,18,7],[19,0,21,3],[19,4,21,7],[18,8,18,11],[18,12,18,15],[23,0,23,3],[23,4,23,7],[23,16,23,19],[23,20,23,23],[23,8,23,11],[23,12,23,15],[28,0,28,3],[28,4,28,7],[28,8,28,11],[28,12,28,15],[28,16,28,19],[33,16,33,19],[33,20,33,23],[33,24,33,27],[38,16,38,19],[23,24,23,27],[28,20,28,23],[28,24,28,27],[29,20,31,23],[24,24,26,27],[37,20,38,27],[38,0,38,3],[38,4,38,7],[38,8,38,11],[38,12,38,15],[29,8,31,11],[29,12,31,15],[33,0,33,3],[33,4,33,7],[29,0,31,3],[29,4,31,7],[33,8,33,11],[33,12,33,15]]}
[null,null,null,null,null,null,null,null,null,null,null,null,null,null,null,null,null,null,null,null,null,null,null,null,null,null,null,null,null,null,null,null,"設定部",{"$f":"IF(AG3<2019,入力部!R20,入力部!R21)","v":"令和"}]
[null,null,"１１月",null,null,null,null,null,null,null,{"$f":"IF(AH1=0,DBCS(AG3)&\"年\",DBCS(AG3)&\"年 ／ \"&AH1&DBCS(AH3)&\"年\")","v":"２０２１年 ／ 令和３年"},null,null,null,null,null,null,null,null,null,null,null,null,"1月",null,null,null,null,null,null,null,null,"西暦","和暦"]
[{"$f":"IF($AH$5=0,1,\"\")","v":""},{"$f":"IF($AH$5=1,1,IF(A3=\"\",\"\",A3+1))","v":1},{"$f":"IF($AH$5=2,1,IF(B3=\"\",\"\",B3+1))","v":2},{"$f":"IF($AH$5=3,1,IF(C3=\"\",\"\",C3+1))","v":3},{"$f":"IF($AH$5=4,1,IF(D3=\"\",\"\",D3+1))","v":4},{"$f":"IF($AH$5=5,1,IF(E3=\"\",\"\",E3+1))","v":5},{"$f":"IF($AH$5=6,1,IF(F3=\"\",\"\",F3+1))","v":6},null,null,12,null,null,null,null,null,null,null,null,null,null,null,{"$f":"IF($AH$7=0,1,\"\")","v":""},{"$f":"IF($AH$7=1,1,IF(V3=\"\",\"\",V3+1))","v":""},{"$f":"IF($AH$7=2,1,IF(W3=\"\",\"\",W3+1))","v":""},{"$f":"IF($AH$7=3,1,IF(X3=\"\",\"\",X3+1))","v":""},{"$f":"IF($AH$7=4,1,IF(Y3=\"\",\"\",Y3+1))","v":""},{"$f":"IF($AH$7=5,1,IF(Z3=\"\",\"\",Z3+1))","v":""},{"$f":"IF($AH$7=6,1,IF(AA3=\"\",\"\",AA3+1))","v":1},null,null,null,null,{"$f":"入力部!J3","v":2021},{"$f":"IF(AG3<2019,AG3-2000+12,IF(AG3-2018=1,\"元\",AG3-2018))","v":3}]
[{"$f":"G3+1","v":7},{"$f":"A4+1","v":8},9,10,11,12,13,null,null,null,null,null,null,null,null,null,null,null,null,null,null,{"$f":"AB3+1","v":2},{"$f":"V4+1","v":3},4,5,6,7,8,null,null,null,null,"曜日計算"]
[{"$f":"G4+1","v":14},15,16,17,18,19,20,null,null,null,null,null,null,null,null,null,null,null,null,null,null,{"$f":"AB4+1","v":9},10,11,12,13,14,15,null,null,null,null,"前月",{"$f":"入力部!D28","v":1}]
[{"$f":"G5+1","v":21},22,23,24,25,26,27,null,null,null,null,null,null,null,null,null,null,null,null,null,null,{"$f":"AB5+1","v":16},17,18,19,20,21,22,null,null,null,null,"当月",{"$f":"入力部!D29","v":3}]
[{"$f":"G6+1","v":28},{"$f":"A7+1","v":29},{"$f":"IF(B7=30,\"\",IF(B7=\"\",\"\",B7+1))","v":30},"","","","",null,null,null,null,null,null,null,null,null,null,null,null,null,null,{"$f":"AB6+1","v":23},{"$f":"V7+1","v":24},{"$f":"IF(W7=31,\"\",IF(W7=\"\",\"\",W7+1))","v":25},26,27,28,29,null,null,null,null,"次月",{"$f":"入力部!D30","v":6}]
[{"$f":"IF(G7=30,\"\",IF(G7=\"\",\"\",G7+1))","v":""},{"$f":"IF(A8=30,\"\",IF(A8=\"\",\"\",A8+1))","v":""},"","","","","",null,null,null,null,null,{"$f":"IF(入力部!$T$17=\"\",\"\",入力部!$T$17&\"／\")","v":"しんちゅう／"},{"$f":"IF(入力部!$S$17=\"\",\"\",入力部!$S$17)","v":"辛丑"},null,{"$f":"IF(入力部!$U$17=\"\",\"\",\"／\"&入力部!$U$17)","v":"／かのとうし"},null,null,null,null,null,{"$f":"IF(AB7=31,\"\",IF(AB7=\"\",\"\",AB7+1))","v":30},{"$f":"IF(V8=31,\"\",IF(V8=\"\",\"\",V8+1))","v":31},"","","","",""]
["ＳＵＮ",null,null,null,"ＭＯＮ",null,null,null,"ＴＵＥ",null,null,null,"ＷＥＤ",null,null,null,"ＴＨＵ",null,null,null,"ＦＲＩ",null,null,null,"ＳＡＴ",null,null,null,null,null,null,null,"祝日データ"]
[{"$f":"IF($AH$6=0,1,\"\")","v":""},{"$f":"IF(Z14=1,1,IF(A10=\"\",\"\",A10+1))","v":""},{"$f":"IF(Z14=2,1,IF(B10=\"\",\"\",B10+1))","v":""},{"$f":"IF(Z14=3,1,IF(C10=\"\",\"\",C10+1))","v":""},{"$f":"IF($AH$6=1,1,IF(A10=\"\",\"\",A10+1))","v":""},null,null,null,{"$f":"IF($AH$6=2,1,IF(E10=\"\",\"\",E10+1))","v":""},null,null,null,{"$f":"IF($AH$6=3,1,IF(I10=\"\",\"\",I10+1))","v":1},null,null,null,{"$f":"IF($AH$6=4,1,IF(M10=\"\",\"\",M10+1))","v":2},null,null,null,{"$f":"IF($AH$6=5,1,IF(Q10=\"\",\"\",Q10+1))","v":3},null,null,null,{"$f":"IF($AH$6=6,1,IF(U10=\"\",\"\",U10+1))","v":4},null,null,null,null,null,null,null,"天皇誕生日"]
[{"$f":"IF(Z15=0,1,\"\")","v":1},{"$f":"IF(Z15=1,1,IF(A11=\"\",\"\",A11+1))","v":2},{"$f":"IF(Z15=2,1,IF(B11=\"\",\"\",B11+1))","v":3},{"$f":"IF(Z15=3,1,IF(C11=\"\",\"\",C11+1))","v":4},null,null,null,null,null,null,null,null,null,null,null,null,null,null,null,null,null,null,null,null,null,null,null,null,null,null,null,null,"12月23日 天皇の誕生日を祝う。"]
[{"$f":"IF(Z16=0,1,\"\")","v":1},{"$f":"IF(Z16=1,1,IF(A12=\"\",\"\",A12+1))","v":2},{"$f":"IF(Z16=2,1,IF(B12=\"\",\"\",B12+1))","v":3},{"$f":"IF(Z16=3,1,IF(C12=\"\",\"\",C12+1))","v":4}]
[]
[]
[{"$f":"$Y10+1","v":5},null,null,null,{"$f":"A$15+1","v":6},null,null,null,{"$f":"E$15+1","v":7},null,null,null,{"$f":"I$15+1","v":8},null,null,null,{"$f":"M$15+1","v":9},null,null,null,{"$f":"Q$15+1","v":10},null,null,null,{"$f":"U$15+1","v":11}]
[]
[]
[]
[]
[{"$f":"$Y15+1","v":12},null,null,null,{"$f":"A20+1","v":13},null,null,null,{"$f":"E20+1","v":14},null,null,null,{"$f":"I20+1","v":15},null,null,null,{"$f":"M20+1","v":16},null,null,null,{"$f":"Q20+1","v":17},null,null,null,{"$f":"U20+1","v":18}]
[]
[]
[]
[]
[{"$f":"$Y20+1","v":19},null,null,null,{"$f":"A25+1","v":20},null,null,null,{"$f":"E25+1","v":21},null,null,null,{"$f":"I25+1","v":22},null,null,null,{"$f":"M25+1","v":23},null,null,null,{"$f":"Q25+1","v":24},null,null,null,{"$f":"U25+1","v":25}]
[]
[]
[]
[null,null,null,null,{"$f":"IF(E25=23,\"天皇誕生日\",\"\")","v":""},null,null,null,{"$f":"IF(I25=23,\"天皇誕生日\",\"\")","v":""},null,null,null,{"$f":"IF(M25=23,\"天皇誕生日\",\"\")","v":""},null,null,null,{"$f":"IF(Q25=23,\"天皇誕生日\",\"\")","v":"天皇誕生日"},null,null,null,{"$f":"IF(U25=23,\"天皇誕生日\",\"\")","v":""},null,null,null,{"$f":"IF(Y25=23,\"天皇誕生日\",\"\")","v":""}]
[{"$f":"$Y25+1","v":26},null,null,null,{"$f":"A30+1","v":27},null,null,null,{"$f":"IF(E30=31,\"\",IF(E30=\"\",\"\",E30+1))","v":28},null,null,null,{"$f":"IF(I30=31,\"\",IF(I30=\"\",\"\",I30+1))","v":29},null,null,null,{"$f":"IF(M30=31,\"\",IF(M30=\"\",\"\",M30+1))","v":30},null,null,null,{"$f":"IF(Q30=31,\"\",IF(Q30=\"\",\"\",Q30+1))","v":31},null,null,null,{"$f":"IF(U30=31,\"\",IF(U30=\"\",\"\",U30+1))","v":""}]
[]
[]
[]
[{"$f":"IF(A30=23,\"天皇誕生日\",\"\")","v":""},null,null,null,{"$f":"IF(E30=24,\"振替休日\",\"\")","v":""}]
[{"$f":"IF(Y30=31,\"\",IF(Y30=\"\",\"\",Y30+1))","v":""},null,null,null,{"$f":"IF(A35=31,\"\",IF(A35=\"\",\"\",A35+1))","v":""},null,null,null,{"$f":"IF(E35=31,\"\",IF(E35=\"\",\"\",E35+1))","v":""},null,null,null,{"$f":"IF(I35=31,\"\",IF(I35=\"\",\"\",I35+1))","v":""},null,null,null,{"$f":"IF(M35=31,\"\",IF(M35=\"\",\"\",M35+1))","v":""}]
[null,null,null,null,null,null,null,null,null,null,null,null,null,null,null,null,null,null,null,null,"師　走"]
[]
[null,null,null,null,null,null,null,null,null,null,null,null,null,null,null,null,null,null,null,null,"December"]
[]
[null,null,null,null,null,null,null,null,null,null,null,null,null,null,null,null,null,null,null,null,null,null,null,null,null,null,null,"Jan. 8th 2011  - nasutaworks(AN2)"]

{"sheet":"1-12月","index":13,"n_rows":33,"n_cols":39,"rows_kept":33,"cut":false,"hidden":false,"merged":[[0,0,0,4]]}
[{"$f":"Y3","v":2021},null,null,null,null,null,null,null,null,null,null,null,null,null,null,null,null,null,null,null,null,null,null,null,"計算部",null,null,null,null,null,"3月・9月春分・秋分日対応ダミー部"]
["1月",null,null,null,null,null,null,null,"2月",null,null,null,null,null,null,null,"3月",null,null,null,null,null,null,null,"プリント年",null,null,"うるう年2月日数判定",null,null,"3月",null,null,null,null,null,null,"祝日・休日一覧"]
[{"$f":"IF(Z7=0,1,\"\")","v":""},{"$f":"IF(Z7=1,1,IF(A3=\"\",\"\",A3+1))","v":""},{"$f":"IF(Z7=2,1,IF(B3=\"\",\"\",B3+1))","v":""},{"$f":"IF(Z7=3,1,IF(C3=\"\",\"\",C3+1))","v":""},{"$f":"IF(Z7=4,1,IF(D3=\"\",\"\",D3+1))","v":""},{"$f":"IF(Z7=5,1,IF(E3=\"\",\"\",E3+1))","v":1},{"$f":"IF(Z7=6,1,IF(F3=\"\",\"\",F3+1))","v":2},null,{"$f":"IF(Z8=0,1,\"\")","v":""},{"$f":"IF(Z8=1,1,IF(I3=\"\",\"\",I3+1))","v":1},{"$f":"IF(Z8=2,1,IF(J3=\"\",\"\",J3+1))","v":2},{"$f":"IF(Z8=3,1,IF(K3=\"\",\"\",K3+1))","v":3},{"$f":"IF(Z8=4,1,IF(L3=\"\",\"\",L3+1))","v":4},{"$f":"IF(Z8=5,1,IF(M3=\"\",\"\",M3+1))","v":5},{"$f":"IF(Z8=6,1,IF(N3=\"\",\"\",N3+1))","v":6},null,{"$f":"IF(ISBLANK(AE3),\"\",AE3)","v":""},1,2,3,4,5,6,null,{"$f":"入力部!J3","v":2021},null,null,null,{"$f":"入力部!H17","v":28},null,{"$f":"IF(Z9=0,1,\"\")","v":""},{"$f":"IF(Z9=1,1,IF(AE3=\"\",\"\",AE3+1))","v":1},{"$f":"IF(Z9=2,1,IF(AF3=\"\",\"\",AF3+1))","v":2},{"$f":"IF(Z9=3,1,IF(AG3=\"\",\"\",AG3+1))","v":3},{"$f":"IF(Z9=4,1,IF(AH3=\"\",\"\",AH3+1))","v":4},{"$f":"IF(Z9=5,1,IF(AI3=\"\",\"\",AI3+1))","v":5},{"$f":"IF(Z9=6,1,IF(AJ3=\"\",\"\",AJ3+1))","v":6},"1月","1日・第2月曜日"]
[{"$f":"G3+1","v":3},{"$f":"A4+1","v":4},5,6,7,8,9,null,{"$f":"O3+1","v":7},{"$f":"I4+1","v":8},9,10,11,12,13,null,7,8,9,10,11,12,13,null,null,null,null,null,{"$f":"入力部!H18","v":28},null,{"$f":"AK3+1","v":7},{"$f":"AE4+1","v":8},9,10,11,12,13,"2月","11日"]
[{"$f":"G4+1","v":10},11,12,13,14,15,16,null,{"$f":"O4+1","v":14},15,16,17,18,19,20,null,14,15,16,17,18,{"$f":"IF(ISBLANK(AJ5),\"\",IF(AJ5=$AA$24,\" \"&AJ5,AJ5))","v":19},{"$f":"IF(ISBLANK(AK5),\"\",IF(AK5=$AA$24,\" \"&AK5,AK5))","v":" 20"},null,"曜日判定",null,null,null,null,null,{"$f":"AK4+1","v":14},15,16,17,18,19,20,"3月","21日ごろ（＊）"]
[{"$f":"G5+1","v":17},18,19,20,21,22,23,null,{"$f":"O5+1","v":21},22,23,24,25,26,27,null,{"$f":"IF(ISBLANK(AE6),\"\",AE6)","v":21},{"$f":"IF(ISBLANK(AF6),\"\",IF(AF6=$AA$24,\" \"&AF6,IF(AE6=$AA$24,\" \"&AF6,AF6)))","v":22},{"$f":"IF(ISBLANK(AG6),\"\",IF(AG6=$AA$24,\" \"&AG6,AG6))","v":23},{"$f":"IF(ISBLANK(AH6),\"\",IF(AH6=$AA$24,\" \"&AH6,AH6))","v":24},{"$f":"IF(ISBLANK(AI6),\"\",IF(AI6=$AA$24,\" \"&AI6,AI6))","v":25},26,27,null,null,null,null,null,null,null,{"$f":"AK5+1","v":21},22,23,24,25,26,27,"4月","29日"]
[{"$f":"G6+1","v":24},{"$f":"A7+1","v":25},{"$f":"IF(B7=31,\"\",IF(B7=\"\",\"\",B7+1))","v":26},27,28,29,30,null,{"$f":"IF(O6=AC3,\"\",IF(O6=\"\",\"\",O6+1))","v":28},{"$f":"IF(I7=AC3,\"\",IF(I7=\"\",\"\",I7+1))","v":""},{"$f":"IF(J7=AC3,\"\",IF(J7=\"\",\"\",J7+1))","v":""},{"$f":"IF(K7=AC3,\"\",IF(K7=\"\",\"\",K7+1))","v":""},{"$f":"IF(L7=AC3,\"\",IF(L7=\"\",\"\",L7+1))","v":""},{"$f":"IF(M7=AC3,\"\",IF(M7=\"\",\"\",M7+1))","v":""},{"$f":"IF(N7=AC3,\"\",IF(N7=\"\",\"\",N7+1))","v":""},null,{"$f":"IF(ISBLANK(AE7),\"\",AE7)","v":28},{"$f":"IF(ISBLANK(AF7),\"\",AF7)","v":29},30,31,"","","",null,"1月",{"$f":"ROUNDDOWN(MOD(AC7,7),0)","v":5},null,null,{"$f":"(Y3-1)+ROUNDDOWN(((Y3-1)/4),0)-ROUNDDOWN(((Y3-1)/100),0)+ROUNDDOWN(((Y3-1)/400),0)+ROUNDDOWN((2.6*(1+12)+1.6),0)+1","v":2546},null,{"$f":"AK6+1","v":28},{"$f":"AE7+1","v":29},{"$f":"IF(AF7=31,\"\",IF(AF7=\"\",\"\",AF7+1))","v":30},31,"","","","5月","3日・4日・5日"]
[{"$f":"IF(G7=31,\"\",IF(G7=\"\",\"\",G7+1))","v":31},{"$f":"IF(A8=31,\"\",IF(A8=\"\",\"\",A8+1))","v":""},"","","","","",null,{"$f":"IF(O7=AC3,\"\",IF(O7=\"\",\"\",O7+1))","v":""},{"$f":"IF(I8=AC3,\"\",IF(I8=\"\",\"\",I8+1))","v":""},{"$f":"IF(J8=AC3,\"\",IF(J8=\"\",\"\",J8+1))","v":""},{"$f":"IF(K8=AC3,\"\",IF(K8=\"\",\"\",K8+1))","v":""},{"$f":"IF(L8=AC3,\"\",IF(L8=\"\",\"\",L8+1))","v":""},{"$f":"IF(M8=AC3,\"\",IF(M8=\"\",\"\",M8+1))","v":""},{"$f":"IF(N8=AC3,\"\",IF(N8=\"\",\"\",N8+1))","v":""},null,{"$f":"IF(ISBLANK(AE8),\"\",AE8)","v":""},"","","","","","",null,"2月",1,null,null,{"$f":"(Y3-1)+ROUNDDOWN(((Y3-1)/4),0)-ROUNDDOWN(((Y3-1)/100),0)+ROUNDDOWN(((Y3-1)/400),0)+ROUNDDOWN((2.6*(2+12)+1.6),0)+1","v":2549},null,{"$f":"IF(AK7=31,\"\",IF(AK7=\"\",\"\",AK7+1))","v":""},{"$f":"IF(AE8=31,\"\",IF(AE8=\"\",\"\",AE8+1))","v":""},"","","","","","6月"]
[null,null,null,null,null,null,null,null,null,null,null,null,null,null,null,null,null,null,null,null,null,null,null,null,"3月",1,null,null,{"$f":"Y3+ROUNDDOWN((Y3/4),0)-ROUNDDOWN((Y3/100),0)+ROUNDDOWN((Y3/400),0)+ROUNDDOWN((2.6*(3)+1.6),0)+1","v":2521},null,null,null,null,null,null,null,null,"7月","第3月曜日"]
["4月",null,null,null,null,null,null,null,"5月",null,null,null,null,null,null,null,"6月",null,null,null,null,null,null,null,"4月",4,null,null,{"$f":"Y3+ROUNDDOWN((Y3/4),0)-ROUNDDOWN((Y3/100),0)+ROUNDDOWN((Y3/400),0)+ROUNDDOWN((2.6*(4)+1.6),0)+1","v":2524},null,null,null,null,null,null,null,null,"8月"]
[{"$f":"IF(Z10=0,1,\"\")","v":""},{"$f":"IF(Z10=1,1,IF(A11=\"\",\"\",A11+1))","v":""},{"$f":"IF(Z10=2,1,IF(B11=\"\",\"\",B11+1))","v":""},{"$f":"IF(Z10=3,1,IF(C11=\"\",\"\",C11+1))","v":""},{"$f":"IF(Z10=4,1,IF(D11=\"\",\"\",D11+1))","v":1},{"$f":"IF(Z10=5,1,IF(E11=\"\",\"\",E11+1))","v":2},{"$f":"IF(Z10=6,1,IF(F11=\"\",\"\",F11+1))","v":3},null,{"$f":"IF(Z11=0,1,\"\")","v":""},{"$f":"IF(Z11=1,1,IF(I11=\"\",\"\",I11+1))","v":""},{"$f":"IF(Z11=2,1,IF(J11=\"\",\"\",J11+1))","v":""},{"$f":"IF(Z11=3,1,IF(K11=\"\",\"\",K11+1))","v":""},{"$f":"IF(Z11=4,1,IF(L11=\"\",\"\",L11+1))","v":""},{"$f":"IF(Z11=5,1,IF(M11=\"\",\"\",M11+1))","v":""},{"$f":"IF(Z11=6,1,IF(N11=\"\",\"\",N11+1))","v":1},null,{"$f":"IF(Z12=0,1,\"\")","v":""},{"$f":"IF(Z12=1,1,IF(Q11=\"\",\"\",Q11+1))","v":""},{"$f":"IF(Z12=2,1,IF(R11=\"\",\"\",R11+1))","v":1},{"$f":"IF(Z12=3,1,IF(S11=\"\",\"\",S11+1))","v":2},{"$f":"IF(Z12=4,1,IF(T11=\"\",\"\",T11+1))","v":3},{"$f":"IF(Z12=5,1,IF(U11=\"\",\"\",U11+1))","v":4},{"$f":"IF(Z12=6,1,IF(V11=\"\",\"\",V11+1))","v":5},null,"5月",6,null,null,{"$f":"Y3+ROUNDDOWN((Y3/4),0)-ROUNDDOWN((Y3/100),0)+ROUNDDOWN((Y3/400),0)+ROUNDDOWN((2.6*(5)+1.6),0)+1","v":2526},null,null,null,null,null,null,null,null,"9月","第3月曜日・23日ごろ（＊）"]
[{"$f":"G11+1","v":4},{"$f":"A12+1","v":5},6,7,8,9,10,null,{"$f":"O11+1","v":2},{"$f":"I12+1","v":3},4,5,6,7,8,null,{"$f":"W11+1","v":6},{"$f":"Q12+1","v":7},8,9,10,11,12,null,"6月",2,null,null,{"$f":"Y3+ROUNDDOWN((Y3/4),0)-ROUNDDOWN((Y3/100),0)+ROUNDDOWN((Y3/400),0)+ROUNDDOWN((2.6*(6)+1.6),0)+1","v":2529},null,null,null,null,null,null,null,null,"10月","第2月曜日"]
[{"$f":"G12+1","v":11},12,13,14,15,16,17,null,{"$f":"O12+1","v":9},10,11,12,13,14,15,null,{"$f":"W12+1","v":13},14,15,16,17,18,19,null,"7月",4,null,null,{"$f":"Y3+ROUNDDOWN((Y3/4),0)-ROUNDDOWN((Y3/100),0)+ROUNDDOWN((Y3/400),0)+ROUNDDOWN((2.6*(7)+1.6),0)+1","v":2531},null,null,null,null,null,null,null,null,"11月","3日・23日"]
[{"$f":"G13+1","v":18},19,20,21,22,23,24,null,{"$f":"O13+1","v":16},17,18,19,20,21,22,null,{"$f":"W13+1","v":20},21,22,23,24,25,26,null,"8月",0,null,null,{"$f":"Y3+ROUNDDOWN((Y3/4),0)-ROUNDDOWN((Y3/100),0)+ROUNDDOWN((Y3/400),0)+ROUNDDOWN((2.6*(8)+1.6),0)+1","v":2534},null,null,null,null,null,null,null,null,"12月","23日"]
[{"$f":"G14+1","v":25},{"$f":"A15+1","v":26},{"$f":"IF(B15=30,\"\",IF(B15=\"\",\"\",B15+1))","v":27},28,29,30,"",null,{"$f":"O14+1","v":23},{"$f":"I15+1","v":24},{"$f":"IF(J15=31,\"\",IF(J15=\"\",\"\",J15+1))","v":25},26,27,28,29,null,{"$f":"W14+1","v":27},{"$f":"Q15+1","v":28},{"$f":"IF(R15=30,\"\",IF(R15=\"\",\"\",R15+1))","v":29},30,"","","",null,"9月",3,null,null,{"$f":"Y3+ROUNDDOWN((Y3/4),0)-ROUNDDOWN((Y3/100),0)+ROUNDDOWN((Y3/400),0)+ROUNDDOWN((2.6*(9)+1.6),0)+1","v":2537},null,null,null,null,null,null,null,null,"（＊）春分日・秋分日は年ごとに変化"]
[{"$f":"IF(G15=30,\"\",IF(G15=\"\",\"\",G15+1))","v":""},{"$f":"IF(A16=30,\"\",IF(A16=\"\",\"\",A16+1))","v":""},"","","","","",null,{"$f":"IF(O15=31,\"\",IF(O15=\"\",\"\",O15+1))","v":30},{"$f":"IF(I16=31,\"\",IF(I16=\"\",\"\",I16+1))","v":31},"","","","","",null,{"$f":"IF(W15=30,\"\",IF(W15=\"\",\"\",W15+1))","v":""},{"$f":"IF(Q16=30,\"\",IF(Q16=\"\",\"\",Q16+1))","v":""},"","","","","",null,"10月",5,null,null,{"$f":"Y3+ROUNDDOWN((Y3/4),0)-ROUNDDOWN((Y3/100),0)+ROUNDDOWN((Y3/400),0)+ROUNDDOWN((2.6*(10)+1.6),0)+1","v":2539},null,null,null,null,null,null,null,null,"　　　前年2月ごろに発表"]
[null,null,null,null,null,null,null,null,null,null,null,null,null,null,null,null,null,null,null,null,null,null,null,null,"11月",1,null,null,{"$f":"Y3+ROUNDDOWN((Y3/4),0)-ROUNDDOWN((Y3/100),0)+ROUNDDOWN((Y3/400),0)+ROUNDDOWN((2.6*(11)+1.6),0)+1","v":2542}]
["7月",null,null,null,null,null,null,null,"8月",null,null,null,null,null,null,null,"9月",null,null,null,null,null,null,null,"12月",3,null,null,{"$f":"Y3+ROUNDDOWN((Y3/4),0)-ROUNDDOWN((Y3/100),0)+ROUNDDOWN((Y3/400),0)+ROUNDDOWN((2.6*(12)+1.6),0)+1","v":2544},null,"9月"]
[{"$f":"IF(Z13=0,1,\"\")","v":""},{"$f":"IF(Z13=1,1,IF(A19=\"\",\"\",A19+1))","v":""},{"$f":"IF(Z13=2,1,IF(B19=\"\",\"\",B19+1))","v":""},{"$f":"IF(Z13=3,1,IF(C19=\"\",\"\",C19+1))","v":""},{"$f":"IF(Z13=4,1,IF(D19=\"\",\"\",D19+1))","v":1},{"$f":"IF(Z13=5,1,IF(E19=\"\",\"\",E19+1))","v":2},{"$f":"IF(Z13=6,1,IF(F19=\"\",\"\",F19+1))","v":3},null,{"$f":"IF(Z14=0,1,\"\")","v":1},{"$f":"IF(Z14=1,1,IF(I19=\"\",\"\",I19+1))","v":2},{"$f":"IF(Z14=2,1,IF(J19=\"\",\"\",J19+1))","v":3},{"$f":"IF(Z14=3,1,IF(K19=\"\",\"\",K19+1))","v":4},{"$f":"IF(Z14=4,1,IF(L19=\"\",\"\",L19+1))","v":5},{"$f":"IF(Z14=5,1,IF(M19=\"\",\"\",M19+1))","v":6},{"$f":"IF(Z14=6,1,IF(N19=\"\",\"\",N19+1))","v":7},null,{"$f":"IF(ISBLANK(AE19),\"\",AE19)","v":""},"","",1,2,3,4,null,"1月",6,null,null,{"$f":"Y3+ROUNDDOWN((Y3/4),0)-ROUNDDOWN((Y3/100),0)+ROUNDDOWN((Y3/400),0)+ROUNDDOWN((2.6*(1+12)+1.6),0)+1","v":2547},null,{"$f":"IF(Z15=0,1,\"\")","v":""},{"$f":"IF(Z15=1,1,IF(AE19=\"\",\"\",AE19+1))","v":""},{"$f":"IF(Z15=2,1,IF(AF19=\"\",\"\",AF19+1))","v":""},{"$f":"IF(Z15=3,1,IF(AG19=\"\",\"\",AG19+1))","v":1},{"$f":"IF(Z15=4,1,IF(AH19=\"\",\"\",AH19+1))","v":2},{"$f":"IF(Z15=5,1,IF(AI19=\"\",\"\",AI19+1))","v":3},{"$f":"IF(Z15=6,1,IF(AJ19=\"\",\"\",AJ19+1))","v":4}]
[{"$f":"G19+1","v":4},{"$f":"A20+1","v":5},6,7,8,9,10,null,{"$f":"O19+1","v":8},{"$f":"I20+1","v":9},10,{"$f":"IF(K20<>10,K20+1,IF($Y$3<2016,\" \"&K20+1,K20+1))","v":11},{"$f":"IF(L20<>10,L20+1,IF($Y$3<2016,\" \"&L20+1,L20+1))","v":12},{"$f":"IF(M20<>10,M20+1,IF($Y$3<2016,\" \"&M20+1,M20+1))","v":13},{"$f":"IF(N20<>10,N20+1,IF($Y$3<2016,\" \"&N20+1,N20+1))","v":14},null,5,6,7,8,9,10,11,null,"2月",2,null,null,{"$f":"Y3+ROUNDDOWN((Y3/4),0)-ROUNDDOWN((Y3/100),0)+ROUNDDOWN((Y3/400),0)+ROUNDDOWN((2.6*(2+12)+1.6),0)+1","v":2550},null,{"$f":"AK19+1","v":5},{"$f":"AE20+1","v":6},7,8,9,10,11]
[{"$f":"G20+1","v":11},12,13,14,15,16,17,null,{"$f":"O20+1","v":15},{"$f":"IF(I21<>10,I21+1,IF($Y$3<2016,\" \"&I21+1,I21+1))","v":16},{"$f":"IF(J21<>10,J21+1,IF($Y$3<2016,\" \"&J21+1,J21+1))","v":17},18,19,20,21,null,12,13,14,15,16,17,18,null,"3月",2,null,null,{"$f":"(Y3+1)+ROUNDDOWN(((Y3+1)/4),0)-ROUNDDOWN(((Y3+1)/100),0)+ROUNDDOWN(((Y3+1)/400),0)+ROUNDDOWN((2.6*(3)+1.6),0)+1","v":2522},null,{"$f":"AK20+1","v":12},13,14,15,16,17,18]
[{"$f":"G21+1","v":18},19,20,21,22,23,24,null,{"$f":"O21+1","v":22},23,24,25,26,27,28,null,{"$f":"IF(ISBLANK(AE22),\"\",AE22)","v":19},{"$f":"IF(ISBLANK(AF22),\"\",AF22)","v":20},{"$f":"IF(ISBLANK(AG22),\"\",IF(AG22=$AA$25,\" \"&AG22,IF(AH22=$AA$25,\" \"&AG22,AG22)))","v":21},{"$f":"IF(ISBLANK(AH22),\"\",IF(AH22=$AA$25,\" \"&AH22,AH22))","v":22},{"$f":"IF(ISBLANK(AI22),\"\",IF(AI22=$AA$25,\" \"&AI22,AI22))","v":" 23"},{"$f":"IF(ISBLANK(AJ22),\"\",IF(AJ22=$AA$25,\" \"&AJ22,AJ22))","v":24},{"$f":"IF(ISBLANK(AK22),\"\",IF(AK22=$AA$25,\" \"&AK22,AK22))","v":25},null,null,null,null,null,null,null,{"$f":"AK21+1","v":19},20,21,22,23,24,25]
[{"$f":"G22+1","v":25},{"$f":"A23+1","v":26},{"$f":"IF(B23=31,\"\",IF(B23=\"\",\"\",B23+1))","v":27},28,29,30,31,null,{"$f":"O22+1","v":29},{"$f":"I23+1","v":30},{"$f":"IF(J23=31,\"\",IF(J23=\"\",\"\",J23+1))","v":31},"","","","",null,{"$f":"IF(ISBLANK(AE23),\"\",AE23)","v":26},{"$f":"IF(ISBLANK(AF23),\"\",IF(AF23=$AA$25,\" \"&AF23,AF23))","v":27},{"$f":"IF(ISBLANK(AG23),\"\",AG23)","v":28},29,30,"","",null,"春分・秋分日",null,null,null,null,null,{"$f":"AK22+1","v":26},{"$f":"AE23+1","v":27},{"$f":"IF(AF23=30,\"\",IF(AF23=\"\",\"\",AF23+1))","v":28},29,30,"",""]
[{"$f":"IF(G23=31,\"\",IF(G23=\"\",\"\",G23+1))","v":""},{"$f":"IF(A24=31,\"\",IF(A24=\"\",\"\",A24+1))","v":""},"","","","","",null,{"$f":"IF(O23=31,\"\",IF(O23=\"\",\"\",O23+1))","v":""},{"$f":"IF(I24=31,\"\",IF(I24=\"\",\"\",I24+1))","v":""},"","","","","",null,{"$f":"IF(ISBLANK(AE24),\"\",AE24)","v":""},{"$f":"IF(ISBLANK(AF24),\"\",AF24)","v":""},"","","","","",null,"春分日",null,{"$f":"入力部!L17","v":20},null,null,null,{"$f":"IF(AK23=30,\"\",IF(AK23=\"\",\"\",AK23+1))","v":""},{"$f":"IF(AE24=30,\"\",IF(AE24=\"\",\"\",AE24+1))","v":""},"","","","",""]
[null,null,null,null,null,null,null,null,null,null,null,null,null,null,null,null,null,null,null,null,null,null,null,null,"秋分日",null,{"$f":"入力部!L18","v":23}]
["10月",null,null,null,null,null,null,null,"11月",null,null,null,null,null,null,null,"12月"]
[{"$f":"IF(Z16=0,1,\"\")","v":""},{"$f":"IF(Z16=1,1,IF(A27=\"\",\"\",A27+1))","v":""},{"$f":"IF(Z16=2,1,IF(B27=\"\",\"\",B27+1))","v":""},{"$f":"IF(Z16=3,1,IF(C27=\"\",\"\",C27+1))","v":""},{"$f":"IF(Z16=4,1,IF(D27=\"\",\"\",D27+1))","v":""},{"$f":"IF(Z16=5,1,IF(E27=\"\",\"\",E27+1))","v":1},{"$f":"IF(Z16=6,1,IF(F27=\"\",\"\",F27+1))","v":2},null,{"$f":"IF(Z17=0,1,\"\")","v":""},{"$f":"IF(Z17=1,1,IF(I27=\"\",\"\",I27+1))","v":1},{"$f":"IF(Z17=2,1,IF(J27=\"\",\"\",J27+1))","v":2},{"$f":"IF(Z17=3,1,IF(K27=\"\",\"\",K27+1))","v":3},{"$f":"IF(Z17=4,1,IF(L27=\"\",\"\",L27+1))","v":4},{"$f":"IF(Z17=5,1,IF(M27=\"\",\"\",M27+1))","v":5},{"$f":"IF(Z17=6,1,IF(N27=\"\",\"\",N27+1))","v":6},null,{"$f":"IF(Z18=0,1,\"\")","v":""},{"$f":"IF(Z18=1,1,IF(Q27=\"\",\"\",Q27+1))","v":""},{"$f":"IF(Z18=2,1,IF(R27=\"\",\"\",R27+1))","v":""},{"$f":"IF(Z18=3,1,IF(S27=\"\",\"\",S27+1))","v":1},{"$f":"IF(Z18=4,1,IF(T27=\"\",\"\",T27+1))","v":2},{"$f":"IF(Z18=5,1,IF(U27=\"\",\"\",U27+1))","v":3},{"$f":"IF(Z18=6,1,IF(V27=\"\",\"\",V27+1))","v":4},null,"セル幅・高さ設定"]
[{"$f":"G27+1","v":3},{"$f":"A28+1","v":4},5,6,7,8,9,null,{"$f":"O27+1","v":7},{"$f":"I28+1","v":8},9,10,11,12,13,null,{"$f":"W27+1","v":5},{"$f":"Q28+1","v":6},7,8,9,10,11,null,"(幅)","列H、列Pを除く列A〜W：0.81cm"]
[{"$f":"G28+1","v":10},11,12,13,14,15,16,null,{"$f":"O28+1","v":14},15,16,17,18,19,20,null,{"$f":"W28+1","v":12},13,14,15,16,17,18,null,null,"列H&列P：1.41cm"]
[{"$f":"G29+1","v":17},18,19,20,21,22,23,null,{"$f":"O29+1","v":21},22,23,24,25,26,27,null,{"$f":"W29+1","v":19},20,21,22,23,24,25,null,"(高さ)"]
[{"$f":"G30+1","v":24},{"$f":"A31+1","v":25},{"$f":"IF(B31=31,\"\",IF(B31=\"\",\"\",B31+1))","v":26},27,28,29,30,null,{"$f":"O30+1","v":28},{"$f":"I31+1","v":29},{"$f":"IF(J31=30,\"\",IF(J31=\"\",\"\",J31+1))","v":30},"","","","",null,{"$f":"W30+1","v":26},{"$f":"Q31+1","v":27},{"$f":"IF(R31=31,\"\",IF(R31=\"\",\"\",R31+1))","v":28},29,30,31,"",null,null,"行1&行33：1.31cm"]
[{"$f":"IF(G31=31,\"\",IF(G31=\"\",\"\",G31+1))","v":31},{"$f":"IF(A32=31,\"\",IF(A32=\"\",\"\",A32+1))","v":""},"","","","","",null,{"$f":"IF(O31=30,\"\",IF(O31=\"\",\"\",O31+1))","v":""},{"$f":"IF(I32=30,\"\",IF(I32=\"\",\"\",I32+1))","v":""},"","","","","",null,{"$f":"IF(W31=31,\"\",IF(W31=\"\",\"\",W31+1))","v":""},{"$f":"IF(Q32=31,\"\",IF(Q32=\"\",\"\",Q32+1))","v":""},"","","","","",null,null,"行2〜行32：0.81cm"]
[null,null,null,null,null,null,null,null,null,null,null,null,null,null,null,null,null,null,null,null,null,null,"[ Concept & Make out  by  AN2  --  Feb. 18th (SAT) 2011 ]"]

{"sheet":"4-3月","index":14,"n_rows":33,"n_cols":40,"rows_kept":33,"cut":false,"hidden":false,"merged":[[0,0,0,4]]}
[{"$f":"Y3&\" / \"&(Y3+1)","v":"2021 / 2022"},null,null,null,null,null,null,null,null,null,null,null,null,null,null,null,null,null,null,null,null,null,null,null,"計算部"]
["4月",null,null,null,null,null,null,null,"5月",null,null,null,null,null,null,null,"6月",null,null,null,null,null,null,null,"プリント年",null,null,"うるう年2月日数判定",null,null,null,null,null,null,null,null,null,null,"祝日・休日一覧"]
[{"$f":"IF(Z10=0,1,\"\")","v":""},{"$f":"IF(Z10=1,1,IF(A3=\"\",\"\",A3+1))","v":""},{"$f":"IF(Z10=2,1,IF(B3=\"\",\"\",B3+1))","v":""},{"$f":"IF(Z10=3,1,IF(C3=\"\",\"\",C3+1))","v":""},{"$f":"IF(Z10=4,1,IF(D3=\"\",\"\",D3+1))","v":1},{"$f":"IF(Z10=5,1,IF(E3=\"\",\"\",E3+1))","v":2},{"$f":"IF(Z10=6,1,IF(F3=\"\",\"\",F3+1))","v":3},null,{"$f":"IF(Z11=0,1,\"\")","v":""},{"$f":"IF(Z11=1,1,IF(I3=\"\",\"\",I3+1))","v":""},{"$f":"IF(Z11=2,1,IF(J3=\"\",\"\",J3+1))","v":""},{"$f":"IF(Z11=3,1,IF(K3=\"\",\"\",K3+1))","v":""},{"$f":"IF(Z11=4,1,IF(L3=\"\",\"\",L3+1))","v":""},{"$f":"IF(Z11=5,1,IF(M3=\"\",\"\",M3+1))","v":""},{"$f":"IF(Z11=6,1,IF(N3=\"\",\"\",N3+1))","v":1},null,{"$f":"IF(Z12=0,1,\"\")","v":""},{"$f":"IF(Z12=1,1,IF(Q3=\"\",\"\",Q3+1))","v":""},{"$f":"IF(Z12=2,1,IF(R3=\"\",\"\",R3+1))","v":1},{"$f":"IF(Z12=3,1,IF(S3=\"\",\"\",S3+1))","v":2},{"$f":"IF(Z12=4,1,IF(T3=\"\",\"\",T3+1))","v":3},{"$f":"IF(Z12=5,1,IF(U3=\"\",\"\",U3+1))","v":4},{"$f":"IF(Z12=6,1,IF(V3=\"\",\"\",V3+1))","v":5},null,{"$f":"入力部!J3","v":2021},null,null,null,{"$f":"入力部!H17","v":28},null,null,null,null,null,null,null,null,null,"1月","1日・第2月曜日"]
[{"$f":"G3+1","v":4},{"$f":"A4+1","v":5},6,7,8,9,10,null,{"$f":"O3+1","v":2},{"$f":"I4+1","v":3},4,5,6,7,8,null,{"$f":"W3+1","v":6},{"$f":"Q4+1","v":7},8,9,10,11,12,null,null,null,null,null,{"$f":"入力部!H18","v":28},null,null,null,null,null,null,null,null,null,"2月","11日"]
[{"$f":"G4+1","v":11},12,13,14,15,16,17,null,{"$f":"O4+1","v":9},10,11,12,13,14,15,null,{"$f":"W4+1","v":13},14,15,16,17,18,19,null,"曜日判定",null,null,null,null,null,"9月・3月春分・秋分日対応ダミー部",null,null,null,null,null,null,null,"3月","21日ごろ（＊）"]
[{"$f":"G5+1","v":18},19,20,21,22,23,24,null,{"$f":"O5+1","v":16},17,18,19,20,21,22,null,{"$f":"W5+1","v":20},21,22,23,24,25,26,null,null,null,null,null,null,null,null,null,null,null,null,null,null,null,"4月","29日"]
[{"$f":"G6+1","v":25},{"$f":"A7+1","v":26},{"$f":"IF(B7=30,\"\",IF(B7=\"\",\"\",B7+1))","v":27},28,29,30,"",null,{"$f":"O6+1","v":23},{"$f":"I7+1","v":24},{"$f":"IF(J7=31,\"\",IF(J7=\"\",\"\",J7+1))","v":25},26,27,28,29,null,{"$f":"W6+1","v":27},{"$f":"Q7+1","v":28},{"$f":"IF(R7=30,\"\",IF(R7=\"\",\"\",R7+1))","v":29},30,"","","",null,"1月",{"$f":"ROUNDDOWN(MOD(AC7,7),0)","v":5},null,null,{"$f":"(Y3-1)+ROUNDDOWN(((Y3-1)/4),0)-ROUNDDOWN(((Y3-1)/100),0)+ROUNDDOWN(((Y3-1)/400),0)+ROUNDDOWN((2.6*(1+12)+1.6),0)+1","v":2546},null,null,null,null,null,null,null,null,null,"5月","3日・4日・5日"]
[{"$f":"IF(G7=30,\"\",IF(G7=\"\",\"\",G7+1))","v":""},{"$f":"IF(A8=30,\"\",IF(A8=\"\",\"\",A8+1))","v":""},"","","","","",null,{"$f":"IF(O7=31,\"\",IF(O7=\"\",\"\",O7+1))","v":30},{"$f":"IF(I8=31,\"\",IF(I8=\"\",\"\",I8+1))","v":31},"","","","","",null,{"$f":"IF(W7=30,\"\",IF(W7=\"\",\"\",W7+1))","v":""},{"$f":"IF(Q8=30,\"\",IF(Q8=\"\",\"\",Q8+1))","v":""},"","","","","",null,"2月",1,null,null,{"$f":"(Y3-1)+ROUNDDOWN(((Y3-1)/4),0)-ROUNDDOWN(((Y3-1)/100),0)+ROUNDDOWN(((Y3-1)/400),0)+ROUNDDOWN((2.6*(2+12)+1.6),0)+1","v":2549},null,null,null,null,null,null,null,null,null,"6月"]
[null,null,null,null,null,null,null,null,null,null,null,null,null,null,null,null,null,null,null,null,null,null,null,null,"3月",1,null,null,{"$f":"Y3+ROUNDDOWN((Y3/4),0)-ROUNDDOWN((Y3/100),0)+ROUNDDOWN((Y3/400),0)+ROUNDDOWN((2.6*(3)+1.6),0)+1","v":2521},null,null,null,null,null,null,null,null,null,"7月","第3月曜日"]
["7月",null,null,null,null,null,null,null,"8月",null,null,null,null,null,null,null,"9月",null,null,null,null,null,null,null,"4月",4,null,null,{"$f":"Y3+ROUNDDOWN((Y3/4),0)-ROUNDDOWN((Y3/100),0)+ROUNDDOWN((Y3/400),0)+ROUNDDOWN((2.6*(4)+1.6),0)+1","v":2524},null,"9月",null,null,null,null,null,null,null,"8月"]
[{"$f":"IF(Z13=0,1,\"\")","v":""},{"$f":"IF(Z13=1,1,IF(A11=\"\",\"\",A11+1))","v":""},{"$f":"IF(Z13=2,1,IF(B11=\"\",\"\",B11+1))","v":""},{"$f":"IF(Z13=3,1,IF(C11=\"\",\"\",C11+1))","v":""},{"$f":"IF(Z13=4,1,IF(D11=\"\",\"\",D11+1))","v":1},{"$f":"IF(Z13=5,1,IF(E11=\"\",\"\",E11+1))","v":2},{"$f":"IF(Z13=6,1,IF(F11=\"\",\"\",F11+1))","v":3},null,{"$f":"IF(Z14=0,1,\"\")","v":1},{"$f":"IF(Z14=1,1,IF(I11=\"\",\"\",I11+1))","v":2},{"$f":"IF(Z14=2,1,IF(J11=\"\",\"\",J11+1))","v":3},{"$f":"IF(Z14=3,1,IF(K11=\"\",\"\",K11+1))","v":4},{"$f":"IF(Z14=4,1,IF(L11=\"\",\"\",L11+1))","v":5},{"$f":"IF(Z14=5,1,IF(M11=\"\",\"\",M11+1))","v":6},{"$f":"IF(Z14=6,1,IF(N11=\"\",\"\",N11+1))","v":7},null,{"$f":"IF(ISBLANK(AE11),\"\",AE11)","v":""},"","",1,2,3,4,null,"5月",6,null,null,{"$f":"Y3+ROUNDDOWN((Y3/4),0)-ROUNDDOWN((Y3/100),0)+ROUNDDOWN((Y3/400),0)+ROUNDDOWN((2.6*(5)+1.6),0)+1","v":2526},null,{"$f":"IF(Z15=0,1,\"\")","v":""},{"$f":"IF(Z15=1,1,IF(AE11=\"\",\"\",AE11+1))","v":""},{"$f":"IF(Z15=2,1,IF(AF11=\"\",\"\",AF11+1))","v":""},{"$f":"IF(Z15=3,1,IF(AG11=\"\",\"\",AG11+1))","v":1},{"$f":"IF(Z15=4,1,IF(AH11=\"\",\"\",AH11+1))","v":2},{"$f":"IF(Z15=5,1,IF(AI11=\"\",\"\",AI11+1))","v":3},{"$f":"IF(Z15=6,1,IF(AJ11=\"\",\"\",AJ11+1))","v":4},null,"9月","第3月曜日・23日ごろ（＊）"]
[{"$f":"G11+1","v":4},{"$f":"A12+1","v":5},6,7,8,9,10,null,{"$f":"O11+1","v":8},{"$f":"I12+1","v":9},{"$f":"J12+1","v":10},{"$f":"IF(K12<>10,K12+1,IF($Y$3<2016,\" \"&K12+1,K12+1))","v":11},{"$f":"IF(L12<>10,L12+1,IF($Y$3<2016,\" \"&L12+1,L12+1))","v":12},{"$f":"IF(M12<>10,M12+1,IF($Y$3<2016,\" \"&M12+1,M12+1))","v":13},{"$f":"IF(N12<>10,N12+1,IF($Y$3<2016,\" \"&N12+1,N12+1))","v":14},null,5,6,7,8,9,10,11,null,"6月",2,null,null,{"$f":"Y3+ROUNDDOWN((Y3/4),0)-ROUNDDOWN((Y3/100),0)+ROUNDDOWN((Y3/400),0)+ROUNDDOWN((2.6*(6)+1.6),0)+1","v":2529},null,{"$f":"AK11+1","v":5},{"$f":"AE12+1","v":6},7,8,9,10,11,null,"10月","第2月曜日"]
[{"$f":"G12+1","v":11},12,13,14,15,16,17,null,{"$f":"O12+1","v":15},{"$f":"IF(I13<>10,I13+1,IF($Y$3<2016,\" \"&I13+1,I13+1))","v":16},{"$f":"IF(J13<>10,J13+1,IF($Y$3<2016,\" \"&J13+1,J13+1))","v":17},{"$f":"K13+1","v":18},19,20,21,null,12,13,14,15,16,17,18,null,"7月",4,null,null,{"$f":"Y3+ROUNDDOWN((Y3/4),0)-ROUNDDOWN((Y3/100),0)+ROUNDDOWN((Y3/400),0)+ROUNDDOWN((2.6*(7)+1.6),0)+1","v":2531},null,{"$f":"AK12+1","v":12},13,14,15,16,17,18,null,"11月","3日・23日"]
[{"$f":"G13+1","v":18},19,20,21,22,23,24,null,{"$f":"O13+1","v":22},{"$f":"I14+1","v":23},{"$f":"J14+1","v":24},25,26,27,28,null,{"$f":"IF(ISBLANK(AE14),\"\",AE14)","v":19},{"$f":"IF(ISBLANK(AF14),\"\",AF14)","v":20},{"$f":"IF(ISBLANK(AG14),\"\",IF(AG14=$AA$25,\" \"&AG14,IF(AH14=$AA$25,\" \"&AG14,AG14)))","v":21},{"$f":"IF(ISBLANK(AH14),\"\",IF(AH14=$AA$25,\" \"&AH14,AH14))","v":22},{"$f":"IF(ISBLANK(AI14),\"\",IF(AI14=$AA$25,\" \"&AI14,AI14))","v":" 23"},{"$f":"IF(ISBLANK(AJ14),\"\",IF(AJ14=$AA$25,\" \"&AJ14,AJ14))","v":24},{"$f":"IF(ISBLANK(AK14),\"\",IF(AK14=$AA$25,\" \"&AK14,AK14))","v":25},null,"8月",0,null,null,{"$f":"Y3+ROUNDDOWN((Y3/4),0)-ROUNDDOWN((Y3/100),0)+ROUNDDOWN((Y3/400),0)+ROUNDDOWN((2.6*(8)+1.6),0)+1","v":2534},null,{"$f":"AK13+1","v":19},20,21,22,23,24,25,null,"12月","23日"]
[{"$f":"G14+1","v":25},{"$f":"A15+1","v":26},{"$f":"IF(B15=31,\"\",IF(B15=\"\",\"\",B15+1))","v":27},28,29,30,31,null,{"$f":"O14+1","v":29},{"$f":"I15+1","v":30},{"$f":"IF(J15=31,\"\",IF(J15=\"\",\"\",J15+1))","v":31},"","","","",null,{"$f":"IF(ISBLANK(AE15),\"\",AE15)","v":26},{"$f":"IF(ISBLANK(AF15),\"\",IF(AF15=$AA$25,\" \"&AF15,AF15))","v":27},{"$f":"IF(ISBLANK(AG15),\"\",AG15)","v":28},29,30,"","",null,"9月",3,null,null,{"$f":"Y3+ROUNDDOWN((Y3/4),0)-ROUNDDOWN((Y3/100),0)+ROUNDDOWN((Y3/400),0)+ROUNDDOWN((2.6*(9)+1.6),0)+1","v":2537},null,{"$f":"AK14+1","v":26},{"$f":"AE15+1","v":27},{"$f":"IF(AF15=30,\"\",IF(AF15=\"\",\"\",AF15+1))","v":28},29,30,"","",null,"（＊）春分日・秋分日は年ごとに変化"]
[{"$f":"IF(G15=31,\"\",IF(G15=\"\",\"\",G15+1))","v":""},{"$f":"IF(A16=31,\"\",IF(A16=\"\",\"\",A16+1))","v":""},"","","","","",null,{"$f":"IF(O15=31,\"\",IF(O15=\"\",\"\",O15+1))","v":""},{"$f":"IF(I16=31,\"\",IF(I16=\"\",\"\",I16+1))","v":""},"","","","","",null,{"$f":"IF(ISBLANK(AE16),\"\",AE16)","v":""},{"$f":"IF(ISBLANK(AF16),\"\",AF16)","v":""},"","","","","",null,"10月",5,null,null,{"$f":"Y3+ROUNDDOWN((Y3/4),0)-ROUNDDOWN((Y3/100),0)+ROUNDDOWN((Y3/400),0)+ROUNDDOWN((2.6*(10)+1.6),0)+1","v":2539},null,{"$f":"IF(AK15=30,\"\",IF(AK15=\"\",\"\",AK15+1))","v":""},{"$f":"IF(AE16=30,\"\",IF(AE16=\"\",\"\",AE16+1))","v":""},"","","","","",null,"　　　前年2月ごろに発表"]
[null,null,null,null,null,null,null,null,null,null,null,null,null,null,null,null,null,null,null,null,null,null,null,null,"11月",1,null,null,{"$f":"Y3+ROUNDDOWN((Y3/4),0)-ROUNDDOWN((Y3/100),0)+ROUNDDOWN((Y3/400),0)+ROUNDDOWN((2.6*(11)+1.6),0)+1","v":2542}]
["10月",null,null,null,null,null,null,null,"11月",null,null,null,null,null,null,null,"12月",null,null,null,null,null,null,null,"12月",3,null,null,{"$f":"Y3+ROUNDDOWN((Y3/4),0)-ROUNDDOWN((Y3/100),0)+ROUNDDOWN((Y3/400),0)+ROUNDDOWN((2.6*(12)+1.6),0)+1","v":2544}]
[{"$f":"IF(Z16=0,1,\"\")","v":""},{"$f":"IF(Z16=1,1,IF(A19=\"\",\"\",A19+1))","v":""},{"$f":"IF(Z16=2,1,IF(B19=\"\",\"\",B19+1))","v":""},{"$f":"IF(Z16=3,1,IF(C19=\"\",\"\",C19+1))","v":""},{"$f":"IF(Z16=4,1,IF(D19=\"\",\"\",D19+1))","v":""},{"$f":"IF(Z16=5,1,IF(E19=\"\",\"\",E19+1))","v":1},{"$f":"IF(Z16=6,1,IF(F19=\"\",\"\",F19+1))","v":2},null,{"$f":"IF(Z17=0,1,\"\")","v":""},{"$f":"IF(Z17=1,1,IF(I19=\"\",\"\",I19+1))","v":1},{"$f":"IF(Z17=2,1,IF(J19=\"\",\"\",J19+1))","v":2},{"$f":"IF(Z17=3,1,IF(K19=\"\",\"\",K19+1))","v":3},{"$f":"IF(Z17=4,1,IF(L19=\"\",\"\",L19+1))","v":4},{"$f":"IF(Z17=5,1,IF(M19=\"\",\"\",M19+1))","v":5},{"$f":"IF(Z17=6,1,IF(N19=\"\",\"\",N19+1))","v":6},null,{"$f":"IF(Z18=0,1,\"\")","v":""},{"$f":"IF(Z18=1,1,IF(Q19=\"\",\"\",Q19+1))","v":""},{"$f":"IF(Z18=2,1,IF(R19=\"\",\"\",R19+1))","v":""},{"$f":"IF(Z18=3,1,IF(S19=\"\",\"\",S19+1))","v":1},{"$f":"IF(Z18=4,1,IF(T19=\"\",\"\",T19+1))","v":2},{"$f":"IF(Z18=5,1,IF(U19=\"\",\"\",U19+1))","v":3},{"$f":"IF(Z18=6,1,IF(V19=\"\",\"\",V19+1))","v":4},null,"1月",6,null,null,{"$f":"Y3+ROUNDDOWN((Y3/4),0)-ROUNDDOWN((Y3/100),0)+ROUNDDOWN((Y3/400),0)+ROUNDDOWN((2.6*(1+12)+1.6),0)+1","v":2547}]
[{"$f":"G19+1","v":3},{"$f":"A20+1","v":4},5,6,7,8,9,null,{"$f":"O19+1","v":7},{"$f":"I20+1","v":8},9,10,11,12,13,null,{"$f":"W19+1","v":5},{"$f":"Q20+1","v":6},7,8,9,10,11,null,"2月",2,null,null,{"$f":"Y3+ROUNDDOWN((Y3/4),0)-ROUNDDOWN((Y3/100),0)+ROUNDDOWN((Y3/400),0)+ROUNDDOWN((2.6*(2+12)+1.6),0)+1","v":2550}]
[{"$f":"G20+1","v":10},11,12,13,14,15,16,null,{"$f":"O20+1","v":14},15,16,17,18,19,20,null,{"$f":"W20+1","v":12},13,14,15,16,17,18,null,"3月",2,null,null,{"$f":"(Y3+1)+ROUNDDOWN(((Y3+1)/4),0)-ROUNDDOWN(((Y3+1)/100),0)+ROUNDDOWN(((Y3+1)/400),0)+ROUNDDOWN((2.6*(3)+1.6),0)+1","v":2522}]
[{"$f":"G21+1","v":17},18,19,20,21,22,23,null,{"$f":"O21+1","v":21},22,23,24,25,26,27,null,{"$f":"W21+1","v":19},20,21,22,23,24,25]
[{"$f":"G22+1","v":24},{"$f":"A23+1","v":25},{"$f":"IF(B23=31,\"\",IF(B23=\"\",\"\",B23+1))","v":26},27,28,29,30,null,{"$f":"O22+1","v":28},{"$f":"I23+1","v":29},{"$f":"IF(J23=30,\"\",IF(J23=\"\",\"\",J23+1))","v":30},"","","","",null,{"$f":"W22+1","v":26},{"$f":"Q23+1","v":27},{"$f":"IF(R23=31,\"\",IF(R23=\"\",\"\",R23+1))","v":28},29,30,31,"",null,"春分・秋分日"]
[{"$f":"IF(G23=31,\"\",IF(G23=\"\",\"\",G23+1))","v":31},{"$f":"IF(A24=31,\"\",IF(A24=\"\",\"\",A24+1))","v":""},"","","","","",null,{"$f":"IF(O23=30,\"\",IF(O23=\"\",\"\",O23+1))","v":""},{"$f":"IF(I24=30,\"\",IF(I24=\"\",\"\",I24+1))","v":""},"","","","","",null,{"$f":"IF(W23=31,\"\",IF(W23=\"\",\"\",W23+1))","v":""},{"$f":"IF(Q24=31,\"\",IF(Q24=\"\",\"\",Q24+1))","v":""},"","","","","",null,"春分日",null,{"$f":"入力部!N17","v":21}]
[null,null,null,null,null,null,null,null,null,null,null,null,null,null,null,null,null,null,null,null,null,null,null,null,"秋分日",null,{"$f":"入力部!L18","v":23}]
["1月",null,null,null,null,null,null,null,"2月",null,null,null,null,null,null,null,"3月",null,null,null,null,null,null,null,null,null,null,null,null,null,"3月"]
[{"$f":"IF(Z19=0,1,\"\")","v":""},{"$f":"IF(Z19=1,1,IF(A27=\"\",\"\",A27+1))","v":""},{"$f":"IF(Z19=2,1,IF(B27=\"\",\"\",B27+1))","v":""},{"$f":"IF(Z19=3,1,IF(C27=\"\",\"\",C27+1))","v":""},{"$f":"IF(Z19=4,1,IF(D27=\"\",\"\",D27+1))","v":""},{"$f":"IF(Z19=5,1,IF(E27=\"\",\"\",E27+1))","v":""},{"$f":"IF(Z19=6,1,IF(F27=\"\",\"\",F27+1))","v":1},null,{"$f":"IF(Z20=0,1,\"\")","v":""},{"$f":"IF(Z20=1,1,IF(I27=\"\",\"\",I27+1))","v":""},{"$f":"IF(Z20=2,1,IF(J27=\"\",\"\",J27+1))","v":1},{"$f":"IF(Z20=3,1,IF(K27=\"\",\"\",K27+1))","v":2},{"$f":"IF(Z20=4,1,IF(L27=\"\",\"\",L27+1))","v":3},{"$f":"IF(Z20=5,1,IF(M27=\"\",\"\",M27+1))","v":4},{"$f":"IF(Z20=6,1,IF(N27=\"\",\"\",N27+1))","v":5},null,{"$f":"IF(ISBLANK(AE27),\"\",AE27)","v":""},"",1,2,3,4,5,null,"セル幅・高さ設定",null,null,null,null,null,{"$f":"IF(Z21=0,1,\"\")","v":""},{"$f":"IF(Z21=1,1,IF(AE27=\"\",\"\",AE27+1))","v":""},{"$f":"IF(Z21=2,1,IF(AF27=\"\",\"\",AF27+1))","v":1},{"$f":"IF(Z21=3,1,IF(AG27=\"\",\"\",AG27+1))","v":2},{"$f":"IF(Z21=4,1,IF(AH27=\"\",\"\",AH27+1))","v":3},{"$f":"IF(Z21=5,1,IF(AI27=\"\",\"\",AI27+1))","v":4},{"$f":"IF(Z21=6,1,IF(AJ27=\"\",\"\",AJ27+1))","v":5}]
[{"$f":"G27+1","v":2},{"$f":"A28+1","v":3},4,5,6,7,8,null,{"$f":"O27+1","v":6},{"$f":"I28+1","v":7},8,9,10,11,12,null,6,7,8,9,10,11,12,null,"(幅)","列H、列Pを除く列A〜W：0.81cm",null,null,null,null,{"$f":"AK27+1","v":6},{"$f":"AE28+1","v":7},8,9,10,11,12]
[{"$f":"G28+1","v":9},10,11,12,13,14,15,null,{"$f":"O28+1","v":13},14,15,16,17,18,19,null,{"$f":"IF(ISBLANK(AE29),\"\",AE29)","v":13},{"$f":"IF(ISBLANK(AF29),\"\",AF29)","v":14},{"$f":"IF(ISBLANK(AG29),\"\",AG29)","v":15},{"$f":"IF(ISBLANK(AH29),\"\",AH29)","v":16},{"$f":"IF(ISBLANK(AI29),\"\",AI29)","v":17},{"$f":"IF(ISBLANK(AJ29),\"\",IF(AJ29=$AA$24,\" \"&AJ29,AJ29))","v":18},{"$f":"IF(ISBLANK(AK29),\"\",IF(AK29=$AA$24,\" \"&AK29,AK29))","v":19},null,null,"列H&列P：1.41cm",null,null,null,null,{"$f":"AK28+1","v":13},14,15,16,17,18,19]
[{"$f":"G29+1","v":16},17,18,19,20,21,22,null,{"$f":"O29+1","v":20},21,22,23,24,25,26,null,{"$f":"IF(ISBLANK(AE30),\"\",AE30)","v":20},{"$f":"IF(ISBLANK(AF30),\"\",IF(AF30=$AA$24,\" \"&AF30,IF(AE30=$AA$24,\" \"&AF30,AF30)))","v":" 21"},{"$f":"IF(ISBLANK(AG30),\"\",IF(AG30=$AA$24,\" \"&AG30,AG30))","v":22},{"$f":"IF(ISBLANK(AH30),\"\",IF(AH30=$AA$24,\" \"&AH30,AH30))","v":23},{"$f":"IF(ISBLANK(AI30),\"\",IF(AI30=$AA$24,\" \"&AI30,AI30))","v":24},{"$f":"IF(ISBLANK(AJ30),\"\",AJ30)","v":25},{"$f":"IF(ISBLANK(AK30),\"\",AK30)","v":26},null,"(高さ)",null,null,null,null,null,{"$f":"AK29+1","v":20},21,22,23,24,25,26]
[{"$f":"G30+1","v":23},{"$f":"A31+1","v":24},{"$f":"IF(B31=31,\"\",IF(B31=\"\",\"\",B31+1))","v":25},26,27,28,29,null,{"$f":"IF(O30=AC4,\"\",IF(O30=\"\",\"\",O30+1))","v":27},{"$f":"IF(I31=AC4,\"\",IF(I31=\"\",\"\",I31+1))","v":28},{"$f":"IF(J31=AC4,\"\",IF(J31=\"\",\"\",J31+1))","v":""},{"$f":"IF(K31=AC4,\"\",IF(K31=\"\",\"\",K31+1))","v":""},{"$f":"IF(L31=AC4,\"\",IF(L31=\"\",\"\",L31+1))","v":""},{"$f":"IF(M31=AC4,\"\",IF(M31=\"\",\"\",M31+1))","v":""},{"$f":"IF(N31=AC4,\"\",IF(N31=\"\",\"\",N31+1))","v":""},null,{"$f":"IF(ISBLANK(AE31),\"\",AE31)","v":27},{"$f":"IF(ISBLANK(AF31),\"\",AF31)","v":28},{"$f":"IF(ISBLANK(AG31),\"\",AG31)","v":29},{"$f":"IF(ISBLANK(AH31),\"\",AH31)","v":30},{"$f":"IF(ISBLANK(AI31),\"\",AI31)","v":31},{"$f":"IF(ISBLANK(AJ31),\"\",AJ31)","v":""},{"$f":"IF(ISBLANK(AK31),\"\",AK31)","v":""},null,null,"行1&行33：1.31cm",null,null,null,null,{"$f":"AK30+1","v":27},{"$f":"AE31+1","v":28},{"$f":"IF(AF31=31,\"\",IF(AF31=\"\",\"\",AF31+1))","v":29},30,31,"",""]
[{"$f":"IF(G31=31,\"\",IF(G31=\"\",\"\",G31+1))","v":30},{"$f":"IF(A32=31,\"\",IF(A32=\"\",\"\",A32+1))","v":31},"","","","","",null,{"$f":"IF(O31=AC4,\"\",IF(O31=\"\",\"\",O31+1))","v":""},{"$f":"IF(I32=AC4,\"\",IF(I32=\"\",\"\",I32+1))","v":""},{"$f":"IF(J32=AC4,\"\",IF(J32=\"\",\"\",J32+1))","v":""},{"$f":"IF(K32=AC4,\"\",IF(K32=\"\",\"\",K32+1))","v":""},{"$f":"IF(L32=AC4,\"\",IF(L32=\"\",\"\",L32+1))","v":""},{"$f":"IF(M32=AC4,\"\",IF(M32=\"\",\"\",M32+1))","v":""},{"$f":"IF(N32=AC4,\"\",IF(N32=\"\",\"\",N32+1))","v":""},null,{"$f":"IF(W31=31,\"\",IF(W31=\"\",\"\",W31+1))","v":""},{"$f":"IF(Q32=31,\"\",IF(Q32=\"\",\"\",Q32+1))","v":""},"","","","","",null,null,"行2〜行32：0.81cm",null,null,null,null,{"$f":"IF(AK31=31,\"\",IF(AK31=\"\",\"\",AK31+1))","v":""},{"$f":"IF(AE32=31,\"\",IF(AE32=\"\",\"\",AE32+1))","v":""},"","","","",""]
[null,null,null,null,null,null,null,null,null,null,null,null,null,null,null,null,null,null,null,null,null,null,"[ Concept & Make out  by  AN2  --  Feb. 18th (SAT) 2011 ]"]

{"sheet":"1-6月","index":15,"n_rows":24,"n_cols":29,"rows_kept":24,"cut":false,"hidden":false,"merged":[]}
[{"$f":"入力部!J3&\"年\"","v":"2021年"},null,null,null,null,null,null,null,null,null,null,null,null,null,null,"計算部"]
["1月",null,null,null,null,null,null,null,"2月",null,null,null,null,null,null,"プリント年",null,null,"うるう年2月日数判定"]
[{"$f":"IF(Q7=0,1,\"\")","v":""},{"$f":"IF(Q7=1,1,IF(A3=\"\",\"\",A3+1))","v":""},{"$f":"IF(Q7=2,1,IF(B3=\"\",\"\",B3+1))","v":""},{"$f":"IF(Q7=3,1,IF(C3=\"\",\"\",C3+1))","v":""},{"$f":"IF(Q7=4,1,IF(D3=\"\",\"\",D3+1))","v":""},{"$f":"IF(Q7=5,1,IF(E3=\"\",\"\",E3+1))","v":1},{"$f":"IF(Q7=6,1,IF(F3=\"\",\"\",F3+1))","v":2},null,{"$f":"IF(Q8=0,1,\"\")","v":""},{"$f":"IF(Q8=1,1,IF(I3=\"\",\"\",I3+1))","v":1},{"$f":"IF(Q8=2,1,IF(J3=\"\",\"\",J3+1))","v":2},{"$f":"IF(Q8=3,1,IF(K3=\"\",\"\",K3+1))","v":3},{"$f":"IF(Q8=4,1,IF(L3=\"\",\"\",L3+1))","v":4},{"$f":"IF(Q8=5,1,IF(M3=\"\",\"\",M3+1))","v":5},{"$f":"IF(Q8=6,1,IF(N3=\"\",\"\",N3+1))","v":6},{"$f":"入力部!J3","v":2021},null,null,null,{"$f":"入力部!H17","v":28}]
[{"$f":"G3+1","v":3},{"$f":"A4+1","v":4},5,6,7,8,9,null,{"$f":"O3+1","v":7},{"$f":"I4+1","v":8},9,10,11,12,13,null,null,null,null,{"$f":"入力部!H18","v":28}]
[{"$f":"G4+1","v":10},11,12,13,14,15,16,null,{"$f":"O4+1","v":14},15,16,17,18,19,20,"曜日判定"]
[{"$f":"G5+1","v":17},18,19,20,21,22,23,null,{"$f":"O5+1","v":21},22,23,24,25,26,27]
[{"$f":"G6+1","v":24},{"$f":"A7+1","v":25},{"$f":"IF(B7=31,\"\",IF(B7=\"\",\"\",B7+1))","v":26},27,28,29,30,null,{"$f":"IF(O6=T3,\"\",IF(O6=\"\",\"\",O6+1))","v":28},{"$f":"IF(I7=T3,\"\",IF(I7=\"\",\"\",I7+1))","v":""},{"$f":"IF(J7=T3,\"\",IF(J7=\"\",\"\",J7+1))","v":""},{"$f":"IF(K7=T3,\"\",IF(K7=\"\",\"\",K7+1))","v":""},{"$f":"IF(L7=T3,\"\",IF(L7=\"\",\"\",L7+1))","v":""},{"$f":"IF(M7=T3,\"\",IF(M7=\"\",\"\",M7+1))","v":""},{"$f":"IF(N7=T3,\"\",IF(N7=\"\",\"\",N7+1))","v":""},"1月",{"$f":"ROUNDDOWN(MOD(T7,7),0)","v":5},null,null,{"$f":"(P3-1)+ROUNDDOWN(((P3-1)/4),0)-ROUNDDOWN(((P3-1)/100),0)+ROUNDDOWN(((P3-1)/400),0)+ROUNDDOWN((2.6*(1+12)+1.6),0)+1","v":2546}]
[{"$f":"IF(G7=31,\"\",IF(G7=\"\",\"\",G7+1))","v":31},{"$f":"IF(A8=31,\"\",IF(A8=\"\",\"\",A8+1))","v":""},"","","","","",null,{"$f":"IF(O7=T3,\"\",IF(O7=\"\",\"\",O7+1))","v":""},{"$f":"IF(I8=T3,\"\",IF(I8=\"\",\"\",I8+1))","v":""},{"$f":"IF(J8=T3,\"\",IF(J8=\"\",\"\",J8+1))","v":""},{"$f":"IF(K8=T3,\"\",IF(K8=\"\",\"\",K8+1))","v":""},{"$f":"IF(L8=T3,\"\",IF(L8=\"\",\"\",L8+1))","v":""},{"$f":"IF(M8=T3,\"\",IF(M8=\"\",\"\",M8+1))","v":""},{"$f":"IF(N8=T3,\"\",IF(N8=\"\",\"\",N8+1))","v":""},"2月",1,null,null,{"$f":"(P3-1)+ROUNDDOWN(((P3-1)/4),0)-ROUNDDOWN(((P3-1)/100),0)+ROUNDDOWN(((P3-1)/400),0)+ROUNDDOWN((2.6*(2+12)+1.6),0)+1","v":2549}]
[null,null,null,null,null,null,null,null,null,null,null,null,null,null,null,"3月",1,null,null,{"$f":"P3+ROUNDDOWN((P3/4),0)-ROUNDDOWN((P3/100),0)+ROUNDDOWN((P3/400),0)+ROUNDDOWN((2.6*(3)+1.6),0)+1","v":2521}]
["3月",null,null,null,null,null,null,null,"4月",null,null,null,null,null,null,"4月",4,null,null,{"$f":"P3+ROUNDDOWN((P3/4),0)-ROUNDDOWN((P3/100),0)+ROUNDDOWN((P3/400),0)+ROUNDDOWN((2.6*(4)+1.6),0)+1","v":2524},null,null,"3月"]
[{"$f":"IF(ISBLANK(W11),\"\",W11)","v":""},1,2,3,4,5,6,null,{"$f":"IF(Q10=0,1,\"\")","v":""},{"$f":"IF(Q10=1,1,IF(I11=\"\",\"\",I11+1))","v":""},{"$f":"IF(Q10=2,1,IF(J11=\"\",\"\",J11+1))","v":""},{"$f":"IF(Q10=3,1,IF(K11=\"\",\"\",K11+1))","v":""},{"$f":"IF(Q10=4,1,IF(L11=\"\",\"\",L11+1))","v":1},{"$f":"IF(Q10=5,1,IF(M11=\"\",\"\",M11+1))","v":2},{"$f":"IF(Q10=6,1,IF(N11=\"\",\"\",N11+1))","v":3},"5月",6,null,null,{"$f":"P3+ROUNDDOWN((P3/4),0)-ROUNDDOWN((P3/100),0)+ROUNDDOWN((P3/400),0)+ROUNDDOWN((2.6*(5)+1.6),0)+1","v":2526},null,null,{"$f":"IF(Q9=0,1,\"\")","v":""},{"$f":"IF(Q9=1,1,IF(W11=\"\",\"\",W11+1))","v":1},{"$f":"IF(Q9=2,1,IF(X11=\"\",\"\",X11+1))","v":2},{"$f":"IF(Q9=3,1,IF(Y11=\"\",\"\",Y11+1))","v":3},{"$f":"IF(Q9=4,1,IF(Z11=\"\",\"\",Z11+1))","v":4},{"$f":"IF(Q9=5,1,IF(AA11=\"\",\"\",AA11+1))","v":5},{"$f":"IF(Q9=6,1,IF(AB11=\"\",\"\",AB11+1))","v":6}]
[7,8,9,10,11,12,13,null,{"$f":"O11+1","v":4},{"$f":"I12+1","v":5},6,7,8,9,10,"6月",2,null,null,{"$f":"P3+ROUNDDOWN((P3/4),0)-ROUNDDOWN((P3/100),0)+ROUNDDOWN((P3/400),0)+ROUNDDOWN((2.6*(6)+1.6),0)+1","v":2529},null,null,{"$f":"AC11+1","v":7},{"$f":"W12+1","v":8},9,10,11,12,13]
[14,15,16,17,18,{"$f":"IF(ISBLANK(AB13),\"\",IF(AB13=$Q$14,\" \"&AB13,AB13))","v":19},{"$f":"IF(ISBLANK(AC13),\"\",IF(AC13=$Q$14,\" \"&AC13,AC13))","v":" 20"},null,{"$f":"O12+1","v":11},12,13,14,15,16,17,null,null,null,null,null,null,null,{"$f":"AC12+1","v":14},15,16,17,18,19,20]
[21,{"$f":"IF(ISBLANK(X14),\"\",IF(X14=$Q$14,\" \"&X14,IF(W14=$Q$14,\" \"&X14,X14)))","v":22},{"$f":"IF(ISBLANK(Y14),\"\",IF(Y14=$Q$14,\" \"&Y14,Y14))","v":23},{"$f":"IF(ISBLANK(Z14),\"\",IF(Z14=$Q$14,\" \"&Z14,Z14))","v":24},{"$f":"IF(ISBLANK(AA14),\"\",IF(AA14=$Q$14,\" \"&AA14,AA14))","v":25},26,27,null,{"$f":"O13+1","v":18},19,20,21,22,23,24,"春分日",{"$f":"入力部!L17","v":20},null,null,null,null,null,{"$f":"AC13+1","v":21},22,23,24,25,26,27]
[28,29,30,31,"","","",null,{"$f":"O14+1","v":25},{"$f":"I15+1","v":26},{"$f":"IF(J15=30,\"\",IF(J15=\"\",\"\",J15+1))","v":27},{"$f":"IF(K15=30,\"\",IF(K15=\"\",\"\",K15+1))","v":28},{"$f":"IF(L15=30,\"\",IF(L15=\"\",\"\",L15+1))","v":29},{"$f":"IF(M15=30,\"\",IF(M15=\"\",\"\",M15+1))","v":30},"",null,null,null,null,null,null,null,{"$f":"AC14+1","v":28},{"$f":"W15+1","v":29},{"$f":"IF(X15=31,\"\",IF(X15=\"\",\"\",X15+1))","v":30},31,"","",""]
["","","","","","","",null,{"$f":"IF(O15=30,\"\",IF(O15=\"\",\"\",O15+1))","v":""},{"$f":"IF(I16=30,\"\",IF(I16=\"\",\"\",I16+1))","v":""},{"$f":"IF(J16=30,\"\",IF(J16=\"\",\"\",J16+1))","v":""},{"$f":"IF(K16=30,\"\",IF(K16=\"\",\"\",K16+1))","v":""},"","","",null,null,null,null,null,null,null,{"$f":"IF(AC15=31,\"\",IF(AC15=\"\",\"\",AC15+1))","v":""},{"$f":"IF(W16=31,\"\",IF(W16=\"\",\"\",W16+1))","v":""},"","","","",""]
[null,null,null,null,null,null,null,null,null,null,null,null,null,null,null,"セル幅・高さ設定"]
["5月",null,null,null,null,null,null,null,"6月",null,null,null,null,null,null,"(幅)","列A〜O：0.56cm"]
[{"$f":"IF(Q11=0,1,\"\")","v":""},{"$f":"IF(Q11=1,1,IF(A19=\"\",\"\",A19+1))","v":""},{"$f":"IF(Q11=2,1,IF(B19=\"\",\"\",B19+1))","v":""},{"$f":"IF(Q11=3,1,IF(C19=\"\",\"\",C19+1))","v":""},{"$f":"IF(Q11=4,1,IF(D19=\"\",\"\",D19+1))","v":""},{"$f":"IF(Q11=5,1,IF(E19=\"\",\"\",E19+1))","v":""},{"$f":"IF(Q11=6,1,IF(F19=\"\",\"\",F19+1))","v":1},null,{"$f":"IF(Q12=0,1,\"\")","v":""},{"$f":"IF(Q12=1,1,IF(I19=\"\",\"\",I19+1))","v":""},{"$f":"IF(Q12=2,1,IF(J19=\"\",\"\",J19+1))","v":1},{"$f":"IF(Q12=3,1,IF(K19=\"\",\"\",K19+1))","v":2},{"$f":"IF(Q12=4,1,IF(L19=\"\",\"\",L19+1))","v":3},{"$f":"IF(Q12=5,1,IF(M19=\"\",\"\",M19+1))","v":4},{"$f":"IF(Q12=6,1,IF(N19=\"\",\"\",N19+1))","v":5}]
[{"$f":"G19+1","v":2},{"$f":"A20+1","v":3},4,5,6,7,8,null,{"$f":"O19+1","v":6},{"$f":"I20+1","v":7},8,9,10,11,12,"(高さ)","行1：0.64cm"]
[{"$f":"G20+1","v":9},10,11,12,13,14,15,null,{"$f":"O20+1","v":13},14,15,16,17,18,19,null,"行2〜行24：0.56cm"]
[{"$f":"G21+1","v":16},17,18,19,20,21,22,null,{"$f":"O21+1","v":20},21,22,23,24,25,26]
[{"$f":"G22+1","v":23},{"$f":"A23+1","v":24},{"$f":"IF(B23=31,\"\",IF(B23=\"\",\"\",B23+1))","v":25},26,27,28,29,null,{"$f":"O22+1","v":27},{"$f":"I23+1","v":28},{"$f":"IF(J23=30,\"\",IF(J23=\"\",\"\",J23+1))","v":29},30,"","",""]
[{"$f":"IF(G23=31,\"\",IF(G23=\"\",\"\",G23+1))","v":30},{"$f":"IF(A24=31,\"\",IF(A24=\"\",\"\",A24+1))","v":31},"","","","","",null,{"$f":"IF(O23=30,\"\",IF(O23=\"\",\"\",O23+1))","v":""},{"$f":"IF(I24=30,\"\",IF(I24=\"\",\"\",I24+1))","v":""},"","","","",""]

{"sheet":"7-12月","index":16,"n_rows":24,"n_cols":29,"rows_kept":24,"cut":false,"hidden":false,"merged":[]}
[{"$f":"入力部!J3&\"年\"","v":"2021年"},null,null,null,null,null,null,null,null,null,null,null,null,null,null,"計算部"]
["7月",null,null,null,null,null,null,null,"8月",null,null,null,null,null,null,"プリント年",null,null,"うるう年2月日数判定"]
[{"$f":"IF(Q7=0,1,\"\")","v":""},{"$f":"IF(Q7=1,1,IF(A3=\"\",\"\",A3+1))","v":""},{"$f":"IF(Q7=2,1,IF(B3=\"\",\"\",B3+1))","v":""},{"$f":"IF(Q7=3,1,IF(C3=\"\",\"\",C3+1))","v":""},{"$f":"IF(Q7=4,1,IF(D3=\"\",\"\",D3+1))","v":1},{"$f":"IF(Q7=5,1,IF(E3=\"\",\"\",E3+1))","v":2},{"$f":"IF(Q7=6,1,IF(F3=\"\",\"\",F3+1))","v":3},null,{"$f":"IF(Q8=0,1,\"\")","v":1},{"$f":"IF(Q8=1,1,IF(I3=\"\",\"\",I3+1))","v":2},{"$f":"IF(Q8=2,1,IF(J3=\"\",\"\",J3+1))","v":3},{"$f":"IF(Q8=3,1,IF(K3=\"\",\"\",K3+1))","v":4},{"$f":"IF(Q8=4,1,IF(L3=\"\",\"\",L3+1))","v":5},{"$f":"IF(Q8=5,1,IF(M3=\"\",\"\",M3+1))","v":6},{"$f":"IF(Q8=6,1,IF(N3=\"\",\"\",N3+1))","v":7},{"$f":"入力部!J3","v":2021},null,null,null,{"$f":"入力部!H17","v":28}]
[{"$f":"G3+1","v":4},{"$f":"A4+1","v":5},6,7,8,9,10,null,{"$f":"O3+1","v":8},{"$f":"I4+1","v":9},{"$f":"J4+1","v":10},{"$f":"IF(K4<>10,K4+1,IF($P$3<2016,\" \"&K4+1,K4+1))","v":11},{"$f":"IF(L4<>10,L4+1,IF($P$3<2016,\" \"&L4+1,L4+1))","v":12},{"$f":"IF(M4<>10,M4+1,IF($P$3<2016,\" \"&M4+1,M4+1))","v":13},{"$f":"IF(N4<>10,N4+1,IF($P$3<2016,\" \"&N4+1,N4+1))","v":14},null,null,null,null,{"$f":"入力部!H18","v":28}]
[{"$f":"G4+1","v":11},12,13,14,15,16,17,null,{"$f":"O4+1","v":15},{"$f":"IF(I5<>10,I5+1,IF($P$3<2016,\" \"&I5+1,I5+1))","v":16},{"$f":"IF(J5<>10,J5+1,IF($P$3<2016,\" \"&J5+1,J5+1))","v":17},{"$f":"K5+1","v":18},19,20,21,"曜日判定"]
[{"$f":"G5+1","v":18},19,20,21,22,23,24,null,{"$f":"O5+1","v":22},{"$f":"I6+1","v":23},{"$f":"J6+1","v":24},25,26,27,28]
[{"$f":"G6+1","v":25},{"$f":"A7+1","v":26},{"$f":"IF(B7=31,\"\",IF(B7=\"\",\"\",B7+1))","v":27},28,29,30,31,null,{"$f":"O6+1","v":29},{"$f":"I7+1","v":30},{"$f":"J7+1","v":31},{"$f":"IF(K7=31,\"\",IF(K7=\"\",\"\",K7+1))","v":""},"","","","7月",{"$f":"ROUNDDOWN(MOD(T7,7),0)","v":4},null,null,{"$f":"(P3)+ROUNDDOWN(((P3)/4),0)-ROUNDDOWN(((P3)/100),0)+ROUNDDOWN(((P3)/400),0)+ROUNDDOWN((2.6*(7)+1.6),0)+1","v":2531}]
[{"$f":"IF(G7=31,\"\",IF(G7=\"\",\"\",G7+1))","v":""},{"$f":"IF(A8=31,\"\",IF(A8=\"\",\"\",A8+1))","v":""},"","","","","",null,{"$f":"IF(O7=31,\"\",IF(O7=\"\",\"\",O7+1))","v":""},{"$f":"IF(I8=31,\"\",IF(I8=\"\",\"\",I8+1))","v":""},{"$f":"IF(J8=31,\"\",IF(J8=\"\",\"\",J8+1))","v":""},"","","","","8月",0,null,null,{"$f":"(P3)+ROUNDDOWN(((P3)/4),0)-ROUNDDOWN(((P3)/100),0)+ROUNDDOWN(((P3)/400),0)+ROUNDDOWN((2.6*(8)+1.6),0)+1","v":2534}]
[null,null,null,null,null,null,null,null,null,null,null,null,null,null,null,"9月",3,null,null,{"$f":"(P3)+ROUNDDOWN(((P3)/4),0)-ROUNDDOWN(((P3)/100),0)+ROUNDDOWN(((P3)/400),0)+ROUNDDOWN((2.6*(9)+1.6),0)+1","v":2537}]
["9月",null,null,null,null,null,null,null,"10月",null,null,null,null,null,null,"10月",5,null,null,{"$f":"(P3)+ROUNDDOWN(((P3)/4),0)-ROUNDDOWN(((P3)/100),0)+ROUNDDOWN(((P3)/400),0)+ROUNDDOWN((2.6*(10)+1.6),0)+1","v":2539},null,null,"9月"]
[{"$f":"IF(ISBLANK(W11),\"\",W11)","v":""},{"$f":"IF(ISBLANK(X11),\"\",X11)","v":""},"",1,2,3,4,null,{"$f":"IF(Q10=0,1,\"\")","v":""},{"$f":"IF(Q10=1,1,IF(I11=\"\",\"\",I11+1))","v":""},{"$f":"IF(Q10=2,1,IF(J11=\"\",\"\",J11+1))","v":""},{"$f":"IF(Q10=3,1,IF(K11=\"\",\"\",K11+1))","v":""},{"$f":"IF(Q10=4,1,IF(L11=\"\",\"\",L11+1))","v":""},{"$f":"IF(Q10=5,1,IF(M11=\"\",\"\",M11+1))","v":1},{"$f":"IF(Q10=6,1,IF(N11=\"\",\"\",N11+1))","v":2},"11月",1,null,null,{"$f":"(P3)+ROUNDDOWN(((P3)/4),0)-ROUNDDOWN(((P3)/100),0)+ROUNDDOWN(((P3)/400),0)+ROUNDDOWN((2.6*(11)+1.6),0)+1","v":2542},null,null,{"$f":"IF(Q9=0,1,\"\")","v":""},{"$f":"IF(Q9=1,1,IF(W11=\"\",\"\",W11+1))","v":""},{"$f":"IF(Q9=2,1,IF(X11=\"\",\"\",X11+1))","v":""},{"$f":"IF(Q9=3,1,IF(Y11=\"\",\"\",Y11+1))","v":1},{"$f":"IF(Q9=4,1,IF(Z11=\"\",\"\",Z11+1))","v":2},{"$f":"IF(Q9=5,1,IF(AA11=\"\",\"\",AA11+1))","v":3},{"$f":"IF(Q9=6,1,IF(AB11=\"\",\"\",AB11+1))","v":4}]
[5,6,7,8,9,10,11,null,{"$f":"O11+1","v":3},{"$f":"I12+1","v":4},{"$f":"J12+1","v":5},{"$f":"K12+1","v":6},7,8,9,"12月",3,null,null,{"$f":"(P3)+ROUNDDOWN(((P3)/4),0)-ROUNDDOWN(((P3)/100),0)+ROUNDDOWN(((P3)/400),0)+ROUNDDOWN((2.6*(12)+1.6),0)+1","v":2544},null,null,{"$f":"AC11+1","v":5},{"$f":"W12+1","v":6},7,8,9,10,11]
[12,13,14,15,16,17,18,null,{"$f":"O12+1","v":10},{"$f":"I13+1","v":11},{"$f":"J13+1","v":12},13,14,15,16,null,null,null,null,null,null,null,{"$f":"AC12+1","v":12},13,14,15,16,17,18]
[19,20,{"$f":"IF(ISBLANK(Y14),\"\",IF(Y14=$Q$14,\" \"&Y14,IF(Z14=$Q$14,\" \"&Y14,Y14)))","v":21},{"$f":"IF(ISBLANK(Z14),\"\",IF(Z14=$Q$14,\" \"&Z14,Z14))","v":22},{"$f":"IF(ISBLANK(AA14),\"\",IF(AA14=$Q$14,\" \"&AA14,AA14))","v":" 23"},{"$f":"IF(ISBLANK(AB14),\"\",IF(AB14=$Q$14,\" \"&AB14,AB14))","v":24},{"$f":"IF(ISBLANK(AC14),\"\",IF(AC14=$Q$14,\" \"&AC14,AC14))","v":25},null,{"$f":"O13+1","v":17},{"$f":"I14+1","v":18},{"$f":"J14+1","v":19},20,21,22,23,"秋分日",{"$f":"入力部!L18","v":23},null,null,null,null,null,{"$f":"AC13+1","v":19},20,21,22,23,24,25]
[26,{"$f":"IF(ISBLANK(X15),\"\",IF(X15=$Q$14,\" \"&X15,X15))","v":27},{"$f":"IF(ISBLANK(Y15),\"\",Y15)","v":28},29,30,"","",null,{"$f":"O14+1","v":24},{"$f":"I15+1","v":25},{"$f":"IF(J15=31,\"\",IF(J15=\"\",\"\",J15+1))","v":26},{"$f":"IF(K15=31,\"\",IF(K15=\"\",\"\",K15+1))","v":27},28,29,30,null,null,null,null,null,null,null,{"$f":"AC14+1","v":26},{"$f":"W15+1","v":27},{"$f":"IF(X15=30,\"\",IF(X15=\"\",\"\",X15+1))","v":28},29,30,"",""]
["",{"$f":"IF(ISBLANK(X16),\"\",X16)","v":""},"","","","","",null,{"$f":"IF(O15=31,\"\",IF(O15=\"\",\"\",O15+1))","v":31},{"$f":"IF(I16=31,\"\",IF(I16=\"\",\"\",I16+1))","v":""},{"$f":"IF(J16=31,\"\",IF(J16=\"\",\"\",J16+1))","v":""},"","","","",null,null,null,null,null,null,null,{"$f":"IF(AC15=30,\"\",IF(AC15=\"\",\"\",AC15+1))","v":""},{"$f":"IF(W16=30,\"\",IF(W16=\"\",\"\",W16+1))","v":""},"","","","",""]
[null,null,null,null,null,null,null,null,null,null,null,null,null,null,null,"セル幅・高さ設定"]
["11月",null,null,null,null,null,null,null,"12月",null,null,null,null,null,null,"(幅)","列A〜O：0.56cm"]
[{"$f":"IF(Q11=0,1,\"\")","v":""},{"$f":"IF(Q11=1,1,IF(A19=\"\",\"\",A19+1))","v":1},{"$f":"IF(Q11=2,1,IF(B19=\"\",\"\",B19+1))","v":2},{"$f":"IF(Q11=3,1,IF(C19=\"\",\"\",C19+1))","v":3},{"$f":"IF(Q11=4,1,IF(D19=\"\",\"\",D19+1))","v":4},{"$f":"IF(Q11=5,1,IF(E19=\"\",\"\",E19+1))","v":5},{"$f":"IF(Q11=6,1,IF(F19=\"\",\"\",F19+1))","v":6},null,{"$f":"IF(Q12=0,1,\"\")","v":""},{"$f":"IF(Q12=1,1,IF(I19=\"\",\"\",I19+1))","v":""},{"$f":"IF(Q12=2,1,IF(J19=\"\",\"\",J19+1))","v":""},{"$f":"IF(Q12=3,1,IF(K19=\"\",\"\",K19+1))","v":1},{"$f":"IF(Q12=4,1,IF(L19=\"\",\"\",L19+1))","v":2},{"$f":"IF(Q12=5,1,IF(M19=\"\",\"\",M19+1))","v":3},{"$f":"IF(Q12=6,1,IF(N19=\"\",\"\",N19+1))","v":4}]
[{"$f":"G19+1","v":7},{"$f":"A20+1","v":8},9,10,11,12,13,null,{"$f":"O19+1","v":5},{"$f":"I20+1","v":6},{"$f":"J20+1","v":7},{"$f":"K20+1","v":8},9,10,11,"(高さ)","行1：0.64cm"]
[{"$f":"G20+1","v":14},15,16,17,18,19,20,null,{"$f":"O20+1","v":12},{"$f":"I21+1","v":13},{"$f":"J21+1","v":14},15,16,17,18,null,"行2〜行24：0.56cm"]
[{"$f":"G21+1","v":21},22,23,24,25,26,27,null,{"$f":"O21+1","v":19},{"$f":"I22+1","v":20},{"$f":"J22+1","v":21},22,23,24,25]
[{"$f":"G22+1","v":28},{"$f":"A23+1","v":29},{"$f":"IF(B23=30,\"\",IF(B23=\"\",\"\",B23+1))","v":30},"","","","",null,{"$f":"O22+1","v":26},{"$f":"I23+1","v":27},{"$f":"IF(J23=31,\"\",IF(J23=\"\",\"\",J23+1))","v":28},{"$f":"IF(K23=31,\"\",IF(K23=\"\",\"\",K23+1))","v":29},30,31,""]
[{"$f":"IF(G23=30,\"\",IF(G23=\"\",\"\",G23+1))","v":""},{"$f":"IF(A24=30,\"\",IF(A24=\"\",\"\",A24+1))","v":""},"","","","","",null,{"$f":"IF(O23=31,\"\",IF(O23=\"\",\"\",O23+1))","v":""},{"$f":"IF(I24=31,\"\",IF(I24=\"\",\"\",I24+1))","v":""},{"$f":"IF(J24=31,\"\",IF(J24=\"\",\"\",J24+1))","v":""},"","","",""]

{"sheet":"祝日資料","index":17,"n_rows":0,"n_cols":0,"rows_kept":0,"cut":false,"hidden":false,"merged":[]}